Workbook

Sheet Titulek

Sheet Po rocích
A1: VÝSLEDKY MR SENIOŘI 1999 - 2023 TŘÍDĚNÍ: ročník/disciplína/umístění | E1: jméno | F1: klub | G1: umístění | H1: ročník | I1: disciplina | J1: body
E2: Stojka Milan | F2: BC Balabuška Praha | G2: 1 | H2: 1999 | I2: 8 | J2: 16
E3: Korn Jiří | F3: Harlequ´in Praha | G3: 2 | H3: 1999 | I3: 8 | J3: 8
E4: Halamka Pavel | F4: BC Harlequin Praha | G4: 3 | H4: 1999 | I4: 8 | J4: 4
E5: Švaňa Milan | F5: Řipská Praha | G5: 4 | H5: 1999 | I5: 8 | J5: 4
E6: Kohut | G6: 5 | H6: 1999 | I6: 8 | J6: 2
E7: Kočí Ivan | F7: Harlequ´in Roudnice | G7: 6 | H7: 1999 | I7: 8 | J7: 2
E8: Balský Karel | F8: BC Litomyšl | G8: 7 | H8: 1999 | I8: 8 | J8: 2
E9: Hájek Vlastimil | F9: Bio Systém Plzeň | G9: 8 | H9: 1999 | I9: 8 | J9: 2
E10: Korn Jiří | F10: Harlequ´in Praha | G10: 1 | H10: 1999 | I10: 9 | J10: 16
E11: Bílek Rudolf | F11: SK Billard Centrum Praha | G11: 2 | H11: 1999 | I11: 9 | J11: 8
E12: Švaňa Milan | F12: Řipská Praha | G12: 3 | H12: 1999 | I12: 9 | J12: 4
E13: Stojka Milan | F13: BC Balabuška Praha | G13: 4 | H13: 1999 | I13: 9 | J13: 4
E14: Kočí Ivan | F14: Harlequ´in Roudnice | G14: 5 | H14: 1999 | I14: 9 | J14: 2
E15: Zelinka | G15: 6 | H15: 1999 | I15: 9 | J15: 2
E16: Halamka Pavel | F16: BC Harlequin Praha | G16: 7 | H16: 1999 | I16: 9 | J16: 2
E17: Hájek Vlastimil | F17: Bio Systém Plzeň | G17: 8 | H17: 1999 | I17: 9 | J17: 2
E18: Halamka Pavel | F18: BC Harlequin Praha | G18: 1 | H18: 1999 | I18: 14 | J18: 16
E19: Stojka Milan | F19: BC Balabuška Praha | G19: 2 | H19: 1999 | I19: 14 | J19: 8
E20: Kočí Ivan | F20: Harlequ´in Roudnice | G20: 3 | H20: 1999 | I20: 14 | J20: 4
E21: Walach Kristian | F21: Delta Billiard Brno | G21: 4 | H21: 1999 | I21: 14 | J21: 4
E22: Korn Jiří | F22: Harlequ´in Praha | G22: 5 | H22: 1999 | I22: 14 | J22: 2
E23: Klatovský Jiří | F23: BC Liberec | G23: 6 | H23: 1999 | I23: 14 | J23: 2
E24: Bauer Zdeněk | F24: BC Arizona Loděnice | G24: 7 | H24: 1999 | I24: 14 | J24: 2
E25: Švaňa Milan | F25: Řipská Praha | G25: 8 | H25: 1999 | I25: 14 | J25: 2
E26: Korn Jiří | F26: Harlequ´in Praha | G26: 1 | H26: 2000 | I26: 8 | J26: 16
E27: Kratochvíl Josef | F27: Kratochvíl Nelahozeves | G27: 2 | H27: 2000 | I27: 8 | J27: 8
... E31: Kočí Ivan | F31: Harlequ´in Roudnice | G31: 6 | H31: 2000 | I31: 8 | J31: 2
E32: Horálek | G32: 7 | H32: 2000 | I32: 8 | J32: 2
E33: Pavlas Josef | F33: Harlequ´in Roudnice | G33: 8 | H33: 2000 | I33: 8 | J33: 2
E34: Škrhák Vladimír | F34: Tágo Brno | G34: 9 | H34: 2000 | I34: 8 | J34: 1
E35: Švaňa Milan | F35: Řipská Praha | G35: 10 | H35: 2000 | I35: 8 | J35: 1
E36: Bauer Zdeněk | F36: BC Arizona Loděnice | G36: 11 | H36: 2000 | I36: 8 | J36: 1
E37: Mlynařík J. | F37: BC Oplot | G37: 12 | H37: 2000 | I37: 8 | J37: 1
E38: Severa Martin | F38: Harlequin Praha | G38: 13 | H38: 2000 | I38: 8 | J38: 1
E39: Balský Karel | F39: BC Litomyšl | G39: 14 | H39: 2000 | I39: 8 | J39: 1
E40: Kohut | G40: 15 | H40: 2000 | I40: 8 | J40: 1
E41: Hájek Vlastimil | F41: Bio Systém Plzeň | G41: 16 | H41: 2000 | I41: 8 | J41: 1
E42: Škrhák Vladimír | F42: Tágo Brno | G42: 1 | H42: 2000 | I42: 9 | J42: 16
E43: Korn Jiří | F43: Harlequ´in Praha | G43: 2 | H43: 2000 | I43: 9 | J43: 8
...

Sheet Po disciplinách
A1: VÝSLEDKY MR SENIOŘI 1999 - 2023 TŘÍDĚNÍ: disciplína/ročník/umístění | E1: jméno | F1: klub | G1: umístění | H1: ročník | I1: disciplina | J1: body
E2: Stojka Milan | F2: BC Balabuška Praha | G2: 1 | H2: 1999 | I2: 8 | J2: 16
E3: Korn Jiří | F3: Harlequ´in Praha | G3: 2 | H3: 1999 | I3: 8 | J3: 8
E4: Halamka Pavel | F4: BC Harlequin Praha | G4: 3 | H4: 1999 | I4: 8 | J4: 4
E5: Švaňa Milan | F5: Řipská Praha | G5: 4 | H5: 1999 | I5: 8 | J5: 4
E6: Kohut | G6: 5 | H6: 1999 | I6: 8 | J6: 2
E7: Kočí Ivan | F7: Harlequ´in Roudnice | G7: 6 | H7: 1999 | I7: 8 | J7: 2
E8: Balský Karel | F8: BC Litomyšl | G8: 7 | H8: 1999 | I8: 8 | J8: 2
E9: Hájek Vlastimil | F9: Bio Systém Plzeň | G9: 8 | H9: 1999 | I9: 8 | J9: 2
E10: Korn Jiří | F10: Harlequ´in Praha | G10: 1 | H10: 2000 | I10: 8 | J10: 16
E11: Kratochvíl Josef | F11: Kratochvíl Nelahozeves | G11: 2 | H11: 2000 | I11: 8 | J11: 8
E12: Halamka Pavel | F12: BC Harlequin Praha | G12: 3 | H12: 2000 | I12: 8 | J12: 4
E13: Bílek Rudolf | F13: SK Billard Centrum Praha | G13: 4 | H13: 2000 | I13: 8 | J13: 4
E14: Stojka Milan | F14: BC Balabuška Praha | G14: 5 | H14: 2000 | I14: 8 | J14: 2
E15: Kočí Ivan | F15: Harlequ´in Roudnice | G15: 6 | H15: 2000 | I15: 8 | J15: 2
E16: Horálek | G16: 7 | H16: 2000 | I16: 8 | J16: 2
E17: Pavlas Josef | F17: Harlequ´in Roudnice | G17: 8 | H17: 2000 | I17: 8 | J17: 2
E18: Škrhák Vladimír | F18: Tágo Brno | G18: 9 | H18: 2000 | I18: 8 | J18: 1
E19: Švaňa Milan | F19: Řipská Praha | G19: 10 | H19: 2000 | I19: 8 | J19: 1
E20: Bauer Zdeněk | F20: BC Arizona Loděnice | G20: 11 | H20: 2000 | I20: 8 | J20: 1
E21: Mlynařík J. | F21: BC Oplot | G21: 12 | H21: 2000 | I21: 8 | J21: 1
E22: Severa Martin | F22: Harlequin Praha | G22: 13 | H22: 2000 | I22: 8 | J22: 1
E23: Balský Karel | F23: BC Litomyšl | G23: 14 | H23: 2000 | I23: 8 | J23: 1
E24: Kohut | G24: 15 | H24: 2000 | I24: 8 | J24: 1
E25: Hájek Vlastimil | F25: Bio Systém Plzeň | G25: 16 | H25: 2000 | I25: 8 | J25: 1
E26: Halamka Pavel | F26: BC Harlequin Praha | G26: 1 | H26: 2001 | I26: 8 | J26: 16
E27: Bílek Rudolf | F27: SK Billard Centrum Praha | G27: 2 | H27: 2001 | I27: 8 | J27: 8
E28: Korn Jiří | F28: Harlequ´in Praha | G28: 3 | H28: 2001 | I28: 8 | J28: 4
E29: Škrhák Vladimír | F29: Tágo Brno | G29: 4 | H29: 2001 | I29: 8 | J29: 4
E30: Kratochvíl Josef | F30: Kratochvíl Nelahozeves | G30: 5 | H30: 2001 | I30: 8 | J30: 2
E31: Stojka Milan | F31: BC Balabuška Praha | G31: 6 | H31: 2001 | I31: 8 | J31: 2
E32: Kočí Ivan | F32: Harlequ´in Roudnice | G32: 7 | H32: 2001 | I32: 8 | J32: 2
E33: Klatovský Jiří | F33: BC Liberec | G33: 8 | H33: 2001 | I33: 8 | J33: 2
E34: Gratz Lumír | F34: Řipská Praha | G34: 9 | H34: 2001 | I34: 8 | J34: 1
E35: Balský Karel | F35: BC Litomyšl | G35: 10 | H35: 2001 | I35: 8 | J35: 1
E36: Horálek | G36: 11 | H36: 2001 | I36: 8 | J36: 1
E37: Kohut | G37: 12 | H37: 2001 | I37: 8 | J37: 1
E38: Bauer Zdeněk | F38: BC Arizona Loděnice | G38: 13 | H38: 2001 | I38: 8 | J38: 1
E39: Pavlas Josef | F39: Harlequ´in Roudnice | G39: 14 | H39: 2001 | I39: 8 | J39: 1
E40: Kormendy S. | F40: Harlequ´in Roudnice | G40: 15 | H40: 2001 | I40: 8 | J40: 1
...

Sheet Po hráčích
A1: VÝSLEDKY MR SENIOŘI 1999 - 2023 TŘÍDĚNÍ: jméno/ročník/disciplína | E1: jméno | F1: klub | G1: umístění | H1: ročník | I1: disciplina | J1: body | M1: BODOVÝ ZISK Jmémo | N1: Počet turnajů | O1: 8-ball | P1: 9-ball | Q1: 10-ball | R1: 14.1 | S1: Celkem | T1: *1* | U1: *2* | V1: *3*4* | W1: *5-8* | X1: * 9 +* | Z1: BODOVACÍ TABULKA místo body
E2: Aust Jiří | F2: Renda Roudnice n/L. | G2: 2 | H2: 2013 | I2: 8 | J2: 8 | L2: 1 | M2: Halamka Pavel | N2: 84 | O2: 147 | P2: 92 | Q2: 35 | R2: 218 | S2: 492 | T2: 256 | U2: 120 | V2: 60 | W2: 36 | X2: 20 | Z2: 1 | AA2: 16
E3: Aust Jiří | F3: Renda Roudnice n/L. | G3: 3 | H3: 2013 | I3: 9 | J3: 4 | L3: 2 | M3: Marič Márijo | N3: 41 | O3: 60 | P3: 70 | Q3: 34 | R3: 78 | S3: 242 | T3: 96 | U3: 80 | V3: 44 | W3: 16 | X3: 6 | Z3: 2 | AA3: 8
E4: Aust Jiří | F4: Renda Roudnice n/L. | G4: 2 | H4: 2013 | I4: 10 | J4: 8 | L4: 3 | M4: Janata Jan | N4: 19 | O4: 65 | P4: 41 | Q4: 58 | R4: 28 | S4: 192 | T4: 160 | U4: 16 | V4: 8 | W4: 6 | X4: 2 | Z4: 3 - 4 | AA4: 4
E5: Aust Jiří | F5: Renda Roudnice n/L. | G5: 2 | H5: 2013 | I5: 14 | J5: 8 | L5: 4 | M5: Dorobant Slavomír | N5: 20 | O5: 42 | P5: 12 | Q5: 30 | R5: 104 | S5: 188 | T5: 144 | U5: 16 | V5: 20 | W5: 8 | X5: 0 | Z5: 5 - 8 | AA5: 2
E6: Aust Jiří | F6: Renda Roudnice n/L. | G6: 4 | H6: 2014 | I6: 9 | J6: 4 | L6: 5 | M6: Zeman Oto | N6: 45 | O6: 36 | P6: 70 | Q6: 25 | R6: 51 | S6: 182 | T6: 80 | U6: 24 | V6: 36 | W6: 28 | X6: 14 | Z6: 9 + | AA6: 1
E7: Aust Jiří | F7: Renda Roudnice n/L. | G7: 4 | H7: 2014 | I7: 10 | J7: 4 | L7: 6 | M7: Kokoška Petr | N7: 18 | O7: 56 | P7: 54 | Q7: 18 | R7: 20 | S7: 148 | T7: 112 | U7: 16 | V7: 8 | W7: 10 | X7: 2
E8: Aust Jiří | F8: Renda Roudnice n/L. | G8: 6 | H8: 2014 | I8: 14 | J8: 2 | L8: 7 | M8: Stojka Milan | N8: 32 | O8: 34 | P8: 55 | R8: 54 | S8: 143 | T8: 48 | U8: 40 | V8: 28 | W8: 20 | X8: 7
E9: Babka Standa | F9: Bouchalka Klatovy | G9: 26 | H9: 2006 | I9: 8 | J9: 1 | L9: 8 | M9: Kavan Petr | N9: 27 | O9: 30 | P9: 42 | Q9: 27 | R9: 37 | S9: 136 | T9: 48 | U9: 32 | V9: 40 | W9: 12 | X9: 4
E10: Babka Standa | F10: Bouchalka Klatovy | G10: 17 | H10: 2006 | I10: 9 | J10: 1 | L10: 9 | M10: Vladyka Robin | N10: 46 | O10: 20 | P10: 42 | Q10: 50 | R10: 22 | S10: 134 | T10: 32 | U10: 24 | V10: 32 | W10: 26 | X10: 20
E11: Babka Standa | F11: Bouchalka Klatovy | G11: 17 | H11: 2007 | I11: 8 | J11: 1 | L11: 10 | M11: Vančura Tomáš | N11: 28 | O11: 29 | P11: 42 | Q11: 30 | R11: 25 | S11: 126 | T11: 48 | U11: 24 | V11: 36 | W11: 10 | X11: 8
E12: Balan Arivukkannan | F12: SK Delta Billiard Brno | G12: 1 | H12: 2022 | I12: 8 | J12: 16 | L12: 11 | M12: Škrhák Vladimír | N12: 65 | O12: 51 | P12: 43 | Q12: 12 | R12: 17 | S12: 123 | T12: 32 | U12: 8 | V12: 16 | W12: 18 | X12: 49
E13: Balan Arivukkannan | F13: SK Delta Billiard Brno | G13: 17 | H13: 2022 | I13: 10 | J13: 1 | L13: 12 | M13: Korn Jiří | N13: 32 | O13: 36 | P13: 71 | Q13: 1 | R13: 11 | S13: 119 | T13: 64 | U13: 16 | V13: 8 | W13: 14 | X13: 17
E14: Balský Karel | F14: BC Litomyšl | G14: 7 | H14: 1999 | I14: 8 | J14: 2 | L14: 13 | M14: Bílek Rudolf | N14: 54 | O14: 27 | P14: 47 | Q14: 6 | R14: 26 | S14: 106 | U14: 24 | V14: 24 | W14: 26 | X14: 32
E15: Balský Karel | F15: BC Litomyšl | G15: 14 | H15: 2000 | I15: 8 | J15: 1 | L15: 14 | M15: Kočí Ivan | N15: 56 | O15: 29 | P15: 42 | Q15: 4 | R15: 26 | S15: 101 | T15: 16 | V15: 28 | W15: 18 | X15: 39
E16: Balský Karel | F16: BC Litomyšl | G16: 16 | H16: 2000 | I16: 14 | J16: 1 | L16: 15 | M16: Rush Andrew | N16: 15 | O16: 37 | P16: 20 | Q16: 15 | R16: 22 | S16: 94 | T16: 64 | U16: 8 | V16: 12 | W16: 6 | X16: 4
E17: Balský Karel | F17: BC Litomyšl | G17: 10 | H17: 2001 | I17: 8 | J17: 1 | L17: 16 | M17: Pavlas Josef | N17: 55 | O17: 22 | P17: 23 | Q17: 7 | R17: 26 | S17: 78 | U17: 16 | W17: 18 | X17: 44
E18: Balský Karel | F18: BC Litomyšl | G18: 33 | H18: 2004 | I18: 8 | J18: 1 | L18: 17 | M18: Kratochvíl Josef | N18: 38 | O18: 29 | P18: 28 | Q18: 1 | R18: 17 | S18: 75 | U18: 24 | V18: 12 | W18: 14 | X18: 25
E19: Balský Karel | F19: BC Litomyšl | G19: 18 | H19: 2004 | I19: 9 | J19: 1 | L19: 18 | M19: Urban Vladimír | N19: 60 | O19: 15 | P19: 24 | Q19: 14 | R19: 21 | S19: 74 | V19: 4 | W19: 22 | X19: 48
E20: Balský Karel | F20: BC Litomyšl | G20: 17 | H20: 2004 | I20: 14 | J20: 1 | L20: 19 | M20: Kadlec Bohdan | N20: 18 | O20: 22 | P20: 17 | R20: 25 | S20: 64 | U20: 32 | V20: 16 | W20: 12 | X20: 4
E21: Balský Karel | F21: BC Litomyšl | G21: 9 | H21: 2005 | I21: 8 | J21: 1 | L21: 20 | M21: Švaňa Milan | N21: 31 | O21: 22 | P21: 13 | Q21: 2 | R21: 26 | S21: 63 | U21: 8 | V21: 24 | W21: 14 | X21: 17
E22: Balský Karel | F22: BC Litomyšl | G22: 29 | H22: 2005 | I22: 9 | J22: 1 | L22: 21 | M22: Žalmanová Ilona | N22: 54 | O22: 16 | P22: 17 | Q22: 11 | R22: 12 | S22: 56 | W22: 4 | X22: 52
E23: Balský Karel | F23: BC Litomyšl | G23: 24 | H23: 2007 | I23: 8 | J23: 1 | L23: 22 | M23: Mrňák Jan | N23: 16 | O23: 9 | P23: 10 | Q23: 23 | R23: 12 | S23: 54 | T23: 16 | U23: 16 | V23: 4 | W23: 12 | X23: 6
E24: Balský Karel | F24: Billiard Centrum Litomyšl | G24: 30 | H24: 2008 | I24: 8 | J24: 1 | L24: 23 | M24: Walach Kristian | N24: 36 | O24: 14 | P24: 13 | Q24: 8 | R24: 15 | S24: 50 | V24: 12 | W24: 10 | X24: 28
E25: Balský Karel | F25: Billiard Centrum Litomyšl | G25: 25 | H25: 2009 | I25: 8 | J25: 1 | L25: 24 | M25: Williams Heath | N25: 6 | O25: 20 | P25: 2 | Q25: 20 | R25: 8 | S25: 50 | T25: 32 | U25: 8 | V25: 8 | W25: 2 | X25: 0
E26: Balský Karel | F26: Billiard Centrum Litomyšl | G26: 18 | H26: 2009 | I26: 14 | J26: 1 | L26: 25 | M26: Žemlička Josef | N26: 40 | O26: 17 | P26: 13 | Q26: 6 | R26: 14 | S26: 50 | V26: 4 | W26: 14 | X26: 32
E27: Bauer Zdeněk | F27: BC Arizona Loděnice | G27: 7 | H27: 1999 | I27: 14 | J27: 2 | L27: 26 | M27: Hořeňovský Jaroslav | N27: 45 | O27: 11 | P27: 12 | Q27: 12 | R27: 10 | S27: 45 | W27: 0 | X27: 45
E28: Bauer Zdeněk | F28: BC Arizona Loděnice | G28: 11 | H28: 2000 | I28: 8 | J28: 1 | L28: 27 | M28: Dončuk Jan | N28: 44 | O28: 12 | P28: 11 | Q28: 12 | R28: 9 | S28: 44 | W28: 0 | X28: 44
E29: Bauer Zdeněk | F29: BC Arizona Loděnice | G29: 10 | H29: 2000 | I29: 9 | J29: 1 | L29: 28 | M29: Javůrek Jaroslav | N29: 44 | O29: 12 | P29: 12 | Q29: 12 | R29: 8 | S29: 44 | W29: 0 | X29: 44
E30: Bauer Zdeněk | F30: BC Arizona Loděnice | G30: 6 | H30: 2000 | I30: 14 | J30: 2 | L30: 29 | M30: Nohynek Dušan | N30: 4 | O30: 16 | P30: 8 | Q30: 16 | R30: 4 | S30: 44 | T30: 32 | U30: 8 | V30: 4 | W30: 0 | X30: 0
E31: Bauer Zdeněk | F31: BC Arizona Loděnice | G31: 13 | H31: 2001 | I31: 8 | J31: 1 | L31: 30 | M31: Jaborník Michal | N31: 37 | O31: 13 | P31: 12 | Q31: 11 | R31: 6 | S31: 42 | V31: 4 | W31: 4 | X31: 34
E32: Bauer Zdeněk | F32: BC Arizona Loděnice | G32: 7 | H32: 2001 | I32: 9 | J32: 2 | L32: 31 | M32: Suchánek Jan | N32: 7 | O32: 6 | P32: 10 | Q32: 4 | R32: 20 | S32: 40 | T32: 16 | U32: 8 | V32: 12 | W32: 4 | X32: 0
E33: Bauer Zdeněk | F33: BC Arizona Loděnice | G33: 6 | H33: 2001 | I33: 14 | J33: 2 | L33: 32 | M33: Tichý Jaroslav | N33: 20 | O33: 16 | P33: 10 | R33: 13 | S33: 39 | V33: 16 | W33: 14 | X33: 9
E34: Bauer Zdeněk | F34: BC Arizona Loděnice | G34: 14 | H34: 2002 | I34: 8 | J34: 1 | L34: 33 | M34: Aust Jiří | N34: 7 | O34: 8 | P34: 8 | Q34: 12 | R34: 10 | S34: 38 | U34: 24 | V34: 12 | W34: 2 | X34: 0
E35: Bauer Zdeněk | F35: BC Arizona Loděnice | G35: 5 | H35: 2002 | I35: 9 | J35: 2 | L35: 34 | M35: Hájek Vlastimil | N35: 31 | O35: 16 | P35: 15 | Q35: 2 | R35: 5 | S35: 38 | V35: 4 | W35: 8 | X35: 26
E36: Bauer Zdeněk | F36: BC Arizona Loděnice | G36: 10 | H36: 2002 | I36: 14 | J36: 1 | L36: 35 | M36: Bauer Zdeněk | N36: 27 | O36: 9 | P36: 13 | R36: 15 | S36: 37 | W36: 20 | X36: 17
E37: Bauer Zdeněk | F37: BC Arizona Loděnice | G37: 13 | H37: 2003 | I37: 9 | J37: 1 | L37: 36 | M37: Valentin František | N37: 15 | O37: 14 | P37: 17 | R37: 6 | S37: 37 | U37: 16 | V37: 4 | W37: 10 | X37: 7
E38: Bauer Zdeněk | F38: BC Arizona Loděnice | G38: 12 | H38: 2003 | I38: 14 | J38: 1 | L38: 37 | M38: Hochman Jindřich | N38: 36 | O38: 11 | P38: 10 | Q38: 8 | R38: 7 | S38: 36 | W38: 0 | X38: 36
E39: Bauer Zdeněk | F39: BC Arizona Loděnice | G39: 19 | H39: 2004 | I39: 8 | J39: 1 | L39: 38 | M39: Uremovič Željko | N39: 20 | O39: 19 | P39: 5 | Q39: 1 | R39: 11 | S39: 36 | U39: 8 | V39: 8 | W39: 6 | X39: 14
E40: Bauer Zdeněk | F40: BC Arizona Loděnice | G40: 5 | H40: 2004 | I40: 9 | J40: 2 | L40: 39 | M40: Urbánek Tomáš | N40: 17 | O40: 16 | P40: 11 | Q40: 8 | S40: 35 | U40: 8 | V40: 4 | W40: 16 | X40: 7
...

Sheet Medaile
A1: VÝSLEDKY MR SENIOŘI 1999 - 2023 TŘÍDĚNÍ: umístění/jméno/ročník | E1: jméno | F1: klub | G1: umístění | H1: ročník | I1: disciplina | J1: body | M1: MEDAILE Jméno | N1: *1* | O1: *2* | P1: *3+4* | Q1: Počet
E2: Aust Jiří | F2: Renda Roudnice n/L. | G2: 2 | H2: 2013 | I2: 8 | J2: 8 | L2: 1 | M2: Halamka Pavel | N2: 16 | O2: 15 | P2: 15 | Q2: 46
E3: Aust Jiří | F3: Renda Roudnice n/L. | G3: 3 | H3: 2013 | I3: 9 | J3: 4 | L3: 2 | M3: Janata Jan | N3: 10 | O3: 2 | P3: 2 | Q3: 14
E4: Aust Jiří | F4: Renda Roudnice n/L. | G4: 2 | H4: 2013 | I4: 10 | J4: 8 | L4: 3 | M4: Dorobant Slavomír | N4: 9 | O4: 2 | P4: 5 | Q4: 16
E5: Aust Jiří | F5: Renda Roudnice n/L. | G5: 2 | H5: 2013 | I5: 14 | J5: 8 | L5: 4 | M5: Kokoška Petr | N5: 7 | O5: 2 | P5: 2 | Q5: 11
E6: Aust Jiří | F6: Renda Roudnice n/L. | G6: 4 | H6: 2014 | I6: 9 | J6: 4 | L6: 5 | M6: Marič Márijo | N6: 6 | O6: 10 | P6: 11 | Q6: 27
E7: Aust Jiří | F7: Renda Roudnice n/L. | G7: 4 | H7: 2014 | I7: 10 | J7: 4 | L7: 6 | M7: Zeman Oto | N7: 5 | O7: 3 | P7: 9 | Q7: 17
E8: Balan Arivukkannan | F8: SK Delta Billiard Brno | G8: 1 | H8: 2022 | I8: 8 | J8: 16 | L8: 7 | M8: Korn Jiří | N8: 4 | O8: 2 | P8: 2 | Q8: 8
E9: Bílek Rudolf | F9: SK Billard Centrum Praha | G9: 2 | H9: 1999 | I9: 9 | J9: 8 | L9: 8 | M9: Rush Andrew | N9: 4 | O9: 1 | P9: 3 | Q9: 8
E10: Bílek Rudolf | F10: SK Billard Centrum Praha | G10: 4 | H10: 2000 | I10: 8 | J10: 4 | L10: 9 | M10: Stojka Milan | N10: 3 | O10: 5 | P10: 7 | Q10: 15
E11: Bílek Rudolf | F11: SK Billard Centrum Praha | G11: 2 | H11: 2001 | I11: 8 | J11: 8 | L11: 10 | M11: Kavan Petr | N11: 3 | O11: 4 | P11: 10 | Q11: 17
E12: Bílek Rudolf | F12: SK Billard Centrum Praha | G12: 4 | H12: 2003 | I12: 9 | J12: 4 | L12: 11 | M12: Vančura Tomáš | N12: 3 | O12: 3 | P12: 9 | Q12: 15
E13: Bílek Rudolf | F13: SK Billard Centrum Praha | G13: 2 | H13: 2004 | I13: 9 | J13: 8 | L13: 12 | M13: Vladyka Robin | N13: 2 | O13: 3 | P13: 8 | Q13: 13
... E19: Dorobant Slavomír | F19: BC Mladá Boleslav | G19: 4 | H19: 2013 | I19: 10 | J19: 4 | L19: 18 | M19: Růčka Radek | N19: 1 | O19: 1 | P19: 1 | Q19: 3
E20: Dorobant Slavomír | F20: BC Mladá Boleslav | G20: 1 | H20: 2013 | I20: 14 | J20: 16 | L20: 19 | M20: Kočí Ivan | N20: 1 | P20: 7 | Q20: 8
E21: Dorobant Slavomír | F21: BC Mladá Boleslav | G21: 1 | H21: 2014 | I21: 8 | J21: 16 | L21: 20 | M21: Lottring Richard | N21: 1 | P21: 1 | Q21: 2
E22: Dorobant Slavomír | F22: BC Mladá Boleslav | G22: 3 | H22: 2014 | I22: 9 | J22: 4 | L22: 21 | M22: Balan Arivukkannan | N22: 1 | Q22: 1
E23: Dorobant Slavomír | F23: BC Mladá Boleslav | G23: 1 | H23: 2014 | I23: 14 | J23: 16 | L23: 22 | M23: Kadlec Bohdan | O23: 4 | P23: 4 | Q23: 8
E24: Dorobant Slavomír | F24: BC Mnichovo Hradiště | G24: 1 | H24: 2015 | I24: 10 | J24: 16 | L24: 23 | M24: Bílek Rudolf | O24: 3 | P24: 6 | Q24: 9
E25: Dorobant Slavomír | F25: BC Mnichovo Hradiště | G25: 2 | H25: 2015 | I25: 14 | J25: 8 | L25: 24 | M25: Aust Jiří | O25: 3 | P25: 3 | Q25: 6
E26: Dorobant Slavomír | F26: BC Mnichovo Hradiště | G26: 3 | H26: 2016 | I26: 8 | J26: 4 | L26: 25 | M26: Kratochvíl Josef | O26: 3 | P26: 3 | Q26: 6
E27: Dorobant Slavomír | F27: BC Mnichovo Hradiště | G27: 3 | H27: 2016 | I27: 9 | J27: 4 | L27: 26 | M27: Pilný Pavel | O27: 3 | Q27: 3
E28: Dorobant Slavomír | F28: BC Mnichovo Hradiště | G28: 1 | H28: 2016 | I28: 14 | J28: 16 | L28: 27 | M28: Valentin František | O28: 2 | P28: 1 | Q28: 3
E29: Dorobant Slavomír | F29: BC Mnichovo Hradiště | G29: 1 | H29: 2021 | I29: 14 | J29: 16 | L29: 28 | M29: Pavlas Josef | O29: 2 | Q29: 2
E30: Dorobant Slavomír | F30: Řipská Billiard club | G30: 4 | H30: 2022 | I30: 9 | J30: 4 | L30: 29 | M30: Švaňa Milan | O30: 1 | P30: 6 | Q30: 7
E31: Dorobant Slavomír | F31: Řipská Billiard club | G31: 1 | H31: 2022 | I31: 14 | J31: 16 | L31: 30 | M31: Kraušner Miroslav | O31: 1 | P31: 3 | Q31: 4
E32: Dorobant Slavomír | F32: Řipská Billiard club | G32: 1 | H32: 2023 | I32: 8 | J32: 16 | L32: 31 | M32: Uremovič Željko | O32: 1 | P32: 2 | Q32: 3
E33: Dorobant Slavomír | F33: Řipská Billiard club | G33: 1 | H33: 2023 | I33: 14 | J33: 16 | L33: 32 | M33: Smutný Petr | O33: 1 | P33: 1 | Q33: 2
E34: Dupraz Serge | F34: Billiard Club Balabuška, z.s. | G34: 4 | H34: 2018 | I34: 8 | J34: 4 | L34: 33 | M34: Urbánek Tomáš | O34: 1 | P34: 1 | Q34: 2
E35: Fian Martin | F35: 1. Billiardový Club Děčín, z. s. | G35: 4 | H35: 2023 | I35: 8 | J35: 4 | L35: 34 | M35: Tichý Jaroslav | P35: 4 | Q35: 4
E36: Hájek Vlastimil | F36: Bio Systém Plzeň | G36: 4 | H36: 2002 | I36: 9 | J36: 4 | L36: 35 | M36: Walach Kristian | P36: 3 | Q36: 3
E37: Halamka Pavel | F37: BC Harlequin Praha | G37: 3 | H37: 1999 | I37: 8 | J37: 4 | L37: 36 | M37: Jelínek Petr | P37: 2 | Q37: 2
E38: Halamka Pavel | F38: BC Harlequin Praha | G38: 1 | H38: 1999 | I38: 14 | J38: 16 | L38: 37 | M38: Kotěra Jan | P38: 2 | Q38: 2
E39: Halamka Pavel | F39: BC Harlequin Praha | G39: 3 | H39: 2000 | I39: 8 | J39: 4 | L39: 38 | M39: Šafařík Jan | P39: 2 | Q39: 2
E40: Halamka Pavel | F40: BC Harlequin Praha | G40: 3 | H40: 2000 | I40: 9 | J40: 4 | L40: 39 | M40: Vizingr Miloš | P40: 2 | Q40: 2
E41: Halamka Pavel | F41: BC Harlequin Praha | G41: 1 | H41: 2000 | I41: 14 | J41: 16 | L41: 40 | M41: Weber Pavel | P41: 2 | Q41: 2
E42: Halamka Pavel | F42: BC Harlequin Praha | G42: 1 | H42: 2001 | I42: 8 | J42: 16 | L42: 41 | M42: Žaludek Karel | P42: 2 | Q42: 2
E43: Halamka Pavel | F43: BC Harlequin Praha | G43: 3 | H43: 2001 | I43: 9 | J43: 4 | L43: 42 | M43: Dupraz Serge | P43: 1 | Q43: 1
E44: Halamka Pavel | F44: BC Harlequin Praha | G44: 1 | H44: 2001 | I44: 14 | J44: 16 | L44: 43 | M44: Fian Martin | P44: 1 | Q44: 1
E45: Halamka Pavel | F45: BC Harlequin Praha | G45: 1 | H45: 2002 | I45: 8 | J45: 16 | L45: 44 | M45: Hájek Vlastimil | P45: 1 | Q45: 1
...

Sheet Bodování
B2: disciplina | C2: (Vše) | E2: BODOVÉ ZISKY ZA UMÍSTĚNÍ NA MR 1999 - 2023 PRO KATEGORII SENIOŘI
B4: BODOVÝ ZISK | C4: Rok
B5: Jméno | C5: 1999 | D5: 2000 | E5: 2001 | F5: 2002 | G5: 2003 | H5: 2004 | I5: 2005 | J5: 2006 | K5: 2007 | L5: 2008 | M5: 2009 | N5: 2010 | O5: 2011 | P5: 2012 | Q5: 2013 | R5: 2014 | S5: 2015 | T5: 2016 | U5: 2017 | V5: 2018 | W5: 2019 | X5: 2021 | Y5: 2022 | Z5: 2023 | AA5: Celkem
B6: Halamka Pavel | C6: 22 | D6: 24 | E6: 36 | F6: 33 | G6: 36 | H6: 21 | I6: 36 | J6: 25 | K6: 26 | L6: 25 | M6: 17 | N6: 18 | O6: 18 | P6: 13 | Q6: 11 | R6: 13 | S6: 15 | T6: 5 | U6: 26 | V6: 8 | W6: 6 | X6: 24 | Y6: 22 | Z6: 12 | AA6: 492
B7: Marič Márijo | L7: 28 | M7: 28 | N7: 12 | O7: 12 | P7: 14 | Q7: 2 | R7: 30 | T7: 5 | U7: 6 | V7: 36 | W7: 34 | Y7: 20 | Z7: 15 | AA7: 242
B8: Janata Jan | O8: 64 | P8: 50 | Q8: 44 | S8: 21 | T8: 13 | AA8: 192
B9: Dorobant Slavomír | P9: 10 | Q9: 22 | R9: 36 | S9: 26 | T9: 26 | X9: 16 | Y9: 20 | Z9: 32 | AA9: 188
B10: Zeman Oto | L10: 8 | M10: 36 | P10: 10 | Q10: 7 | R10: 9 | S10: 12 | T10: 11 | U10: 20 | V10: 25 | W10: 6 | X10: 22 | Y10: 3 | Z10: 13 | AA10: 182
B11: Kokoška Petr | J11: 36 | K11: 40 | L11: 26 | M11: 6 | N11: 17 | O11: 6 | U11: 17 | AA11: 148
B12: Stojka Milan | C12: 28 | D12: 12 | E12: 14 | F12: 22 | G12: 25 | H12: 6 | I12: 12 | J12: 10 | K12: 6 | L12: 5 | M12: 3 | AA12: 143
B13: Kavan Petr | N13: 9 | O13: 21 | P13: 26 | Q13: 24 | R13: 36 | S13: 8 | T13: 3 | U13: 4 | V13: 5 | AA13: 136
B14: Vladyka Robin | O14: 12 | P14: 5 | Q14: 7 | R14: 4 | S14: 11 | T14: 6 | U14: 7 | V14: 28 | W14: 8 | X14: 9 | Y14: 12 | Z14: 25 | AA14: 134
B15: Vančura Tomáš | S15: 11 | T15: 19 | U15: 6 | V15: 2 | W15: 32 | X15: 15 | Y15: 11 | Z15: 30 | AA15: 126
B16: Škrhák Vladimír | D16: 17 | E16: 6 | F16: 10 | G16: 4 | H16: 19 | I16: 4 | J16: 7 | K16: 4 | L16: 4 | M16: 4 | N16: 3 | O16: 8 | P16: 3 | Q16: 6 | R16: 4 | S16: 2 | T16: 3 | U16: 3 | V16: 2 | W16: 3 | X16: 2 | Y16: 3 | Z16: 2 | AA16: 123
B17: Korn Jiří | C17: 26 | D17: 26 | E17: 6 | F17: 6 | G17: 1 | H17: 17 | I17: 18 | J17: 3 | K17: 4 | L17: 2 | M17: 2 | N17: 2 | O17: 4 | P17: 2 | AA17: 119
B18: Bílek Rudolf | C18: 8 | D18: 8 | E18: 11 | F18: 4 | G18: 7 | H18: 11 | I18: 5 | J18: 4 | K18: 9 | L18: 6 | M18: 6 | N18: 1 | O18: 4 | P18: 4 | Q18: 5 | R18: 2 | S18: 3 | T18: 2 | V18: 6 | AA18: 106
B19: Kočí Ivan | C19: 8 | D19: 6 | E19: 22 | F19: 10 | G19: 10 | H19: 6 | I19: 2 | J19: 3 | L19: 3 | M19: 3 | N19: 3 | O19: 3 | P19: 4 | Q19: 2 | R19: 3 | S19: 3 | T19: 2 | U19: 2 | V19: 3 | W19: 3 | AA19: 101
B20: Rush Andrew | S20: 34 | T20: 11 | U20: 30 | V20: 19 | AA20: 94
B21: Pavlas Josef | D21: 3 | E21: 3 | F21: 18 | G21: 3 | H21: 3 | I21: 4 | J21: 2 | K21: 3 | L21: 3 | M21: 3 | N21: 2 | O21: 4 | R21: 4 | U21: 5 | V21: 2 | W21: 5 | X21: 5 | Z21: 6 | AA21: 78
B22: Kratochvíl Josef | D22: 8 | E22: 12 | F22: 5 | G22: 14 | H22: 4 | I22: 6 | J22: 3 | K22: 6 | L22: 4 | M22: 3 | N22: 2 | O22: 3 | Y22: 3 | Z22: 2 | AA22: 75
B23: Urban Vladimír | E23: 2 | F23: 2 | G23: 1 | H23: 3 | I23: 3 | J23: 3 | K23: 4 | L23: 4 | M23: 4 | N23: 3 | O23: 4 | P23: 4 | Q23: 4 | R23: 5 | S23: 7 | T23: 4 | U23: 2 | V23: 2 | W23: 6 | X23: 3 | Y23: 2 | Z23: 2 | AA23: 74
B24: Kadlec Bohdan | H24: 11 | I24: 14 | J24: 18 | K24: 7 | L24: 6 | M24: 8 | AA24: 64
B25: Švaňa Milan | C25: 10 | D25: 6 | E25: 6 | F25: 7 | G25: 12 | H25: 6 | I25: 3 | J25: 3 | K25: 2 | L25: 1 | M25: 1 | N25: 1 | O25: 5 | AA25: 63
B26: Žalmanová Ilona | H26: 3 | I26: 3 | J26: 3 | K26: 3 | L26: 3 | M26: 3 | N26: 2 | O26: 4 | P26: 4 | Q26: 4 | R26: 4 | S26: 4 | T26: 4 | U26: 4 | W26: 3 | X26: 2 | Z26: 3 | AA26: 56
B27: Mrňák Jan | S27: 3 | T27: 6 | U27: 13 | V27: 12 | W27: 20 | AA27: 54
B28: Williams Heath | X28: 20 | Y28: 30 | AA28: 50
B29: Walach Kristian | C29: 4 | D29: 4 | F29: 2 | G29: 2 | H29: 4 | K29: 3 | L29: 3 | M29: 3 | N29: 3 | O29: 3 | P29: 2 | Q29: 6 | R29: 6 | S29: 2 | T29: 3 | AA29: 50
B30: Žemlička Josef | G30: 6 | H30: 4 | I30: 3 | J30: 3 | K30: 4 | L30: 3 | M30: 3 | N30: 3 | O30: 4 | P30: 3 | Q30: 5 | R30: 5 | S30: 4 | AA30: 50
B31: Hořeňovský Jaroslav | O31: 4 | P31: 4 | Q31: 4 | R31: 4 | S31: 4 | T31: 4 | U31: 4 | V31: 3 | W31: 4 | X31: 3 | Y31: 3 | Z31: 4 | AA31: 45
B32: Dončuk Jan | O32: 4 | P32: 4 | Q32: 4 | R32: 3 | S32: 4 | T32: 4 | U32: 4 | V32: 4 | W32: 4 | X32: 2 | Y32: 3 | Z32: 4 | AA32: 44
B33: Nohynek Dušan | T33: 44 | AA33: 44
B34: Javůrek Jaroslav | O34: 4 | P34: 4 | Q34: 4 | R34: 3 | S34: 4 | T34: 4 | U34: 3 | V34: 4 | W34: 4 | X34: 3 | Y34: 3 | Z34: 4 | AA34: 44
B35: Jaborník Michal | L35: 2 | M35: 3 | N35: 2 | O35: 4 | P35: 2 | Q35: 4 | R35: 3 | S35: 2 | T35: 3 | V35: 3 | W35: 3 | X35: 1 | Y35: 3 | Z35: 7 | AA35: 42
B36: Suchánek Jan | N36: 22 | P36: 18 | AA36: 40
B37: Tichý Jaroslav | E37: 1 | F37: 3 | G37: 5 | H37: 8 | I37: 9 | J37: 5 | K37: 6 | L37: 2 | AA37: 39
B38: Hájek Vlastimil | C38: 4 | D38: 2 | F38: 5 | G38: 1 | H38: 3 | I38: 3 | J38: 3 | K38: 3 | L38: 3 | M38: 2 | O38: 3 | P38: 1 | Q38: 1 | U38: 2 | V38: 1 | W38: 1 | AA38: 38
B39: Aust Jiří | Q39: 28 | R39: 10 | AA39: 38
B40: Valentin František | D40: 2 | H40: 11 | I40: 7 | J40: 5 | K40: 11 | Q40: 1 | AA40: 37
B41: Bauer Zdeněk | C41: 2 | D41: 4 | E41: 5 | F41: 4 | G41: 2 | H41: 5 | I41: 4 | J41: 4 | K41: 4 | L41: 3 | AA41: 37
B42: Uremovič Željko | H42: 5 | I42: 10 | J42: 3 | K42: 5 | M42: 6 | N42: 4 | T42: 3 | AA42: 36
...

Sheet Komentář
B2: Data na listu Bodování jsou uspořádána v kontingenční tabulce, která nabízí řadu pohledů na jejich obsah.
B3: - Řádky tabulky uvádějí historický seznam hráčů, kteří se na MR v průběhu let představili.
B4: - Sloupce tabulky uvádějí ročníky, v nichž se jednotlivá MR konala.
B5: - Každé pole tabulky uvádí celkový počet bodů, které daný hráč v daném roce na turnajích MR získal.
B6: - Závěrečný sloupec uvádí celkový součet bodů, které hráč na turnajích MR získal.
B8: Bodový zisk z turnaje MR odpovídá dosaženému pořadí hráče v turnaji.
B9: Za 1.místo se uděluje 16 bodů, za 2.místo je 8 bodů. Za účast v semifinále jsou 4 body.
B10: Za účast ve čtvrtfinále jsou 2 body, za umístění na dalších nístech je 1 bod.
B12: Uživatelsky lze volně upravovat zobrazený obsah tabulky pomocí nezávislých tří tlačítek:
B13: - Disciplína ▼: umožňuje zobrazit body buď za všechny disciplíny, nebo za vybranou z nich
B14: - Rok ▼: umožňuje potlačit zobrazení vybraných ročníků a zúžit tím zobrazenou tabulku
B15: - Jméno ▼: umožňuje potlačit zobrazení vybraných jmen a zkrátit tím zobrazenou tabulku
... B31: v případě potřeby lze list bez problémů odemknout. Doporučuji ale následně zase list zamknout!

Sheet Komplet
B2: ÚPLNÝ ŽEBŘÍČEK | C2: Bodové hodnocení pro MR v poolových disciplínách - senioři 1999 - 2023 | AB2: POČET ODEHRANÝCH TURNAJŮ
B3: Jméno | C3: 1999 | D3: 2000 | E3: 2001 | F3: 2002 | G3: 2003 | H3: 2004 | I3: 2005 | J3: 2006 | K3: 2007 | L3: 2008 | M3: 2009 | N3: 2010 | O3: 2011 | P3: 2012 | Q3: 2013 | R3: 2014 | S3: 2015 | T3: 2016 | U3: 2017 | V3: 2018 | W3: 2019 | X3: 2021 | Y3: 2022 | Z3: 2023 | AA3: Body | AB3: Turnaje | AC3: *1* | AD3: *2* | AE3: *3-4* | AF3: *5-8* | AG3: * 9 +*
A4: 1 | B4: Halamka Pavel | C4: 22 | D4: 24 | E4: 36 | F4: 33 | G4: 36 | H4: 21 | I4: 36 | J4: 25 | K4: 26 | L4: 25 | M4: 17 | N4: 18 | O4: 18 | P4: 13 | Q4: 11 | R4: 13 | S4: 15 | T4: 5 | U4: 26 | V4: 8 | W4: 6 | X4: 24 | Y4: 22 | Z4: 12 | AA4: 492 | AB4: =COUNTIF('Po hráčích'!$E$2:$E$2440,B4) -> 84 | AC4: =COUNTIFS('Po hráčích'!$E$2:$E$2440,B4,'Po hráčích'!$J$2:$J$2440,16) -> 16 | AD4: =COUNTIFS('Po hráčích'!$E$2:$E$2440,B4,'Po hráčích'!$J$2:$J$2440,8) -> 15 | AE4: =COUNTIFS('Po hráčích'!$E$2:$E$2440,B4,'Po hráčích'!$J$2:$J$2440,4) -> 15 | AF4: =COUNTIFS('Po hráčích'!$E$2:$E$2440,B4,'Po hráčích'!$J$2:$J$2440,2) -> 18 | AG4: =COUNTIFS('Po hráčích'!$E$2:$E$2440,B4,'Po hráčích'!$J$2:$J$2440,1) -> 20
A5: 2 | B5: Marič Márijo | L5: 28 | M5: 28 | N5: 12 | O5: 12 | P5: 14 | Q5: 2 | R5: 30 | T5: 5 | U5: 6 | V5: 36 | W5: 34 | Y5: 20 | Z5: 15 | AA5: 242 | AB5: =COUNTIF('Po hráčích'!$E$2:$E$2440,B5) -> 41 | AC5: =COUNTIFS('Po hráčích'!$E$2:$E$2440,B5,'Po hráčích'!$J$2:$J$2440,16) -> 6 | AD5: =COUNTIFS('Po hráčích'!$E$2:$E$2440,B5,'Po hráčích'!$J$2:$J$2440,8) -> 10 | AE5: =COUNTIFS('Po hráčích'!$E$2:$E$2440,B5,'Po hráčích'!$J$2:$J$2440,4) -> 11 | AF5: =COUNTIFS('Po hráčích'!$E$2:$E$2440,B5,'Po hráčích'!$J$2:$J$2440,2) -> 8 | AG5: =COUNTIFS('Po hráčích'!$E$2:$E$2440,B5,'Po hráčích'!$J$2:$J$2440,1) -> 6
A6: 3 | B6: Janata Jan | O6: 64 | P6: 50 | Q6: 44 | S6: 21 | T6: 13 | AA6: 192 | AB6: =COUNTIF('Po hráčích'!$E$2:$E$2440,B6) -> 19 | AC6: =COUNTIFS('Po hráčích'!$E$2:$E$2440,B6,'Po hráčích'!$J$2:$J$2440,16) -> 10 | AD6: =COUNTIFS('Po hráčích'!$E$2:$E$2440,B6,'Po hráčích'!$J$2:$J$2440,8) -> 2 | AE6: =COUNTIFS('Po hráčích'!$E$2:$E$2440,B6,'Po hráčích'!$J$2:$J$2440,4) -> 2 | AF6: =COUNTIFS('Po hráčích'!$E$2:$E$2440,B6,'Po hráčích'!$J$2:$J$2440,2) -> 3 | AG6: =COUNTIFS('Po hráčích'!$E$2:$E$2440,B6,'Po hráčích'!$J$2:$J$2440,1) -> 2
A7: 4 | B7: Dorobant Slavomír | P7: 10 | Q7: 22 | R7: 36 | S7: 26 | T7: 26 | X7: 16 | Y7: 20 | Z7: 32 | AA7: 188 | AB7: =COUNTIF('Po hráčích'!$E$2:$E$2440,B7) -> 20 | AC7: =COUNTIFS('Po hráčích'!$E$2:$E$2440,B7,'Po hráčích'!$J$2:$J$2440,16) -> 9 | AD7: =COUNTIFS('Po hráčích'!$E$2:$E$2440,B7,'Po hráčích'!$J$2:$J$2440,8) -> 2 | AE7: =COUNTIFS('Po hráčích'!$E$2:$E$2440,B7,'Po hráčích'!$J$2:$J$2440,4) -> 5 | AF7: =COUNTIFS('Po hráčích'!$E$2:$E$2440,B7,'Po hráčích'!$J$2:$J$2440,2) -> 4 | AG7: =COUNTIFS('Po hráčích'!$E$2:$E$2440,B7,'Po hráčích'!$J$2:$J$2440,1) -> 0
A8: 5 | B8: Zeman Oto | L8: 8 | M8: 36 | P8: 10 | Q8: 7 | R8: 9 | S8: 12 | T8: 11 | U8: 20 | V8: 25 | W8: 6 | X8: 22 | Y8: 3 | Z8: 13 | AA8: 182 | AB8: =COUNTIF('Po hráčích'!$E$2:$E$2440,B8) -> 45 | AC8: =COUNTIFS('Po hráčích'!$E$2:$E$2440,B8,'Po hráčích'!$J$2:$J$2440,16) -> 5 | AD8: =COUNTIFS('Po hráčích'!$E$2:$E$2440,B8,'Po hráčích'!$J$2:$J$2440,8) -> 3 | AE8: =COUNTIFS('Po hráčích'!$E$2:$E$2440,B8,'Po hráčích'!$J$2:$J$2440,4) -> 9 | AF8: =COUNTIFS('Po hráčích'!$E$2:$E$2440,B8,'Po hráčích'!$J$2:$J$2440,2) -> 14 | AG8: =COUNTIFS('Po hráčích'!$E$2:$E$2440,B8,'Po hráčích'!$J$2:$J$2440,1) -> 14
A9: 6 | B9: Kokoška Petr | J9: 36 | K9: 40 | L9: 26 | M9: 6 | N9: 17 | O9: 6 | U9: 17 | AA9: 148 | AB9: =COUNTIF('Po hráčích'!$E$2:$E$2440,B9) -> 18 | AC9: =COUNTIFS('Po hráčích'!$E$2:$E$2440,B9,'Po hráčích'!$J$2:$J$2440,16) -> 7 | AD9: =COUNTIFS('Po hráčích'!$E$2:$E$2440,B9,'Po hráčích'!$J$2:$J$2440,8) -> 2 | AE9: =COUNTIFS('Po hráčích'!$E$2:$E$2440,B9,'Po hráčích'!$J$2:$J$2440,4) -> 2 | AF9: =COUNTIFS('Po hráčích'!$E$2:$E$2440,B9,'Po hráčích'!$J$2:$J$2440,2) -> 5 | AG9: =COUNTIFS('Po hráčích'!$E$2:$E$2440,B9,'Po hráčích'!$J$2:$J$2440,1) -> 2
A10: 7 | B10: Stojka Milan | C10: 28 | D10: 12 | E10: 14 | F10: 22 | G10: 25 | H10: 6 | I10: 12 | J10: 10 | K10: 6 | L10: 5 | M10: 3 | AA10: 143 | AB10: =COUNTIF('Po hráčích'!$E$2:$E$2440,B10) -> 32 | AC10: =COUNTIFS('Po hráčích'!$E$2:$E$2440,B10,'Po hráčích'!$J$2:$J$2440,16) -> 3 | AD10: =COUNTIFS('Po hráčích'!$E$2:$E$2440,B10,'Po hráčích'!$J$2:$J$2440,8) -> 5 | AE10: =COUNTIFS('Po hráčích'!$E$2:$E$2440,B10,'Po hráčích'!$J$2:$J$2440,4) -> 7 | AF10: =COUNTIFS('Po hráčích'!$E$2:$E$2440,B10,'Po hráčích'!$J$2:$J$2440,2) -> 10 | AG10: =COUNTIFS('Po hráčích'!$E$2:$E$2440,B10,'Po hráčích'!$J$2:$J$2440,1) -> 7
A11: 8 | B11: Kavan Petr | N11: 9 | O11: 21 | P11: 26 | Q11: 24 | R11: 36 | S11: 8 | T11: 3 | U11: 4 | V11: 5 | AA11: 136 | AB11: =COUNTIF('Po hráčích'!$E$2:$E$2440,B11) -> 27 | AC11: =COUNTIFS('Po hráčích'!$E$2:$E$2440,B11,'Po hráčích'!$J$2:$J$2440,16) -> 3 | AD11: =COUNTIFS('Po hráčích'!$E$2:$E$2440,B11,'Po hráčích'!$J$2:$J$2440,8) -> 4 | AE11: =COUNTIFS('Po hráčích'!$E$2:$E$2440,B11,'Po hráčích'!$J$2:$J$2440,4) -> 10 | AF11: =COUNTIFS('Po hráčích'!$E$2:$E$2440,B11,'Po hráčích'!$J$2:$J$2440,2) -> 6 | AG11: =COUNTIFS('Po hráčích'!$E$2:$E$2440,B11,'Po hráčích'!$J$2:$J$2440,1) -> 4
A12: 9 | B12: Vladyka Robin | O12: 12 | P12: 5 | Q12: 7 | R12: 4 | S12: 11 | T12: 6 | U12: 7 | V12: 28 | W12: 8 | X12: 9 | Y12: 12 | Z12: 25 | AA12: 134 | AB12: =COUNTIF('Po hráčích'!$E$2:$E$2440,B12) -> 46 | AC12: =COUNTIFS('Po hráčích'!$E$2:$E$2440,B12,'Po hráčích'!$J$2:$J$2440,16) -> 2 | AD12: =COUNTIFS('Po hráčích'!$E$2:$E$2440,B12,'Po hráčích'!$J$2:$J$2440,8) -> 3 | AE12: =COUNTIFS('Po hráčích'!$E$2:$E$2440,B12,'Po hráčích'!$J$2:$J$2440,4) -> 8 | AF12: =COUNTIFS('Po hráčích'!$E$2:$E$2440,B12,'Po hráčích'!$J$2:$J$2440,2) -> 13 | AG12: =COUNTIFS('Po hráčích'!$E$2:$E$2440,B12,'Po hráčích'!$J$2:$J$2440,1) -> 20
A13: 10 | B13: Vančura Tomáš | S13: 11 | T13: 19 | U13: 6 | V13: 2 | W13: 32 | X13: 15 | Y13: 11 | Z13: 30 | AA13: 126 | AB13: =COUNTIF('Po hráčích'!$E$2:$E$2440,B13) -> 28 | AC13: =COUNTIFS('Po hráčích'!$E$2:$E$2440,B13,'Po hráčích'!$J$2:$J$2440,16) -> 3 | AD13: =COUNTIFS('Po hráčích'!$E$2:$E$2440,B13,'Po hráčích'!$J$2:$J$2440,8) -> 3 | AE13: =COUNTIFS('Po hráčích'!$E$2:$E$2440,B13,'Po hráčích'!$J$2:$J$2440,4) -> 9 | AF13: =COUNTIFS('Po hráčích'!$E$2:$E$2440,B13,'Po hráčích'!$J$2:$J$2440,2) -> 5 | AG13: =COUNTIFS('Po hráčích'!$E$2:$E$2440,B13,'Po hráčích'!$J$2:$J$2440,1) -> 8
A14: 11 | B14: Škrhák Vladimír | D14: 17 | E14: 6 | F14: 10 | G14: 4 | H14: 19 | I14: 4 | J14: 7 | K14: 4 | L14: 4 | M14: 4 | N14: 3 | O14: 8 | P14: 3 | Q14: 6 | R14: 4 | S14: 2 | T14: 3 | U14: 3 | V14: 2 | W14: 3 | X14: 2 | Y14: 3 | Z14: 2 | AA14: 123 | AB14: =COUNTIF('Po hráčích'!$E$2:$E$2440,B14) -> 65 | AC14: =COUNTIFS('Po hráčích'!$E$2:$E$2440,B14,'Po hráčích'!$J$2:$J$2440,16) -> 2 | AD14: =COUNTIFS('Po hráčích'!$E$2:$E$2440,B14,'Po hráčích'!$J$2:$J$2440,8) -> 1 | AE14: =COUNTIFS('Po hráčích'!$E$2:$E$2440,B14,'Po hráčích'!$J$2:$J$2440,4) -> 4 | AF14: =COUNTIFS('Po hráčích'!$E$2:$E$2440,B14,'Po hráčích'!$J$2:$J$2440,2) -> 9 | AG14: =COUNTIFS('Po hráčích'!$E$2:$E$2440,B14,'Po hráčích'!$J$2:$J$2440,1) -> 49
A15: 12 | B15: Korn Jiří | C15: 26 | D15: 26 | E15: 6 | F15: 6 | G15: 1 | H15: 17 | I15: 18 | J15: 3 | K15: 4 | L15: 2 | M15: 2 | N15: 2 | O15: 4 | P15: 2 | AA15: 119 | AB15: =COUNTIF('Po hráčích'!$E$2:$E$2440,B15) -> 32 | AC15: =COUNTIFS('Po hráčích'!$E$2:$E$2440,B15,'Po hráčích'!$J$2:$J$2440,16) -> 4 | AD15: =COUNTIFS('Po hráčích'!$E$2:$E$2440,B15,'Po hráčích'!$J$2:$J$2440,8) -> 2 | AE15: =COUNTIFS('Po hráčích'!$E$2:$E$2440,B15,'Po hráčích'!$J$2:$J$2440,4) -> 2 | AF15: =COUNTIFS('Po hráčích'!$E$2:$E$2440,B15,'Po hráčích'!$J$2:$J$2440,2) -> 7 | AG15: =COUNTIFS('Po hráčích'!$E$2:$E$2440,B15,'Po hráčích'!$J$2:$J$2440,1) -> 17
A16: 13 | B16: Bílek Rudolf | C16: 8 | D16: 8 | E16: 11 | F16: 4 | G16: 7 | H16: 11 | I16: 5 | J16: 4 | K16: 9 | L16: 6 | M16: 6 | N16: 1 | O16: 4 | P16: 4 | Q16: 5 | R16: 2 | S16: 3 | T16: 2 | V16: 6 | AA16: 106 | AB16: =COUNTIF('Po hráčích'!$E$2:$E$2440,B16) -> 54 | AC16: =COUNTIFS('Po hráčích'!$E$2:$E$2440,B16,'Po hráčích'!$J$2:$J$2440,16) -> 0 | AD16: =COUNTIFS('Po hráčích'!$E$2:$E$2440,B16,'Po hráčích'!$J$2:$J$2440,8) -> 3 | AE16: =COUNTIFS('Po hráčích'!$E$2:$E$2440,B16,'Po hráčích'!$J$2:$J$2440,4) -> 6 | AF16: =COUNTIFS('Po hráčích'!$E$2:$E$2440,B16,'Po hráčích'!$J$2:$J$2440,2) -> 13 | AG16: =COUNTIFS('Po hráčích'!$E$2:$E$2440,B16,'Po hráčích'!$J$2:$J$2440,1) -> 32
A17: 14 | B17: Kočí Ivan | C17: 8 | D17: 6 | E17: 22 | F17: 10 | G17: 10 | H17: 6 | I17: 2 | J17: 3 | L17: 3 | M17: 3 | N17: 3 | O17: 3 | P17: 4 | Q17: 2 | R17: 3 | S17: 3 | T17: 2 | U17: 2 | V17: 3 | W17: 3 | AA17: 101 | AB17: =COUNTIF('Po hráčích'!$E$2:$E$2440,B17) -> 56 | AC17: =COUNTIFS('Po hráčích'!$E$2:$E$2440,B17,'Po hráčích'!$J$2:$J$2440,16) -> 1 | AD17: =COUNTIFS('Po hráčích'!$E$2:$E$2440,B17,'Po hráčích'!$J$2:$J$2440,8) -> 0 | AE17: =COUNTIFS('Po hráčích'!$E$2:$E$2440,B17,'Po hráčích'!$J$2:$J$2440,4) -> 7 | AF17: =COUNTIFS('Po hráčích'!$E$2:$E$2440,B17,'Po hráčích'!$J$2:$J$2440,2) -> 9 | AG17: =COUNTIFS('Po hráčích'!$E$2:$E$2440,B17,'Po hráčích'!$J$2:$J$2440,1) -> 39
A18: 15 | B18: Rush Andrew | S18: 34 | T18: 11 | U18: 30 | V18: 19 | AA18: 94 | AB18: =COUNTIF('Po hráčích'!$E$2:$E$2440,B18) -> 15 | AC18: =COUNTIFS('Po hráčích'!$E$2:$E$2440,B18,'Po hráčích'!$J$2:$J$2440,16) -> 4 | AD18: =COUNTIFS('Po hráčích'!$E$2:$E$2440,B18,'Po hráčích'!$J$2:$J$2440,8) -> 1 | AE18: =COUNTIFS('Po hráčích'!$E$2:$E$2440,B18,'Po hráčích'!$J$2:$J$2440,4) -> 3 | AF18: =COUNTIFS('Po hráčích'!$E$2:$E$2440,B18,'Po hráčích'!$J$2:$J$2440,2) -> 3 | AG18: =COUNTIFS('Po hráčích'!$E$2:$E$2440,B18,'Po hráčích'!$J$2:$J$2440,1) -> 4
A19: 16 | B19: Pavlas Josef | D19: 3 | E19: 3 | F19: 18 | G19: 3 | H19: 3 | I19: 4 | J19: 2 | K19: 3 | L19: 3 | M19: 3 | N19: 2 | O19: 4 | R19: 4 | U19: 5 | V19: 2 | W19: 5 | X19: 5 | Z19: 6 | AA19: 78 | AB19: =COUNTIF('Po hráčích'!$E$2:$E$2440,B19) -> 55 | AC19: =COUNTIFS('Po hráčích'!$E$2:$E$2440,B19,'Po hráčích'!$J$2:$J$2440,16) -> 0 | AD19: =COUNTIFS('Po hráčích'!$E$2:$E$2440,B19,'Po hráčích'!$J$2:$J$2440,8) -> 2 | AE19: =COUNTIFS('Po hráčích'!$E$2:$E$2440,B19,'Po hráčích'!$J$2:$J$2440,4) -> 0 | AF19: =COUNTIFS('Po hráčích'!$E$2:$E$2440,B19,'Po hráčích'!$J$2:$J$2440,2) -> 9 | AG19: =COUNTIFS('Po hráčích'!$E$2:$E$2440,B19,'Po hráčích'!$J$2:$J$2440,1) -> 44
A20: 17 | B20: Kratochvíl Josef | D20: 8 | E20: 12 | F20: 5 | G20: 14 | H20: 4 | I20: 6 | J20: 3 | K20: 6 | L20: 4 | M20: 3 | N20: 2 | O20: 3 | Y20: 3 | Z20: 2 | AA20: 75 | AB20: =COUNTIF('Po hráčích'!$E$2:$E$2440,B20) -> 38 | AC20: =COUNTIFS('Po hráčích'!$E$2:$E$2440,B20,'Po hráčích'!$J$2:$J$2440,16) -> 0 | AD20: =COUNTIFS('Po hráčích'!$E$2:$E$2440,B20,'Po hráčích'!$J$2:$J$2440,8) -> 3 | AE20: =COUNTIFS('Po hráčích'!$E$2:$E$2440,B20,'Po hráčích'!$J$2:$J$2440,4) -> 3 | AF20: =COUNTIFS('Po hráčích'!$E$2:$E$2440,B20,'Po hráčích'!$J$2:$J$2440,2) -> 7 | AG20: =COUNTIFS('Po hráčích'!$E$2:$E$2440,B20,'Po hráčích'!$J$2:$J$2440,1) -> 25
A21: 18 | B21: Urban Vladimír | E21: 2 | F21: 2 | G21: 1 | H21: 3 | I21: 3 | J21: 3 | K21: 4 | L21: 4 | M21: 4 | N21: 3 | O21: 4 | P21: 4 | Q21: 4 | R21: 5 | S21: 7 | T21: 4 | U21: 2 | V21: 2 | W21: 6 | X21: 3 | Y21: 2 | Z21: 2 | AA21: 74 | AB21: =COUNTIF('Po hráčích'!$E$2:$E$2440,B21) -> 60 | AC21: =COUNTIFS('Po hráčích'!$E$2:$E$2440,B21,'Po hráčích'!$J$2:$J$2440,16) -> 0 | AD21: =COUNTIFS('Po hráčích'!$E$2:$E$2440,B21,'Po hráčích'!$J$2:$J$2440,8) -> 0 | AE21: =COUNTIFS('Po hráčích'!$E$2:$E$2440,B21,'Po hráčích'!$J$2:$J$2440,4) -> 1 | AF21: =COUNTIFS('Po hráčích'!$E$2:$E$2440,B21,'Po hráčích'!$J$2:$J$2440,2) -> 11 | AG21: =COUNTIFS('Po hráčích'!$E$2:$E$2440,B21,'Po hráčích'!$J$2:$J$2440,1) -> 48
A22: 19 | B22: Kadlec Bohdan | H22: 11 | I22: 14 | J22: 18 | K22: 7 | L22: 6 | M22: 8 | AA22: 64 | AB22: =COUNTIF('Po hráčích'!$E$2:$E$2440,B22) -> 18 | AC22: =COUNTIFS('Po hráčích'!$E$2:$E$2440,B22,'Po hráčích'!$J$2:$J$2440,16) -> 0 | AD22: =COUNTIFS('Po hráčích'!$E$2:$E$2440,B22,'Po hráčích'!$J$2:$J$2440,8) -> 4 | AE22: =COUNTIFS('Po hráčích'!$E$2:$E$2440,B22,'Po hráčích'!$J$2:$J$2440,4) -> 4 | AF22: =COUNTIFS('Po hráčích'!$E$2:$E$2440,B22,'Po hráčích'!$J$2:$J$2440,2) -> 6 | AG22: =COUNTIFS('Po hráčích'!$E$2:$E$2440,B22,'Po hráčích'!$J$2:$J$2440,1) -> 4
A23: 20 | B23: Švaňa Milan | C23: 10 | D23: 6 | E23: 6 | F23: 7 | G23: 12 | H23: 6 | I23: 3 | J23: 3 | K23: 2 | L23: 1 | M23: 1 | N23: 1 | O23: 5 | AA23: 63 | AB23: =COUNTIF('Po hráčích'!$E$2:$E$2440,B23) -> 31 | AC23: =COUNTIFS('Po hráčích'!$E$2:$E$2440,B23,'Po hráčích'!$J$2:$J$2440,16) -> 0 | AD23: =COUNTIFS('Po hráčích'!$E$2:$E$2440,B23,'Po hráčích'!$J$2:$J$2440,8) -> 1 | AE23: =COUNTIFS('Po hráčích'!$E$2:$E$2440,B23,'Po hráčích'!$J$2:$J$2440,4) -> 6 | AF23: =COUNTIFS('Po hráčích'!$E$2:$E$2440,B23,'Po hráčích'!$J$2:$J$2440,2) -> 7 | AG23: =COUNTIFS('Po hráčích'!$E$2:$E$2440,B23,'Po hráčích'!$J$2:$J$2440,1) -> 17
A24: 21 | B24: Žalmanová Ilona | H24: 3 | I24: 3 | J24: 3 | K24: 3 | L24: 3 | M24: 3 | N24: 2 | O24: 4 | P24: 4 | Q24: 4 | R24: 4 | S24: 4 | T24: 4 | U24: 4 | W24: 3 | X24: 2 | Z24: 3 | AA24: 56 | AB24: =COUNTIF('Po hráčích'!$E$2:$E$2440,B24) -> 54 | AC24: =COUNTIFS('Po hráčích'!$E$2:$E$2440,B24,'Po hráčích'!$J$2:$J$2440,16) -> 0 | AD24: =COUNTIFS('Po hráčích'!$E$2:$E$2440,B24,'Po hráčích'!$J$2:$J$2440,8) -> 0 | AE24: =COUNTIFS('Po hráčích'!$E$2:$E$2440,B24,'Po hráčích'!$J$2:$J$2440,4) -> 0 | AF24: =COUNTIFS('Po hráčích'!$E$2:$E$2440,B24,'Po hráčích'!$J$2:$J$2440,2) -> 2 | AG24: =COUNTIFS('Po hráčích'!$E$2:$E$2440,B24,'Po hráčích'!$J$2:$J$2440,1) -> 52
A25: 22 | B25: Mrňák Jan | S25: 3 | T25: 6 | U25: 13 | V25: 12 | W25: 20 | AA25: 54 | AB25: =COUNTIF('Po hráčích'!$E$2:$E$2440,B25) -> 16 | AC25: =COUNTIFS('Po hráčích'!$E$2:$E$2440,B25,'Po hráčích'!$J$2:$J$2440,16) -> 1 | AD25: =COUNTIFS('Po hráčích'!$E$2:$E$2440,B25,'Po hráčích'!$J$2:$J$2440,8) -> 2 | AE25: =COUNTIFS('Po hráčích'!$E$2:$E$2440,B25,'Po hráčích'!$J$2:$J$2440,4) -> 1 | AF25: =COUNTIFS('Po hráčích'!$E$2:$E$2440,B25,'Po hráčích'!$J$2:$J$2440,2) -> 6 | AG25: =COUNTIFS('Po hráčích'!$E$2:$E$2440,B25,'Po hráčích'!$J$2:$J$2440,1) -> 6
A26: 23 | B26: Williams Heath | X26: 20 | Y26: 30 | AA26: 50 | AB26: =COUNTIF('Po hráčích'!$E$2:$E$2440,B26) -> 6 | AC26: =COUNTIFS('Po hráčích'!$E$2:$E$2440,B26,'Po hráčích'!$J$2:$J$2440,16) -> 2 | AD26: =COUNTIFS('Po hráčích'!$E$2:$E$2440,B26,'Po hráčích'!$J$2:$J$2440,8) -> 1 | AE26: =COUNTIFS('Po hráčích'!$E$2:$E$2440,B26,'Po hráčích'!$J$2:$J$2440,4) -> 2 | AF26: =COUNTIFS('Po hráčích'!$E$2:$E$2440,B26,'Po hráčích'!$J$2:$J$2440,2) -> 1 | AG26: =COUNTIFS('Po hráčích'!$E$2:$E$2440,B26,'Po hráčích'!$J$2:$J$2440,1) -> 0
A27: 24 | B27: Žemlička Josef | G27: 6 | H27: 4 | I27: 3 | J27: 3 | K27: 4 | L27: 3 | M27: 3 | N27: 3 | O27: 4 | P27: 3 | Q27: 5 | R27: 5 | S27: 4 | AA27: 50 | AB27: =COUNTIF('Po hráčích'!$E$2:$E$2440,B27) -> 40 | AC27: =COUNTIFS('Po hráčích'!$E$2:$E$2440,B27,'Po hráčích'!$J$2:$J$2440,16) -> 0 | AD27: =COUNTIFS('Po hráčích'!$E$2:$E$2440,B27,'Po hráčích'!$J$2:$J$2440,8) -> 0 | AE27: =COUNTIFS('Po hráčích'!$E$2:$E$2440,B27,'Po hráčích'!$J$2:$J$2440,4) -> 1 | AF27: =COUNTIFS('Po hráčích'!$E$2:$E$2440,B27,'Po hráčích'!$J$2:$J$2440,2) -> 7 | AG27: =COUNTIFS('Po hráčích'!$E$2:$E$2440,B27,'Po hráčích'!$J$2:$J$2440,1) -> 32
A28: 25 | B28: Walach Kristian | C28: 4 | D28: 4 | F28: 2 | G28: 2 | H28: 4 | K28: 3 | L28: 3 | M28: 3 | N28: 3 | O28: 3 | P28: 2 | Q28: 6 | R28: 6 | S28: 2 | T28: 3 | AA28: 50 | AB28: =COUNTIF('Po hráčích'!$E$2:$E$2440,B28) -> 36 | AC28: =COUNTIFS('Po hráčích'!$E$2:$E$2440,B28,'Po hráčích'!$J$2:$J$2440,16) -> 0 | AD28: =COUNTIFS('Po hráčích'!$E$2:$E$2440,B28,'Po hráčích'!$J$2:$J$2440,8) -> 0 | AE28: =COUNTIFS('Po hráčích'!$E$2:$E$2440,B28,'Po hráčích'!$J$2:$J$2440,4) -> 3 | AF28: =COUNTIFS('Po hráčích'!$E$2:$E$2440,B28,'Po hráčích'!$J$2:$J$2440,2) -> 5 | AG28: =COUNTIFS('Po hráčích'!$E$2:$E$2440,B28,'Po hráčích'!$J$2:$J$2440,1) -> 28
A29: 26 | B29: Hořeňovský Jaroslav | O29: 4 | P29: 4 | Q29: 4 | R29: 4 | S29: 4 | T29: 4 | U29: 4 | V29: 3 | W29: 4 | X29: 3 | Y29: 3 | Z29: 4 | AA29: 45 | AB29: =COUNTIF('Po hráčích'!$E$2:$E$2440,B29) -> 45 | AC29: =COUNTIFS('Po hráčích'!$E$2:$E$2440,B29,'Po hráčích'!$J$2:$J$2440,16) -> 0 | AD29: =COUNTIFS('Po hráčích'!$E$2:$E$2440,B29,'Po hráčích'!$J$2:$J$2440,8) -> 0 | AE29: =COUNTIFS('Po hráčích'!$E$2:$E$2440,B29,'Po hráčích'!$J$2:$J$2440,4) -> 0 | AF29: =COUNTIFS('Po hráčích'!$E$2:$E$2440,B29,'Po hráčích'!$J$2:$J$2440,2) -> 0 | AG29: =COUNTIFS('Po hráčích'!$E$2:$E$2440,B29,'Po hráčích'!$J$2:$J$2440,1) -> 45
A30: 27 | B30: Nohynek Dušan | T30: 44 | AA30: 44 | AB30: =COUNTIF('Po hráčích'!$E$2:$E$2440,B30) -> 4 | AC30: =COUNTIFS('Po hráčích'!$E$2:$E$2440,B30,'Po hráčích'!$J$2:$J$2440,16) -> 2 | AD30: =COUNTIFS('Po hráčích'!$E$2:$E$2440,B30,'Po hráčích'!$J$2:$J$2440,8) -> 1 | AE30: =COUNTIFS('Po hráčích'!$E$2:$E$2440,B30,'Po hráčích'!$J$2:$J$2440,4) -> 1 | AF30: =COUNTIFS('Po hráčích'!$E$2:$E$2440,B30,'Po hráčích'!$J$2:$J$2440,2) -> 0 | AG30: =COUNTIFS('Po hráčích'!$E$2:$E$2440,B30,'Po hráčích'!$J$2:$J$2440,1) -> 0
A31: 28 | B31: Dončuk Jan | O31: 4 | P31: 4 | Q31: 4 | R31: 3 | S31: 4 | T31: 4 | U31: 4 | V31: 4 | W31: 4 | X31: 2 | Y31: 3 | Z31: 4 | AA31: 44 | AB31: =COUNTIF('Po hráčích'!$E$2:$E$2440,B31) -> 44 | AC31: =COUNTIFS('Po hráčích'!$E$2:$E$2440,B31,'Po hráčích'!$J$2:$J$2440,16) -> 0 | AD31: =COUNTIFS('Po hráčích'!$E$2:$E$2440,B31,'Po hráčích'!$J$2:$J$2440,8) -> 0 | AE31: =COUNTIFS('Po hráčích'!$E$2:$E$2440,B31,'Po hráčích'!$J$2:$J$2440,4) -> 0 | AF31: =COUNTIFS('Po hráčích'!$E$2:$E$2440,B31,'Po hráčích'!$J$2:$J$2440,2) -> 0 | AG31: =COUNTIFS('Po hráčích'!$E$2:$E$2440,B31,'Po hráčích'!$J$2:$J$2440,1) -> 44
A32: 29 | B32: Javůrek Jaroslav | O32: 4 | P32: 4 | Q32: 4 | R32: 3 | S32: 4 | T32: 4 | U32: 3 | V32: 4 | W32: 4 | X32: 3 | Y32: 3 | Z32: 4 | AA32: 44 | AB32: =COUNTIF('Po hráčích'!$E$2:$E$2440,B32) -> 44 | AC32: =COUNTIFS('Po hráčích'!$E$2:$E$2440,B32,'Po hráčích'!$J$2:$J$2440,16) -> 0 | AD32: =COUNTIFS('Po hráčích'!$E$2:$E$2440,B32,'Po hráčích'!$J$2:$J$2440,8) -> 0 | AE32: =COUNTIFS('Po hráčích'!$E$2:$E$2440,B32,'Po hráčích'!$J$2:$J$2440,4) -> 0 | AF32: =COUNTIFS('Po hráčích'!$E$2:$E$2440,B32,'Po hráčích'!$J$2:$J$2440,2) -> 0 | AG32: =COUNTIFS('Po hráčích'!$E$2:$E$2440,B32,'Po hráčích'!$J$2:$J$2440,1) -> 44
A33: 30 | B33: Jaborník Michal | L33: 2 | M33: 3 | N33: 2 | O33: 4 | P33: 2 | Q33: 4 | R33: 3 | S33: 2 | T33: 3 | V33: 3 | W33: 3 | X33: 1 | Y33: 3 | Z33: 7 | AA33: 42 | AB33: =COUNTIF('Po hráčích'!$E$2:$E$2440,B33) -> 37 | AC33: =COUNTIFS('Po hráčích'!$E$2:$E$2440,B33,'Po hráčích'!$J$2:$J$2440,16) -> 0 | AD33: =COUNTIFS('Po hráčích'!$E$2:$E$2440,B33,'Po hráčích'!$J$2:$J$2440,8) -> 0 | AE33: =COUNTIFS('Po hráčích'!$E$2:$E$2440,B33,'Po hráčích'!$J$2:$J$2440,4) -> 1 | AF33: =COUNTIFS('Po hráčích'!$E$2:$E$2440,B33,'Po hráčích'!$J$2:$J$2440,2) -> 2 | AG33: =COUNTIFS('Po hráčích'!$E$2:$E$2440,B33,'Po hráčích'!$J$2:$J$2440,1) -> 34
A34: 31 | B34: Suchánek Jan | N34: 22 | P34: 18 | AA34: 40 | AB34: =COUNTIF('Po hráčích'!$E$2:$E$2440,B34) -> 7 | AC34: =COUNTIFS('Po hráčích'!$E$2:$E$2440,B34,'Po hráčích'!$J$2:$J$2440,16) -> 1 | AD34: =COUNTIFS('Po hráčích'!$E$2:$E$2440,B34,'Po hráčích'!$J$2:$J$2440,8) -> 1 | AE34: =COUNTIFS('Po hráčích'!$E$2:$E$2440,B34,'Po hráčích'!$J$2:$J$2440,4) -> 3 | AF34: =COUNTIFS('Po hráčích'!$E$2:$E$2440,B34,'Po hráčích'!$J$2:$J$2440,2) -> 2 | AG34: =COUNTIFS('Po hráčích'!$E$2:$E$2440,B34,'Po hráčích'!$J$2:$J$2440,1) -> 0
A35: 32 | B35: Tichý Jaroslav | E35: 1 | F35: 3 | G35: 5 | H35: 8 | I35: 9 | J35: 5 | K35: 6 | L35: 2 | AA35: 39 | AB35: =COUNTIF('Po hráčích'!$E$2:$E$2440,B35) -> 20 | AC35: =COUNTIFS('Po hráčích'!$E$2:$E$2440,B35,'Po hráčích'!$J$2:$J$2440,16) -> 0 | AD35: =COUNTIFS('Po hráčích'!$E$2:$E$2440,B35,'Po hráčích'!$J$2:$J$2440,8) -> 0 | AE35: =COUNTIFS('Po hráčích'!$E$2:$E$2440,B35,'Po hráčích'!$J$2:$J$2440,4) -> 4 | AF35: =COUNTIFS('Po hráčích'!$E$2:$E$2440,B35,'Po hráčích'!$J$2:$J$2440,2) -> 7 | AG35: =COUNTIFS('Po hráčích'!$E$2:$E$2440,B35,'Po hráčích'!$J$2:$J$2440,1) -> 9
A36: 33 | B36: Aust Jiří | Q36: 28 | R36: 10 | AA36: 38 | AB36: =COUNTIF('Po hráčích'!$E$2:$E$2440,B36) -> 7 | AC36: =COUNTIFS('Po hráčích'!$E$2:$E$2440,B36,'Po hráčích'!$J$2:$J$2440,16) -> 0 | AD36: =COUNTIFS('Po hráčích'!$E$2:$E$2440,B36,'Po hráčích'!$J$2:$J$2440,8) -> 3 | AE36: =COUNTIFS('Po hráčích'!$E$2:$E$2440,B36,'Po hráčích'!$J$2:$J$2440,4) -> 3 | AF36: =COUNTIFS('Po hráčích'!$E$2:$E$2440,B36,'Po hráčích'!$J$2:$J$2440,2) -> 1 | AG36: =COUNTIFS('Po hráčích'!$E$2:$E$2440,B36,'Po hráčích'!$J$2:$J$2440,1) -> 0
A37: 34 | B37: Hájek Vlastimil | C37: 4 | D37: 2 | F37: 5 | G37: 1 | H37: 3 | I37: 3 | J37: 3 | K37: 3 | L37: 3 | M37: 2 | O37: 3 | P37: 1 | Q37: 1 | U37: 2 | V37: 1 | W37: 1 | AA37: 38 | AB37: =COUNTIF('Po hráčích'!$E$2:$E$2440,B37) -> 31 | AC37: =COUNTIFS('Po hráčích'!$E$2:$E$2440,B37,'Po hráčích'!$J$2:$J$2440,16) -> 0 | AD37: =COUNTIFS('Po hráčích'!$E$2:$E$2440,B37,'Po hráčích'!$J$2:$J$2440,8) -> 0 | AE37: =COUNTIFS('Po hráčích'!$E$2:$E$2440,B37,'Po hráčích'!$J$2:$J$2440,4) -> 1 | AF37: =COUNTIFS('Po hráčích'!$E$2:$E$2440,B37,'Po hráčích'!$J$2:$J$2440,2) -> 4 | AG37: =COUNTIFS('Po hráčích'!$E$2:$E$2440,B37,'Po hráčích'!$J$2:$J$2440,1) -> 26
A38: 35 | B38: Valentin František | D38: 2 | H38: 11 | I38: 7 | J38: 5 | K38: 11 | Q38: 1 | AA38: 37 | AB38: =COUNTIF('Po hráčích'!$E$2:$E$2440,B38) -> 15 | AC38: =COUNTIFS('Po hráčích'!$E$2:$E$2440,B38,'Po hráčích'!$J$2:$J$2440,16) -> 0 | AD38: =COUNTIFS('Po hráčích'!$E$2:$E$2440,B38,'Po hráčích'!$J$2:$J$2440,8) -> 2 | AE38: =COUNTIFS('Po hráčích'!$E$2:$E$2440,B38,'Po hráčích'!$J$2:$J$2440,4) -> 1 | AF38: =COUNTIFS('Po hráčích'!$E$2:$E$2440,B38,'Po hráčích'!$J$2:$J$2440,2) -> 5 | AG38: =COUNTIFS('Po hráčích'!$E$2:$E$2440,B38,'Po hráčích'!$J$2:$J$2440,1) -> 7
A39: 36 | B39: Bauer Zdeněk | C39: 2 | D39: 4 | E39: 5 | F39: 4 | G39: 2 | H39: 5 | I39: 4 | J39: 4 | K39: 4 | L39: 3 | AA39: 37 | AB39: =COUNTIF('Po hráčích'!$E$2:$E$2440,B39) -> 27 | AC39: =COUNTIFS('Po hráčích'!$E$2:$E$2440,B39,'Po hráčích'!$J$2:$J$2440,16) -> 0 | AD39: =COUNTIFS('Po hráčích'!$E$2:$E$2440,B39,'Po hráčích'!$J$2:$J$2440,8) -> 0 | AE39: =COUNTIFS('Po hráčích'!$E$2:$E$2440,B39,'Po hráčích'!$J$2:$J$2440,4) -> 0 | AF39: =COUNTIFS('Po hráčích'!$E$2:$E$2440,B39,'Po hráčích'!$J$2:$J$2440,2) -> 10 | AG39: =COUNTIFS('Po hráčích'!$E$2:$E$2440,B39,'Po hráčích'!$J$2:$J$2440,1) -> 17
A40: 37 | B40: Uremovič Željko | H40: 5 | I40: 10 | J40: 3 | K40: 5 | M40: 6 | N40: 4 | T40: 3 | AA40: 36 | AB40: =COUNTIF('Po hráčích'!$E$2:$E$2440,B40) -> 20 | AC40: =COUNTIFS('Po hráčích'!$E$2:$E$2440,B40,'Po hráčích'!$J$2:$J$2440,16) -> 0 | AD40: =COUNTIFS('Po hráčích'!$E$2:$E$2440,B40,'Po hráčích'!$J$2:$J$2440,8) -> 1 | AE40: =COUNTIFS('Po hráčích'!$E$2:$E$2440,B40,'Po hráčích'!$J$2:$J$2440,4) -> 2 | AF40: =COUNTIFS('Po hráčích'!$E$2:$E$2440,B40,'Po hráčích'!$J$2:$J$2440,2) -> 3 | AG40: =COUNTIFS('Po hráčích'!$E$2:$E$2440,B40,'Po hráčích'!$J$2:$J$2440,1) -> 14
A41: 38 | B41: Hochman Jindřich | L41: 3 | M41: 3 | O41: 3 | P41: 4 | Q41: 3 | R41: 4 | S41: 3 | T41: 3 | U41: 3 | V41: 2 | W41: 2 | X41: 3 | AA41: 36 | AB41: =COUNTIF('Po hráčích'!$E$2:$E$2440,B41) -> 36 | AC41: =COUNTIFS('Po hráčích'!$E$2:$E$2440,B41,'Po hráčích'!$J$2:$J$2440,16) -> 0 | AD41: =COUNTIFS('Po hráčích'!$E$2:$E$2440,B41,'Po hráčích'!$J$2:$J$2440,8) -> 0 | AE41: =COUNTIFS('Po hráčích'!$E$2:$E$2440,B41,'Po hráčích'!$J$2:$J$2440,4) -> 0 | AF41: =COUNTIFS('Po hráčích'!$E$2:$E$2440,B41,'Po hráčích'!$J$2:$J$2440,2) -> 0 | AG41: =COUNTIFS('Po hráčích'!$E$2:$E$2440,B41,'Po hráčích'!$J$2:$J$2440,1) -> 36
...

Sheet 8-ball
B2: ŽEBŘÍČEK 8-BALL | C2: Bodové hodnocení pro MR v poolových disciplínách - senioři 1999 - 2023 | AB2: POČET ODEHRANÝCH TURNAJŮ
B3: Jméno | C3: 1999 | D3: 2000 | E3: 2001 | F3: 2002 | G3: 2003 | H3: 2004 | I3: 2005 | J3: 2006 | K3: 2007 | L3: 2008 | M3: 2009 | N3: 2010 | O3: 2011 | P3: 2012 | Q3: 2013 | R3: 2014 | S3: 2015 | T3: 2016 | U3: 2017 | V3: 2018 | W3: 2019 | X3: 2021 | Y3: 2022 | Z3: 2023 | AA3: Body | AB3: Turnaje | AC3: *1* | AD3: *2* | AE3: *3-4* | AF3: *5-8* | AG3: * 9 +*
A4: 1 | B4: Halamka Pavel | C4: 4 | D4: 4 | E4: 16 | F4: 16 | G4: 16 | H4: 1 | I4: 16 | J4: 1 | K4: 8 | L4: 8 | M4: 8 | N4: 8 | O4: 4 | P4: 1 | Q4: 4 | R4: 8 | S4: 8 | T4: 1 | U4: 1 | V4: 2 | W4: 1 | X4: 2 | Y4: 8 | Z4: 1 | AA4: 147 | AB4: 24 | AC4: 4 | AD4: 7 | AE4: 4 | AF4: 2 | AG4: 7
A5: 2 | B5: Janata Jan | O5: 16 | P5: 16 | Q5: 16 | S5: 16 | T5: 1 | AA5: 65 | AB5: 5 | AC5: 4 | AD5: 0 | AE5: 0 | AF5: 0 | AG5: 1
A6: 3 | B6: Marič Márijo | L6: 16 | M6: 4 | N6: 4 | P6: 8 | R6: 2 | T6: 1 | V6: 8 | W6: 8 | Y6: 1 | Z6: 8 | AA6: 60 | AB6: 10 | AC6: 1 | AD6: 4 | AE6: 2 | AF6: 1 | AG6: 2
A7: 4 | B7: Kokoška Petr | J7: 16 | K7: 16 | L7: 2 | M7: 4 | N7: 16 | O7: 2 | AA7: 56 | AB7: 6 | AC7: 3 | AD7: 0 | AE7: 1 | AF7: 2 | AG7: 0
A8: 5 | B8: Škrhák Vladimír | D8: 1 | E8: 4 | F8: 8 | G8: 2 | H8: 16 | I8: 2 | J8: 1 | K8: 1 | L8: 1 | M8: 1 | N8: 1 | O8: 2 | P8: 1 | Q8: 1 | R8: 2 | S8: 1 | T8: 1 | U8: 1 | V8: 1 | W8: 1 | Y8: 1 | Z8: 1 | AA8: 51 | AB8: 22 | AC8: 1 | AD8: 1 | AE8: 1 | AF8: 4 | AG8: 15
A9: 6 | B9: Dorobant Slavomír | P9: 2 | Q9: 2 | R9: 16 | S9: 2 | T9: 4 | Z9: 16 | AA9: 42 | AB9: 6 | AC9: 2 | AD9: 0 | AE9: 1 | AF9: 3 | AG9: 0
A10: 7 | B10: Rush Andrew | S10: 1 | T10: 4 | U10: 16 | V10: 16 | AA10: 37 | AB10: 4 | AC10: 2 | AD10: 0 | AE10: 1 | AF10: 0 | AG10: 1
A11: 8 | B11: Korn Jiří | C11: 8 | D11: 16 | E11: 4 | F11: 1 | J11: 1 | K11: 2 | L11: 1 | M11: 1 | O11: 1 | P11: 1 | AA11: 36 | AB11: 10 | AC11: 1 | AD11: 1 | AE11: 1 | AF11: 1 | AG11: 6
A12: 9 | B12: Zeman Oto | L12: 2 | M12: 16 | P12: 1 | Q12: 2 | R12: 1 | S12: 1 | T12: 8 | U12: 2 | V12: 1 | Z12: 2 | AA12: 36 | AB12: 10 | AC12: 1 | AD12: 1 | AE12: 0 | AF12: 4 | AG12: 4
A13: 10 | B13: Stojka Milan | C13: 16 | D13: 2 | E13: 2 | F13: 2 | G13: 1 | H13: 1 | I13: 2 | J13: 4 | K13: 1 | L13: 2 | M13: 1 | AA13: 34 | AB13: 11 | AC13: 1 | AD13: 0 | AE13: 1 | AF13: 5 | AG13: 4
A14: 11 | B14: Kavan Petr | N14: 1 | O14: 8 | P14: 4 | Q14: 4 | R14: 4 | S14: 4 | T14: 1 | U14: 4 | AA14: 30 | AB14: 8 | AC14: 0 | AD14: 1 | AE14: 5 | AF14: 0 | AG14: 2
A15: 12 | B15: Vančura Tomáš | S15: 2 | T15: 1 | V15: 1 | W15: 16 | X15: 4 | Y15: 1 | Z15: 4 | AA15: 29 | AB15: 7 | AC15: 1 | AD15: 0 | AE15: 2 | AF15: 1 | AG15: 3
A16: 13 | B16: Kratochvíl Josef | D16: 8 | E16: 2 | F16: 2 | G16: 4 | H16: 2 | I16: 4 | J16: 1 | K16: 1 | L16: 1 | M16: 1 | O16: 1 | Y16: 1 | Z16: 1 | AA16: 29 | AB16: 13 | AC16: 0 | AD16: 1 | AE16: 2 | AF16: 3 | AG16: 7
A17: 14 | B17: Kočí Ivan | C17: 2 | D17: 2 | E17: 2 | F17: 4 | G17: 4 | H17: 2 | I17: 1 | J17: 1 | L17: 1 | M17: 1 | N17: 1 | O17: 1 | P17: 1 | Q17: 1 | R17: 1 | S17: 1 | U17: 1 | V17: 1 | W17: 1 | AA17: 29 | AB17: 19 | AC17: 0 | AD17: 0 | AE17: 2 | AF17: 4 | AG17: 13
A18: 15 | B18: Bílek Rudolf | D18: 4 | E18: 8 | F18: 1 | G18: 1 | H18: 1 | I18: 1 | J18: 2 | K18: 1 | L18: 1 | M18: 1 | O18: 1 | P18: 1 | Q18: 1 | S18: 1 | V18: 2 | AA18: 27 | AB18: 15 | AC18: 0 | AD18: 1 | AE18: 1 | AF18: 2 | AG18: 11
A19: 16 | B19: Kadlec Bohdan | H19: 2 | I19: 2 | J19: 8 | K19: 4 | L19: 4 | M19: 2 | AA19: 22 | AB19: 6 | AC19: 0 | AD19: 1 | AE19: 2 | AF19: 3 | AG19: 0
A20: 17 | B20: Švaňa Milan | C20: 4 | D20: 1 | F20: 4 | G20: 8 | H20: 1 | I20: 1 | J20: 1 | K20: 1 | O20: 1 | AA20: 22 | AB20: 9 | AC20: 0 | AD20: 1 | AE20: 2 | AF20: 0 | AG20: 6
A21: 18 | B21: Pavlas Josef | D21: 2 | E21: 1 | F21: 2 | G21: 1 | H21: 1 | I21: 1 | J21: 1 | K21: 1 | L21: 1 | M21: 1 | N21: 1 | O21: 2 | R21: 1 | U21: 1 | V21: 1 | W21: 1 | X21: 1 | Z21: 2 | AA21: 22 | AB21: 18 | AC21: 0 | AD21: 0 | AE21: 0 | AF21: 4 | AG21: 14
A22: 19 | B22: Williams Heath | X22: 16 | Y22: 4 | AA22: 20 | AB22: 2 | AC22: 1 | AD22: 0 | AE22: 1 | AF22: 0 | AG22: 0
A23: 20 | B23: Vladyka Robin | O23: 1 | P23: 2 | R23: 1 | S23: 4 | T23: 2 | U23: 1 | V23: 2 | W23: 2 | X23: 2 | Y23: 2 | Z23: 1 | AA23: 20 | AB23: 11 | AC23: 0 | AD23: 0 | AE23: 1 | AF23: 6 | AG23: 4
A24: 21 | B24: Uremovič Željko | H24: 4 | I24: 8 | J24: 1 | K24: 2 | M24: 1 | N24: 2 | T24: 1 | AA24: 19 | AB24: 7 | AC24: 0 | AD24: 1 | AE24: 1 | AF24: 2 | AG24: 3
A25: 22 | B25: Žemlička Josef | G25: 2 | H25: 2 | I25: 1 | J25: 1 | K25: 2 | L25: 1 | M25: 1 | N25: 2 | O25: 1 | Q25: 1 | R25: 2 | S25: 1 | AA25: 17 | AB25: 12 | AC25: 0 | AD25: 0 | AE25: 0 | AF25: 5 | AG25: 7
A26: 23 | B26: Balan Arivukkannan | Y26: 16 | AA26: 16 | AB26: 1 | AC26: 1 | AD26: 0 | AE26: 0 | AF26: 0 | AG26: 0
A27: 24 | B27: Nohynek Dušan | T27: 16 | AA27: 16 | AB27: 1 | AC27: 1 | AD27: 0 | AE27: 0 | AF27: 0 | AG27: 0
A28: 25 | B28: Urbánek Tomáš | T28: 1 | U28: 8 | V28: 4 | W28: 2 | X28: 1 | AA28: 16 | AB28: 5 | AC28: 0 | AD28: 1 | AE28: 1 | AF28: 1 | AG28: 2
A29: 26 | B29: Tichý Jaroslav | G29: 1 | H29: 4 | I29: 4 | J29: 2 | K29: 4 | L29: 1 | AA29: 16 | AB29: 6 | AC29: 0 | AD29: 0 | AE29: 3 | AF29: 1 | AG29: 2
A30: 27 | B30: Hájek Vlastimil | C30: 2 | D30: 1 | H30: 1 | I30: 1 | J30: 1 | K30: 1 | L30: 2 | M30: 1 | O30: 1 | P30: 1 | Q30: 1 | U30: 1 | V30: 1 | W30: 1 | AA30: 16 | AB30: 14 | AC30: 0 | AD30: 0 | AE30: 0 | AF30: 2 | AG30: 12
A31: 28 | B31: Žalmanová Ilona | H31: 1 | I31: 1 | J31: 1 | K31: 1 | L31: 1 | M31: 1 | N31: 1 | O31: 1 | P31: 1 | Q31: 1 | R31: 1 | S31: 1 | T31: 1 | U31: 1 | W31: 1 | Z31: 1 | AA31: 16 | AB31: 16 | AC31: 0 | AD31: 0 | AE31: 0 | AF31: 0 | AG31: 16
A32: 29 | B32: Urban Vladimír | H32: 1 | I32: 1 | J32: 1 | K32: 1 | L32: 1 | M32: 1 | N32: 1 | O32: 1 | P32: 1 | Q32: 1 | R32: 1 | S32: 2 | T32: 1 | Z32: 1 | AA32: 15 | AB32: 14 | AC32: 0 | AD32: 0 | AE32: 0 | AF32: 1 | AG32: 13
A33: 30 | B33: Valentin František | H33: 8 | I33: 2 | J33: 1 | K33: 2 | Q33: 1 | AA33: 14 | AB33: 5 | AC33: 0 | AD33: 1 | AE33: 0 | AF33: 2 | AG33: 2
A34: 31 | B34: Walach Kristian | F34: 1 | H34: 1 | K34: 1 | L34: 1 | M34: 1 | N34: 1 | O34: 1 | P34: 1 | Q34: 2 | R34: 1 | S34: 1 | T34: 2 | AA34: 14 | AB34: 12 | AC34: 0 | AD34: 0 | AE34: 0 | AF34: 2 | AG34: 10
A35: 32 | B35: Jaborník Michal | L35: 1 | M35: 1 | N35: 1 | O35: 1 | P35: 1 | Q35: 1 | R35: 1 | S35: 1 | T35: 1 | V35: 1 | W35: 1 | X35: 1 | Z35: 1 | AA35: 13 | AB35: 13 | AC35: 0 | AD35: 0 | AE35: 0 | AF35: 0 | AG35: 13
A36: 33 | B36: Javůrek Jaroslav | O36: 1 | P36: 1 | Q36: 1 | R36: 1 | S36: 1 | T36: 1 | U36: 1 | V36: 1 | W36: 1 | X36: 1 | Y36: 1 | Z36: 1 | AA36: 12 | AB36: 12 | AC36: 0 | AD36: 0 | AE36: 0 | AF36: 0 | AG36: 12
A37: 34 | B37: Dončuk Jan | O37: 1 | P37: 1 | Q37: 1 | R37: 1 | S37: 1 | T37: 1 | U37: 1 | V37: 1 | W37: 1 | X37: 1 | Y37: 1 | Z37: 1 | AA37: 12 | AB37: 12 | AC37: 0 | AD37: 0 | AE37: 0 | AF37: 0 | AG37: 12
A38: 35 | B38: Jelínek Petr | T38: 2 | U38: 2 | W38: 1 | X38: 4 | Y38: 2 | AA38: 11 | AB38: 5 | AC38: 0 | AD38: 0 | AE38: 1 | AF38: 3 | AG38: 1
A39: 36 | B39: Mičkal Libor | L39: 1 | M39: 1 | N39: 2 | O39: 1 | P39: 4 | Q39: 1 | T39: 1 | AA39: 11 | AB39: 7 | AC39: 0 | AD39: 0 | AE39: 1 | AF39: 1 | AG39: 5
A40: 37 | B40: Hořeňovský Jaroslav | O40: 1 | P40: 1 | Q40: 1 | R40: 1 | S40: 1 | T40: 1 | U40: 1 | W40: 1 | X40: 1 | Y40: 1 | Z40: 1 | AA40: 11 | AB40: 11 | AC40: 0 | AD40: 0 | AE40: 0 | AF40: 0 | AG40: 11
A41: 38 | B41: Hochman Jindřich | L41: 1 | M41: 1 | O41: 1 | P41: 1 | Q41: 1 | R41: 1 | S41: 1 | T41: 1 | V41: 1 | W41: 1 | X41: 1 | AA41: 11 | AB41: 11 | AC41: 0 | AD41: 0 | AE41: 0 | AF41: 0 | AG41: 11
...

Sheet 9-ball
B2: ŽEBŘÍČEK 9-BALL | C2: Bodové hodnocení pro MR v poolových disciplínách - senioři 1999 - 2023 | AB2: POČET ODEHRANÝCH TURNAJŮ
B3: Jméno | C3: 1999 | D3: 2000 | E3: 2001 | F3: 2002 | G3: 2003 | H3: 2004 | I3: 2005 | J3: 2006 | K3: 2007 | L3: 2008 | M3: 2009 | N3: 2010 | O3: 2011 | P3: 2012 | Q3: 2013 | R3: 2014 | S3: 2015 | T3: 2016 | U3: 2017 | V3: 2018 | W3: 2019 | X3: 2021 | Y3: 2022 | Z3: 2023 | AA3: Body | AB3: Turnaje | AC3: *1* | AD3: *2* | AE3: *3*4* | AF3: *5-8* | AG3: * 9 +*
A4: 1 | B4: Halamka Pavel | C4: 2 | D4: 4 | E4: 4 | F4: 1 | G4: 4 | H4: 4 | I4: 4 | J4: 8 | K4: 2 | L4: 1 | M4: 1 | N4: 8 | O4: 2 | P4: 2 | Q4: 2 | R4: 2 | S4: 4 | T4: 2 | U4: 16 | V4: 4 | W4: 1 | X4: 4 | Y4: 8 | Z4: 2 | AA4: 92 | AB4: 24 | AC4: 1 | AD4: 3 | AE4: 8 | AF4: 8 | AG4: 4
A5: 2 | B5: Korn Jiří | C5: 16 | D5: 8 | E5: 2 | F5: 4 | H5: 16 | I5: 16 | J5: 2 | K5: 2 | L5: 1 | M5: 1 | N5: 1 | O5: 1 | P5: 1 | AA5: 71 | AB5: 13 | AC5: 3 | AD5: 1 | AE5: 1 | AF5: 3 | AG5: 5
A6: 3 | B6: Marič Márijo | L6: 8 | M6: 8 | O6: 4 | P6: 4 | R6: 16 | T6: 1 | V6: 4 | W6: 8 | Y6: 16 | Z6: 1 | AA6: 70 | AB6: 10 | AC6: 2 | AD6: 3 | AE6: 3 | AF6: 0 | AG6: 2
A7: 4 | B7: Zeman Oto | L7: 4 | M7: 16 | P7: 1 | Q7: 1 | R7: 2 | S7: 8 | T7: 1 | U7: 1 | V7: 16 | W7: 2 | X7: 16 | Y7: 1 | Z7: 1 | AA7: 70 | AB7: 13 | AC7: 3 | AD7: 1 | AE7: 1 | AF7: 2 | AG7: 6
A8: 5 | B8: Stojka Milan | C8: 4 | D8: 2 | E8: 4 | F8: 16 | G8: 16 | H8: 1 | I8: 2 | J8: 4 | K8: 4 | L8: 2 | AA8: 55 | AB8: 10 | AC8: 2 | AD8: 0 | AE8: 4 | AF8: 3 | AG8: 1
