Workbook

Sheet Titulek

Sheet Po rocích
A1: VÝSLEDKY MR SENIOŘI 1999 - 2023 TŘÍDĚNÍ: ročník/disciplína/umístění | E1: jméno | F1: klub | G1: umístění | H1: ročník | I1: disciplina | J1: body
E2: Stojka Milan | F2: BC Balabuška Praha | G2: 1 | H2: 1999 | I2: 8 | J2: 16
E3: Korn Jiří | F3: Harlequ´in Praha | G3: 2 | H3: 1999 | I3: 8 | J3: 8
E4: Halamka Pavel | F4: BC Harlequin Praha | G4: 3 | H4: 1999 | I4: 8 | J4: 4
E5: Švaňa Milan | F5: Řipská Praha | G5: 4 | H5: 1999 | I5: 8 | J5: 4
E6: Kohut | G6: 5 | H6: 1999 | I6: 8 | J6: 2
E7: Kočí Ivan | F7: Harlequ´in Roudnice | G7: 6 | H7: 1999 | I7: 8 | J7: 2
E8: Balský Karel | F8: BC Litomyšl | G8: 7 | H8: 1999 | I8: 8 | J8: 2
E9: Hájek Vlastimil | F9: Bio Systém Plzeň | G9: 8 | H9: 1999 | I9: 8 | J9: 2
E10: Korn Jiří | F10: Harlequ´in Praha | G10: 1 | H10: 1999 | I10: 9 | J10: 16
E11: Bílek Rudolf | F11: SK Billard Centrum Praha | G11: 2 | H11: 1999 | I11: 9 | J11: 8
E12: Švaňa Milan | F12: Řipská Praha | G12: 3 | H12: 1999 | I12: 9 | J12: 4
E13: Stojka Milan | F13: BC Balabuška Praha | G13: 4 | H13: 1999 | I13: 9 | J13: 4
E14: Kočí Ivan | F14: Harlequ´in Roudnice | G14: 5 | H14: 1999 | I14: 9 | J14: 2
E15: Zelinka | G15: 6 | H15: 1999 | I15: 9 | J15: 2
E16: Halamka Pavel | F16: BC Harlequin Praha | G16: 7 | H16: 1999 | I16: 9 | J16: 2
E17: Hájek Vlastimil | F17: Bio Systém Plzeň | G17: 8 | H17: 1999 | I17: 9 | J17: 2
E18: Halamka Pavel | F18: BC Harlequin Praha | G18: 1 | H18: 1999 | I18: 14 | J18: 16
E19: Stojka Milan | F19: BC Balabuška Praha | G19: 2 | H19: 1999 | I19: 14 | J19: 8
E20: Kočí Ivan | F20: Harlequ´in Roudnice | G20: 3 | H20: 1999 | I20: 14 | J20: 4
E21: Walach Kristian | F21: Delta Billiard Brno | G21: 4 | H21: 1999 | I21: 14 | J21: 4
E22: Korn Jiří | F22: Harlequ´in Praha | G22: 5 | H22: 1999 | I22: 14 | J22: 2
E23: Klatovský Jiří | F23: BC Liberec | G23: 6 | H23: 1999 | I23: 14 | J23: 2
E24: Bauer Zdeněk | F24: BC Arizona Loděnice | G24: 7 | H24: 1999 | I24: 14 | J24: 2
E25: Švaňa Milan | F25: Řipská Praha | G25: 8 | H25: 1999 | I25: 14 | J25: 2
E26: Korn Jiří | F26: Harlequ´in Praha | G26: 1 | H26: 2000 | I26: 8 | J26: 16
E27: Kratochvíl Josef | F27: Kratochvíl Nelahozeves | G27: 2 | H27: 2000 | I27: 8 | J27: 8
... E31: Kočí Ivan | F31: Harlequ´in Roudnice | G31: 6 | H31: 2000 | I31: 8 | J31: 2
E32: Horálek | G32: 7 | H32: 2000 | I32: 8 | J32: 2
E33: Pavlas Josef | F33: Harlequ´in Roudnice | G33: 8 | H33: 2000 | I33: 8 | J33: 2
E34: Škrhák Vladimír | F34: Tágo Brno | G34: 9 | H34: 2000 | I34: 8 | J34: 1
E35: Švaňa Milan | F35: Řipská Praha | G35: 10 | H35: 2000 | I35: 8 | J35: 1
E36: Bauer Zdeněk | F36: BC Arizona Loděnice | G36: 11 | H36: 2000 | I36: 8 | J36: 1
E37: Mlynařík J. | F37: BC Oplot | G37: 12 | H37: 2000 | I37: 8 | J37: 1
E38: Severa Martin | F38: Harlequin Praha | G38: 13 | H38: 2000 | I38: 8 | J38: 1
E39: Balský Karel | F39: BC Litomyšl | G39: 14 | H39: 2000 | I39: 8 | J39: 1
E40: Kohut | G40: 15 | H40: 2000 | I40: 8 | J40: 1
E41: Hájek Vlastimil | F41: Bio Systém Plzeň | G41: 16 | H41: 2000 | I41: 8 | J41: 1
E42: Škrhák Vladimír | F42: Tágo Brno | G42: 1 | H42: 2000 | I42: 9 | J42: 16
E43: Korn Jiří | F43: Harlequ´in Praha | G43: 2 | H43: 2000 | I43: 9 | J43: 8
E44: Halamka Pavel | F44: BC Harlequin Praha | G44: 3 | H44: 2000 | I44: 9 | J44: 4
E45: Krastochvíl | G45: 4 | H45: 2000 | I45: 9 | J45: 4
E46: Bílek Rudolf | F46: SK Billard Centrum Praha | G46: 5 | H46: 2000 | I46: 9 | J46: 2
E47: Klatovský Jiří | F47: BC Liberec | G47: 6 | H47: 2000 | I47: 9 | J47: 2
E48: Kočí Ivan | F48: Harlequ´in Praha | G48: 7 | H48: 2000 | I48: 9 | J48: 2
E49: Stojka Milan | F49: BC Balabuška Praha | G49: 8 | H49: 2000 | I49: 9 | J49: 2
E50: Malý Čeněk | F50: Bio Systém Plzeň | G50: 9 | H50: 2000 | I50: 9 | J50: 1
E51: Bauer Zdeněk | F51: BC Arizona Loděnice | G51: 10 | H51: 2000 | I51: 9 | J51: 1
E52: Švaňa Milan | F52: Řipská Praha | G52: 11 | H52: 2000 | I52: 9 | J52: 1
E53: Severa Martin | F53: Harlequin Praha | G53: 12 | H53: 2000 | I53: 9 | J53: 1
E54: Šíp Václav | F54: BC Oplot | G54: 13 | H54: 2000 | I54: 9 | J54: 1
E55: Hájek Vlastimil | F55: Bio Systém Plzeň | G55: 14 | H55: 2000 | I55: 9 | J55: 1
E56: Horálek | G56: 15 | H56: 2000 | I56: 9 | J56: 1
E57: Valentin František | F57: BC 2002 Praha | G57: 16 | H57: 2000 | I57: 9 | J57: 1
E58: Halamka Pavel | F58: BC Harlequin Praha | G58: 1 | H58: 2000 | I58: 14 | J58: 16
E59: Stojka Milan | F59: BC Balabuška Praha | G59: 2 | H59: 2000 | I59: 14 | J59: 8
E60: Walach Kristian | F60: Delta Billiard Brno | G60: 3 | H60: 2000 | I60: 14 | J60: 4
E61: Švaňa Milan | F61: Řipská Praha | G61: 4 | H61: 2000 | I61: 14 | J61: 4
E62: Bílek Rudolf | F62: SK Billard Centrum Praha | G62: 5 | H62: 2000 | I62: 14 | J62: 2
E63: Bauer Zdeněk | F63: BC Arizona Loděnice | G63: 6 | H63: 2000 | I63: 14 | J63: 2
E64: Kočí Ivan | F64: Harlequ´in Roudnice | G64: 7 | H64: 2000 | I64: 14 | J64: 2
E65: Korn Jiří | F65: Harlequ´in Praha | G65: 8 | H65: 2000 | I65: 14 | J65: 2
E66: Valentin František | F66: BC 2002 Praha | G66: 9 | H66: 2000 | I66: 14 | J66: 1
E67: Severa Martin | F67: Harlequin Praha | G67: 10 | H67: 2000 | I67: 14 | J67: 1
E68: Pavlas Josef | F68: Harlequ´in Roudnice | G68: 11 | H68: 2000 | I68: 14 | J68: 1
... E83: Balský Karel | F83: BC Litomyšl | G83: 10 | H83: 2001 | I83: 8 | J83: 1
E84: Horálek | G84: 11 | H84: 2001 | I84: 8 | J84: 1
E85: Kohut | G85: 12 | H85: 2001 | I85: 8 | J85: 1
E86: Bauer Zdeněk | F86: BC Arizona Loděnice | G86: 13 | H86: 2001 | I86: 8 | J86: 1
E87: Pavlas Josef | F87: Harlequ´in Roudnice | G87: 14 | H87: 2001 | I87: 8 | J87: 1
E88: Kormendy S. | F88: Harlequ´in Roudnice | G88: 15 | H88: 2001 | I88: 8 | J88: 1
E89: Duška | G89: 16 | H89: 2001 | I89: 8 | J89: 1
E90: Kočí Ivan | F90: Harlequ´in Roudnice | G90: 1 | H90: 2001 | I90: 9 | J90: 16
E91: Kratochvíl Josef | F91: Kratochvíl Nelahozeves | G91: 2 | H91: 2001 | I91: 9 | J91: 8
E92: Halamka Pavel | F92: BC Harlequin Praha | G92: 3 | H92: 2001 | I92: 9 | J92: 4
E93: Stojka Milan | F93: BC Balabuška Praha | G93: 4 | H93: 2001 | I93: 9 | J93: 4
E94: Korn Jiří | F94: Harlequ´in Praha | G94: 5 | H94: 2001 | I94: 9 | J94: 2
E95: Kohut | G95: 6 | H95: 2001 | I95: 9 | J95: 2
E96: Bauer Zdeněk | F96: BC Arizona Loděnice | G96: 7 | H96: 2001 | I96: 9 | J96: 2
E97: Švaňa Milan | F97: Řipská Praha | G97: 8 | H97: 2001 | I97: 9 | J97: 2
E98: Škrhák Vladimír | F98: Tágo Brno | G98: 9 | H98: 2001 | I98: 9 | J98: 1
E99: Pavlas Josef | F99: Harlequ´in Roudnice | G99: 10 | H99: 2001 | I99: 9 | J99: 1
E100: Hájek | G100: 11 | H100: 2001 | I100: 9 | J100: 1
E101: Tichý Jaroslav | F101: BC Renda Roudnice n/L. | G101: 12 | H101: 2001 | I101: 9 | J101: 1
E102: Šíp Václav | F102: BC Oplot | G102: 13 | H102: 2001 | I102: 9 | J102: 1
E103: Bílek Rudolf | F103: SK Billard Centrum Praha | G103: 14 | H103: 2001 | I103: 9 | J103: 1
E104: Klatovský Jiří | F104: BC Liberec | G104: 15 | H104: 2001 | I104: 9 | J104: 1
E105: Jelínek Bohuslav | F105: Harlequin Praha | G105: 16 | H105: 2001 | I105: 9 | J105: 1
E106: Halamka Pavel | F106: BC Harlequin Praha | G106: 1 | H106: 2001 | I106: 14 | J106: 16
E107: Stojka Milan | F107: BC Balabuška Praha | G107: 2 | H107: 2001 | I107: 14 | J107: 8
E108: Kočí Ivan | F108: Harlequ´in Roudnice | G108: 3 | H108: 2001 | I108: 14 | J108: 4
E109: Švaňa Milan | F109: Řipská Praha | G109: 4 | H109: 2001 | I109: 14 | J109: 4
E110: Kratochvíl Josef | F110: Kratochvíl Nelahozeves | G110: 5 | H110: 2001 | I110: 14 | J110: 2
E111: Bauer Zdeněk | F111: BC Arizona Loděnice | G111: 6 | H111: 2001 | I111: 14 | J111: 2
E112: Bílek Rudolf | F112: SK Billard Centrum Praha | G112: 7 | H112: 2001 | I112: 14 | J112: 2
E113: Urban Vladimír | F113: DUNS Benátky n/J. | G113: 8 | H113: 2001 | I113: 14 | J113: 2
E114: Wang | G114: 9 | H114: 2001 | I114: 14 | J114: 1
E115: Hrubec Miroslav | F115: BC Praha | G115: 10 | H115: 2001 | I115: 14 | J115: 1
E116: Pavlas Josef | F116: Harlequ´in Roudnice | G116: 11 | H116: 2001 | I116: 14 | J116: 1
E117: Jelínek Bohuslav | F117: Harlequin Praha | G117: 12 | H117: 2001 | I117: 14 | J117: 1
...

Sheet Po disciplinách
A1: VÝSLEDKY MR SENIOŘI 1999 - 2023 TŘÍDĚNÍ: disciplína/ročník/umístění | E1: jméno | F1: klub | G1: umístění | H1: ročník | I1: disciplina | J1: body
E2: Stojka Milan | F2: BC Balabuška Praha | G2: 1 | H2: 1999 | I2: 8 | J2: 16
E3: Korn Jiří | F3: Harlequ´in Praha | G3: 2 | H3: 1999 | I3: 8 | J3: 8
E4: Halamka Pavel | F4: BC Harlequin Praha | G4: 3 | H4: 1999 | I4: 8 | J4: 4
E5: Švaňa Milan | F5: Řipská Praha | G5: 4 | H5: 1999 | I5: 8 | J5: 4
E6: Kohut | G6: 5 | H6: 1999 | I6: 8 | J6: 2
E7: Kočí Ivan | F7: Harlequ´in Roudnice | G7: 6 | H7: 1999 | I7: 8 | J7: 2
E8: Balský Karel | F8: BC Litomyšl | G8: 7 | H8: 1999 | I8: 8 | J8: 2
E9: Hájek Vlastimil | F9: Bio Systém Plzeň | G9: 8 | H9: 1999 | I9: 8 | J9: 2
E10: Korn Jiří | F10: Harlequ´in Praha | G10: 1 | H10: 2000 | I10: 8 | J10: 16
E11: Kratochvíl Josef | F11: Kratochvíl Nelahozeves | G11: 2 | H11: 2000 | I11: 8 | J11: 8
E12: Halamka Pavel | F12: BC Harlequin Praha | G12: 3 | H12: 2000 | I12: 8 | J12: 4
E13: Bílek Rudolf | F13: SK Billard Centrum Praha | G13: 4 | H13: 2000 | I13: 8 | J13: 4
E14: Stojka Milan | F14: BC Balabuška Praha | G14: 5 | H14: 2000 | I14: 8 | J14: 2
E15: Kočí Ivan | F15: Harlequ´in Roudnice | G15: 6 | H15: 2000 | I15: 8 | J15: 2
E16: Horálek | G16: 7 | H16: 2000 | I16: 8 | J16: 2
E17: Pavlas Josef | F17: Harlequ´in Roudnice | G17: 8 | H17: 2000 | I17: 8 | J17: 2
E18: Škrhák Vladimír | F18: Tágo Brno | G18: 9 | H18: 2000 | I18: 8 | J18: 1
E19: Švaňa Milan | F19: Řipská Praha | G19: 10 | H19: 2000 | I19: 8 | J19: 1
E20: Bauer Zdeněk | F20: BC Arizona Loděnice | G20: 11 | H20: 2000 | I20: 8 | J20: 1
E21: Mlynařík J. | F21: BC Oplot | G21: 12 | H21: 2000 | I21: 8 | J21: 1
E22: Severa Martin | F22: Harlequin Praha | G22: 13 | H22: 2000 | I22: 8 | J22: 1
E23: Balský Karel | F23: BC Litomyšl | G23: 14 | H23: 2000 | I23: 8 | J23: 1
E24: Kohut | G24: 15 | H24: 2000 | I24: 8 | J24: 1
E25: Hájek Vlastimil | F25: Bio Systém Plzeň | G25: 16 | H25: 2000 | I25: 8 | J25: 1
E26: Halamka Pavel | F26: BC Harlequin Praha | G26: 1 | H26: 2001 | I26: 8 | J26: 16
E27: Bílek Rudolf | F27: SK Billard Centrum Praha | G27: 2 | H27: 2001 | I27: 8 | J27: 8
E28: Korn Jiří | F28: Harlequ´in Praha | G28: 3 | H28: 2001 | I28: 8 | J28: 4
E29: Škrhák Vladimír | F29: Tágo Brno | G29: 4 | H29: 2001 | I29: 8 | J29: 4
E30: Kratochvíl Josef | F30: Kratochvíl Nelahozeves | G30: 5 | H30: 2001 | I30: 8 | J30: 2
E31: Stojka Milan | F31: BC Balabuška Praha | G31: 6 | H31: 2001 | I31: 8 | J31: 2
E32: Kočí Ivan | F32: Harlequ´in Roudnice | G32: 7 | H32: 2001 | I32: 8 | J32: 2
E33: Klatovský Jiří | F33: BC Liberec | G33: 8 | H33: 2001 | I33: 8 | J33: 2
E34: Gratz Lumír | F34: Řipská Praha | G34: 9 | H34: 2001 | I34: 8 | J34: 1
E35: Balský Karel | F35: BC Litomyšl | G35: 10 | H35: 2001 | I35: 8 | J35: 1
E36: Horálek | G36: 11 | H36: 2001 | I36: 8 | J36: 1
E37: Kohut | G37: 12 | H37: 2001 | I37: 8 | J37: 1
E38: Bauer Zdeněk | F38: BC Arizona Loděnice | G38: 13 | H38: 2001 | I38: 8 | J38: 1
E39: Pavlas Josef | F39: Harlequ´in Roudnice | G39: 14 | H39: 2001 | I39: 8 | J39: 1
E40: Kormendy S. | F40: Harlequ´in Roudnice | G40: 15 | H40: 2001 | I40: 8 | J40: 1
E41: Duška | G41: 16 | H41: 2001 | I41: 8 | J41: 1
E42: Halamka Pavel | F42: BC Harlequin Praha | G42: 1 | H42: 2002 | I42: 8 | J42: 16
E43: Škrhák Vladimír | F43: Tágo Brno | G43: 2 | H43: 2002 | I43: 8 | J43: 8
E44: Kočí Ivan | F44: Harlequ´in Roudnice | G44: 3 | H44: 2002 | I44: 8 | J44: 4
E45: Švaňa Milan | F45: Řipská Praha | G45: 4 | H45: 2002 | I45: 8 | J45: 4
E46: Stojka Milan | F46: BC Balabuška Praha | G46: 5 | H46: 2002 | I46: 8 | J46: 2
E47: Pavlas Josef | F47: Harlequ´in Roudnice | G47: 6 | H47: 2002 | I47: 8 | J47: 2
E48: Kratochvíl Josef | F48: Kratochvíl Nelahozeves | G48: 7 | H48: 2002 | I48: 8 | J48: 2
E49: Pertl Antonín | F49: Arizona Loděnice | G49: 8 | H49: 2002 | I49: 8 | J49: 2
E50: Korn Jiří | F50: Harlequ´in Praha | G50: 9 | H50: 2002 | I50: 8 | J50: 1
E51: Bílek Rudolf | F51: SK Billard Centrum Praha | G51: 10 | H51: 2002 | I51: 8 | J51: 1
E52: Mlynařík J. | F52: BC Oplot | G52: 11 | H52: 2002 | I52: 8 | J52: 1
E53: Walach Kristian | F53: Delta Billiard Brno | G53: 12 | H53: 2002 | I53: 8 | J53: 1
... E811: Kočí Ivan | F811: Harlequ´in Roudnice | G811: 5 | H811: 1999 | I811: 9 | J811: 2
E812: Zelinka | G812: 6 | H812: 1999 | I812: 9 | J812: 2
E813: Halamka Pavel | F813: BC Harlequin Praha | G813: 7 | H813: 1999 | I813: 9 | J813: 2
E814: Hájek Vlastimil | F814: Bio Systém Plzeň | G814: 8 | H814: 1999 | I814: 9 | J814: 2
E815: Škrhák Vladimír | F815: Tágo Brno | G815: 1 | H815: 2000 | I815: 9 | J815: 16
E816: Korn Jiří | F816: Harlequ´in Praha | G816: 2 | H816: 2000 | I816: 9 | J816: 8
E817: Halamka Pavel | F817: BC Harlequin Praha | G817: 3 | H817: 2000 | I817: 9 | J817: 4
E818: Krastochvíl | G818: 4 | H818: 2000 | I818: 9 | J818: 4
E819: Bílek Rudolf | F819: SK Billard Centrum Praha | G819: 5 | H819: 2000 | I819: 9 | J819: 2
E820: Klatovský Jiří | F820: BC Liberec | G820: 6 | H820: 2000 | I820: 9 | J820: 2
E821: Kočí Ivan | F821: Harlequ´in Praha | G821: 7 | H821: 2000 | I821: 9 | J821: 2
E822: Stojka Milan | F822: BC Balabuška Praha | G822: 8 | H822: 2000 | I822: 9 | J822: 2
E823: Malý Čeněk | F823: Bio Systém Plzeň | G823: 9 | H823: 2000 | I823: 9 | J823: 1
E824: Bauer Zdeněk | F824: BC Arizona Loděnice | G824: 10 | H824: 2000 | I824: 9 | J824: 1
E825: Švaňa Milan | F825: Řipská Praha | G825: 11 | H825: 2000 | I825: 9 | J825: 1
E826: Severa Martin | F826: Harlequin Praha | G826: 12 | H826: 2000 | I826: 9 | J826: 1
E827: Šíp Václav | F827: BC Oplot | G827: 13 | H827: 2000 | I827: 9 | J827: 1
E828: Hájek Vlastimil | F828: Bio Systém Plzeň | G828: 14 | H828: 2000 | I828: 9 | J828: 1
E829: Horálek | G829: 15 | H829: 2000 | I829: 9 | J829: 1
E830: Valentin František | F830: BC 2002 Praha | G830: 16 | H830: 2000 | I830: 9 | J830: 1
E831: Kočí Ivan | F831: Harlequ´in Roudnice | G831: 1 | H831: 2001 | I831: 9 | J831: 16
E832: Kratochvíl Josef | F832: Kratochvíl Nelahozeves | G832: 2 | H832: 2001 | I832: 9 | J832: 8
E833: Halamka Pavel | F833: BC Harlequin Praha | G833: 3 | H833: 2001 | I833: 9 | J833: 4
E834: Stojka Milan | F834: BC Balabuška Praha | G834: 4 | H834: 2001 | I834: 9 | J834: 4
E835: Korn Jiří | F835: Harlequ´in Praha | G835: 5 | H835: 2001 | I835: 9 | J835: 2
E836: Kohut | G836: 6 | H836: 2001 | I836: 9 | J836: 2
E837: Bauer Zdeněk | F837: BC Arizona Loděnice | G837: 7 | H837: 2001 | I837: 9 | J837: 2
E838: Švaňa Milan | F838: Řipská Praha | G838: 8 | H838: 2001 | I838: 9 | J838: 2
E839: Škrhák Vladimír | F839: Tágo Brno | G839: 9 | H839: 2001 | I839: 9 | J839: 1
E840: Pavlas Josef | F840: Harlequ´in Roudnice | G840: 10 | H840: 2001 | I840: 9 | J840: 1
E841: Hájek | G841: 11 | H841: 2001 | I841: 9 | J841: 1
E842: Tichý Jaroslav | F842: BC Renda Roudnice n/L. | G842: 12 | H842: 2001 | I842: 9 | J842: 1
E843: Šíp Václav | F843: BC Oplot | G843: 13 | H843: 2001 | I843: 9 | J843: 1
E844: Bílek Rudolf | F844: SK Billard Centrum Praha | G844: 14 | H844: 2001 | I844: 9 | J844: 1
E845: Klatovský Jiří | F845: BC Liberec | G845: 15 | H845: 2001 | I845: 9 | J845: 1
E846: Jelínek Bohuslav | F846: Harlequin Praha | G846: 16 | H846: 2001 | I846: 9 | J846: 1
E847: Stojka Milan | F847: BC Balabuška Praha | G847: 1 | H847: 2002 | I847: 9 | J847: 16
E848: Pavlas Josef | F848: Harlequ´in Roudnice | G848: 2 | H848: 2002 | I848: 9 | J848: 8
E849: Korn Jiří | F849: Harlequ´in Praha | G849: 3 | H849: 2002 | I849: 9 | J849: 4
E850: Hájek Vlastimil | F850: Bio Systém Plzeň | G850: 4 | H850: 2002 | I850: 9 | J850: 4
E851: Bauer Zdeněk | F851: BC Arizona Loděnice | G851: 5 | H851: 2002 | I851: 9 | J851: 2
E852: Kratochvíl Josef | F852: Kratochvíl Nelahozeves | G852: 6 | H852: 2002 | I852: 9 | J852: 2
E853: Kočí Ivan | F853: Harlequ´in Roudnice | G853: 7 | H853: 2002 | I853: 9 | J853: 2
... E860: Tichý Jaroslav | F860: BC Renda Roudnice n/L. | G860: 14 | H860: 2002 | I860: 9 | J860: 1
E861: Zelinka | G861: 15 | H861: 2002 | I861: 9 | J861: 1
E862: Kormendy S. | F862: Harlequ´in Roudnice | G862: 16 | H862: 2002 | I862: 9 | J862: 1
E863: Stojka Milan | F863: BC Balabuška Praha | G863: 1 | H863: 2003 | I863: 9 | J863: 16
...

Sheet Po hráčích
A1: VÝSLEDKY MR SENIOŘI 1999 - 2023 TŘÍDĚNÍ: jméno/ročník/disciplína | E1: jméno | F1: klub | G1: umístění | H1: ročník | I1: disciplina | J1: body | M1: BODOVÝ ZISK Jmémo | N1: Počet turnajů | O1: 8-ball | P1: 9-ball | Q1: 10-ball | R1: 14.1 | S1: Celkem | T1: *1* | U1: *2* | V1: *3*4* | W1: *5-8* | X1: * 9 +* | Z1: BODOVACÍ TABULKA místo body
E2: Aust Jiří | F2: Renda Roudnice n/L. | G2: 2 | H2: 2013 | I2: 8 | J2: 8 | L2: 1 | M2: Halamka Pavel | N2: 84 | O2: 147 | P2: 92 | Q2: 35 | R2: 218 | S2: 492 | T2: 256 | U2: 120 | V2: 60 | W2: 36 | X2: 20 | Z2: 1 | AA2: 16
E3: Aust Jiří | F3: Renda Roudnice n/L. | G3: 3 | H3: 2013 | I3: 9 | J3: 4 | L3: 2 | M3: Marič Márijo | N3: 41 | O3: 60 | P3: 70 | Q3: 34 | R3: 78 | S3: 242 | T3: 96 | U3: 80 | V3: 44 | W3: 16 | X3: 6 | Z3: 2 | AA3: 8
E4: Aust Jiří | F4: Renda Roudnice n/L. | G4: 2 | H4: 2013 | I4: 10 | J4: 8 | L4: 3 | M4: Janata Jan | N4: 19 | O4: 65 | P4: 41 | Q4: 58 | R4: 28 | S4: 192 | T4: 160 | U4: 16 | V4: 8 | W4: 6 | X4: 2 | Z4: 3 - 4 | AA4: 4
E5: Aust Jiří | F5: Renda Roudnice n/L. | G5: 2 | H5: 2013 | I5: 14 | J5: 8 | L5: 4 | M5: Dorobant Slavomír | N5: 20 | O5: 42 | P5: 12 | Q5: 30 | R5: 104 | S5: 188 | T5: 144 | U5: 16 | V5: 20 | W5: 8 | X5: 0 | Z5: 5 - 8 | AA5: 2
E6: Aust Jiří | F6: Renda Roudnice n/L. | G6: 4 | H6: 2014 | I6: 9 | J6: 4 | L6: 5 | M6: Zeman Oto | N6: 45 | O6: 36 | P6: 70 | Q6: 25 | R6: 51 | S6: 182 | T6: 80 | U6: 24 | V6: 36 | W6: 28 | X6: 14 | Z6: 9 + | AA6: 1
E7: Aust Jiří | F7: Renda Roudnice n/L. | G7: 4 | H7: 2014 | I7: 10 | J7: 4 | L7: 6 | M7: Kokoška Petr | N7: 18 | O7: 56 | P7: 54 | Q7: 18 | R7: 20 | S7: 148 | T7: 112 | U7: 16 | V7: 8 | W7: 10 | X7: 2
E8: Aust Jiří | F8: Renda Roudnice n/L. | G8: 6 | H8: 2014 | I8: 14 | J8: 2 | L8: 7 | M8: Stojka Milan | N8: 32 | O8: 34 | P8: 55 | R8: 54 | S8: 143 | T8: 48 | U8: 40 | V8: 28 | W8: 20 | X8: 7
E9: Babka Standa | F9: Bouchalka Klatovy | G9: 26 | H9: 2006 | I9: 8 | J9: 1 | L9: 8 | M9: Kavan Petr | N9: 27 | O9: 30 | P9: 42 | Q9: 27 | R9: 37 | S9: 136 | T9: 48 | U9: 32 | V9: 40 | W9: 12 | X9: 4
E10: Babka Standa | F10: Bouchalka Klatovy | G10: 17 | H10: 2006 | I10: 9 | J10: 1 | L10: 9 | M10: Vladyka Robin | N10: 46 | O10: 20 | P10: 42 | Q10: 50 | R10: 22 | S10: 134 | T10: 32 | U10: 24 | V10: 32 | W10: 26 | X10: 20
E11: Babka Standa | F11: Bouchalka Klatovy | G11: 17 | H11: 2007 | I11: 8 | J11: 1 | L11: 10 | M11: Vančura Tomáš | N11: 28 | O11: 29 | P11: 42 | Q11: 30 | R11: 25 | S11: 126 | T11: 48 | U11: 24 | V11: 36 | W11: 10 | X11: 8
E12: Balan Arivukkannan | F12: SK Delta Billiard Brno | G12: 1 | H12: 2022 | I12: 8 | J12: 16 | L12: 11 | M12: Škrhák Vladimír | N12: 65 | O12: 51 | P12: 43 | Q12: 12 | R12: 17 | S12: 123 | T12: 32 | U12: 8 | V12: 16 | W12: 18 | X12: 49
E13: Balan Arivukkannan | F13: SK Delta Billiard Brno | G13: 17 | H13: 2022 | I13: 10 | J13: 1 | L13: 12 | M13: Korn Jiří | N13: 32 | O13: 36 | P13: 71 | Q13: 1 | R13: 11 | S13: 119 | T13: 64 | U13: 16 | V13: 8 | W13: 14 | X13: 17
E14: Balský Karel | F14: BC Litomyšl | G14: 7 | H14: 1999 | I14: 8 | J14: 2 | L14: 13 | M14: Bílek Rudolf | N14: 54 | O14: 27 | P14: 47 | Q14: 6 | R14: 26 | S14: 106 | U14: 24 | V14: 24 | W14: 26 | X14: 32
E15: Balský Karel | F15: BC Litomyšl | G15: 14 | H15: 2000 | I15: 8 | J15: 1 | L15: 14 | M15: Kočí Ivan | N15: 56 | O15: 29 | P15: 42 | Q15: 4 | R15: 26 | S15: 101 | T15: 16 | V15: 28 | W15: 18 | X15: 39
E16: Balský Karel | F16: BC Litomyšl | G16: 16 | H16: 2000 | I16: 14 | J16: 1 | L16: 15 | M16: Rush Andrew | N16: 15 | O16: 37 | P16: 20 | Q16: 15 | R16: 22 | S16: 94 | T16: 64 | U16: 8 | V16: 12 | W16: 6 | X16: 4
E17: Balský Karel | F17: BC Litomyšl | G17: 10 | H17: 2001 | I17: 8 | J17: 1 | L17: 16 | M17: Pavlas Josef | N17: 55 | O17: 22 | P17: 23 | Q17: 7 | R17: 26 | S17: 78 | U17: 16 | W17: 18 | X17: 44
E18: Balský Karel | F18: BC Litomyšl | G18: 33 | H18: 2004 | I18: 8 | J18: 1 | L18: 17 | M18: Kratochvíl Josef | N18: 38 | O18: 29 | P18: 28 | Q18: 1 | R18: 17 | S18: 75 | U18: 24 | V18: 12 | W18: 14 | X18: 25
E19: Balský Karel | F19: BC Litomyšl | G19: 18 | H19: 2004 | I19: 9 | J19: 1 | L19: 18 | M19: Urban Vladimír | N19: 60 | O19: 15 | P19: 24 | Q19: 14 | R19: 21 | S19: 74 | V19: 4 | W19: 22 | X19: 48
E20: Balský Karel | F20: BC Litomyšl | G20: 17 | H20: 2004 | I20: 14 | J20: 1 | L20: 19 | M20: Kadlec Bohdan | N20: 18 | O20: 22 | P20: 17 | R20: 25 | S20: 64 | U20: 32 | V20: 16 | W20: 12 | X20: 4
E21: Balský Karel | F21: BC Litomyšl | G21: 9 | H21: 2005 | I21: 8 | J21: 1 | L21: 20 | M21: Švaňa Milan | N21: 31 | O21: 22 | P21: 13 | Q21: 2 | R21: 26 | S21: 63 | U21: 8 | V21: 24 | W21: 14 | X21: 17
E22: Balský Karel | F22: BC Litomyšl | G22: 29 | H22: 2005 | I22: 9 | J22: 1 | L22: 21 | M22: Žalmanová Ilona | N22: 54 | O22: 16 | P22: 17 | Q22: 11 | R22: 12 | S22: 56 | W22: 4 | X22: 52
E23: Balský Karel | F23: BC Litomyšl | G23: 24 | H23: 2007 | I23: 8 | J23: 1 | L23: 22 | M23: Mrňák Jan | N23: 16 | O23: 9 | P23: 10 | Q23: 23 | R23: 12 | S23: 54 | T23: 16 | U23: 16 | V23: 4 | W23: 12 | X23: 6
E24: Balský Karel | F24: Billiard Centrum Litomyšl | G24: 30 | H24: 2008 | I24: 8 | J24: 1 | L24: 23 | M24: Walach Kristian | N24: 36 | O24: 14 | P24: 13 | Q24: 8 | R24: 15 | S24: 50 | V24: 12 | W24: 10 | X24: 28
E25: Balský Karel | F25: Billiard Centrum Litomyšl | G25: 25 | H25: 2009 | I25: 8 | J25: 1 | L25: 24 | M25: Williams Heath | N25: 6 | O25: 20 | P25: 2 | Q25: 20 | R25: 8 | S25: 50 | T25: 32 | U25: 8 | V25: 8 | W25: 2 | X25: 0
E26: Balský Karel | F26: Billiard Centrum Litomyšl | G26: 18 | H26: 2009 | I26: 14 | J26: 1 | L26: 25 | M26: Žemlička Josef | N26: 40 | O26: 17 | P26: 13 | Q26: 6 | R26: 14 | S26: 50 | V26: 4 | W26: 14 | X26: 32
E27: Bauer Zdeněk | F27: BC Arizona Loděnice | G27: 7 | H27: 1999 | I27: 14 | J27: 2 | L27: 26 | M27: Hořeňovský Jaroslav | N27: 45 | O27: 11 | P27: 12 | Q27: 12 | R27: 10 | S27: 45 | W27: 0 | X27: 45
E28: Bauer Zdeněk | F28: BC Arizona Loděnice | G28: 11 | H28: 2000 | I28: 8 | J28: 1 | L28: 27 | M28: Dončuk Jan | N28: 44 | O28: 12 | P28: 11 | Q28: 12 | R28: 9 | S28: 44 | W28: 0 | X28: 44
E29: Bauer Zdeněk | F29: BC Arizona Loděnice | G29: 10 | H29: 2000 | I29: 9 | J29: 1 | L29: 28 | M29: Javůrek Jaroslav | N29: 44 | O29: 12 | P29: 12 | Q29: 12 | R29: 8 | S29: 44 | W29: 0 | X29: 44
E30: Bauer Zdeněk | F30: BC Arizona Loděnice | G30: 6 | H30: 2000 | I30: 14 | J30: 2 | L30: 29 | M30: Nohynek Dušan | N30: 4 | O30: 16 | P30: 8 | Q30: 16 | R30: 4 | S30: 44 | T30: 32 | U30: 8 | V30: 4 | W30: 0 | X30: 0
E31: Bauer Zdeněk | F31: BC Arizona Loděnice | G31: 13 | H31: 2001 | I31: 8 | J31: 1 | L31: 30 | M31: Jaborník Michal | N31: 37 | O31: 13 | P31: 12 | Q31: 11 | R31: 6 | S31: 42 | V31: 4 | W31: 4 | X31: 34
E32: Bauer Zdeněk | F32: BC Arizona Loděnice | G32: 7 | H32: 2001 | I32: 9 | J32: 2 | L32: 31 | M32: Suchánek Jan | N32: 7 | O32: 6 | P32: 10 | Q32: 4 | R32: 20 | S32: 40 | T32: 16 | U32: 8 | V32: 12 | W32: 4 | X32: 0
E33: Bauer Zdeněk | F33: BC Arizona Loděnice | G33: 6 | H33: 2001 | I33: 14 | J33: 2 | L33: 32 | M33: Tichý Jaroslav | N33: 20 | O33: 16 | P33: 10 | R33: 13 | S33: 39 | V33: 16 | W33: 14 | X33: 9
E34: Bauer Zdeněk | F34: BC Arizona Loděnice | G34: 14 | H34: 2002 | I34: 8 | J34: 1 | L34: 33 | M34: Aust Jiří | N34: 7 | O34: 8 | P34: 8 | Q34: 12 | R34: 10 | S34: 38 | U34: 24 | V34: 12 | W34: 2 | X34: 0
E35: Bauer Zdeněk | F35: BC Arizona Loděnice | G35: 5 | H35: 2002 | I35: 9 | J35: 2 | L35: 34 | M35: Hájek Vlastimil | N35: 31 | O35: 16 | P35: 15 | Q35: 2 | R35: 5 | S35: 38 | V35: 4 | W35: 8 | X35: 26
E36: Bauer Zdeněk | F36: BC Arizona Loděnice | G36: 10 | H36: 2002 | I36: 14 | J36: 1 | L36: 35 | M36: Bauer Zdeněk | N36: 27 | O36: 9 | P36: 13 | R36: 15 | S36: 37 | W36: 20 | X36: 17
E37: Bauer Zdeněk | F37: BC Arizona Loděnice | G37: 13 | H37: 2003 | I37: 9 | J37: 1 | L37: 36 | M37: Valentin František | N37: 15 | O37: 14 | P37: 17 | R37: 6 | S37: 37 | U37: 16 | V37: 4 | W37: 10 | X37: 7
E38: Bauer Zdeněk | F38: BC Arizona Loděnice | G38: 12 | H38: 2003 | I38: 14 | J38: 1 | L38: 37 | M38: Hochman Jindřich | N38: 36 | O38: 11 | P38: 10 | Q38: 8 | R38: 7 | S38: 36 | W38: 0 | X38: 36
E39: Bauer Zdeněk | F39: BC Arizona Loděnice | G39: 19 | H39: 2004 | I39: 8 | J39: 1 | L39: 38 | M39: Uremovič Željko | N39: 20 | O39: 19 | P39: 5 | Q39: 1 | R39: 11 | S39: 36 | U39: 8 | V39: 8 | W39: 6 | X39: 14
E40: Bauer Zdeněk | F40: BC Arizona Loděnice | G40: 5 | H40: 2004 | I40: 9 | J40: 2 | L40: 39 | M40: Urbánek Tomáš | N40: 17 | O40: 16 | P40: 11 | Q40: 8 | S40: 35 | U40: 8 | V40: 4 | W40: 16 | X40: 7
E41: Bauer Zdeněk | F41: BC Arizona Loděnice | G41: 5 | H41: 2004 | I41: 14 | J41: 2 | L41: 40 | M41: Růčka Radek | N41: 6 | O41: 2 | P41: 18 | Q41: 2 | R41: 12 | S41: 34 | T41: 16 | U41: 8 | V41: 4 | W41: 6 | X41: 0
E42: Bauer Zdeněk | F42: BC Arizona Loděnice | G42: 22 | H42: 2005 | I42: 8 | J42: 1 | L42: 41 | M42: Lottring Richard | N42: 11 | O42: 3 | P42: 21 | Q42: 2 | R42: 7 | S42: 33 | T42: 16 | V42: 4 | W42: 8 | X42: 5
E43: Bauer Zdeněk | F43: BC Arizona Loděnice | G43: 16 | H43: 2005 | I43: 9 | J43: 1 | L43: 42 | M43: Kníže Martin | N43: 21 | O43: 7 | P43: 10 | Q43: 9 | R43: 6 | S43: 32 | V43: 4 | W43: 16 | X43: 12
E44: Bauer Zdeněk | F44: BC Arizona Loděnice | G44: 5 | H44: 2005 | I44: 14 | J44: 2 | L44: 43 | M44: Mičkal Libor | N44: 23 | O44: 11 | P44: 9 | Q44: 3 | R44: 9 | S44: 32 | V44: 4 | W44: 12 | X44: 16
E45: Bauer Zdeněk | F45: BC Arizona Loděnice | G45: 7 | H45: 2006 | I45: 8 | J45: 2 | L45: 44 | M45: Frejka Jiří | N45: 30 | O45: 8 | P45: 9 | Q45: 7 | R45: 7 | S45: 31 | W45: 2 | X45: 29
E46: Bauer Zdeněk | F46: BC Arizona Loděnice | G46: 16 | H46: 2006 | I46: 9 | J46: 1 | L46: 45 | M46: Zuklín Petr | N46: 30 | O46: 9 | P46: 8 | Q46: 9 | R46: 5 | S46: 31 | W46: 2 | X46: 29
E47: Bauer Zdeněk | F47: BC Arizona Loděnice | G47: 14 | H47: 2006 | I47: 14 | J47: 1 | L47: 46 | M47: Beleš Pavol | N47: 30 | O47: 9 | P47: 11 | Q47: 10 | S47: 30 | W47: 0 | X47: 30
E48: Bauer Zdeněk | F48: BC Arizona Loděnice | G48: 16 | H48: 2007 | I48: 8 | J48: 1 | L48: 47 | M48: Klatovský Jiří | N48: 23 | O48: 10 | P48: 9 | R48: 9 | S48: 28 | W48: 10 | X48: 18
E49: Bauer Zdeněk | F49: BC Arizona Loděnice | G49: 8 | H49: 2007 | I49: 9 | J49: 2 | L49: 48 | M49: Pertl Antonín | N49: 24 | O49: 10 | P49: 6 | R49: 10 | S49: 26 | W49: 4 | X49: 22
E50: Bauer Zdeněk | F50: BC Arizona Loděnice | G50: 16 | H50: 2007 | I50: 14 | J50: 1 | L50: 49 | M50: Smutný Petr | N50: 14 | O50: 9 | P50: 3 | Q50: 13 | S50: 25 | U50: 8 | V50: 4 | W50: 2 | X50: 11
E51: Bauer Zdeněk | F51: BC Arizona Loděnice | G51: 13 | H51: 2008 | I51: 8 | J51: 1 | L51: 50 | M51: Žalman Miloš | N51: 25 | O51: 9 | P51: 8 | Q51: 1 | R51: 7 | S51: 25 | W51: 0 | X51: 25
E52: Bauer Zdeněk | F52: BC Arizona Loděnice | G52: 13 | H52: 2008 | I52: 9 | J52: 1 | L52: 51 | M52: Božovský Robert | N52: 23 | O52: 8 | P52: 8 | Q52: 6 | R52: 2 | S52: 24 | W52: 2 | X52: 22
E53: Bauer Zdeněk | F53: BC Arizona Loděnice | G53: 21 | H53: 2008 | I53: 14 | J53: 1 | L53: 52 | M53: Hercík Karel | N53: 23 | O53: 8 | P53: 8 | Q53: 1 | R53: 7 | S53: 24 | W53: 2 | X53: 22
E54: Beleš Pavol | F54: BC Balabuška Praha | G54: 37 | H54: 2012 | I54: 8 | J54: 1 | L54: 53 | M54: Kraušner Miroslav | N54: 6 | O54: 2 | P54: 2 | Q54: 8 | R54: 12 | S54: 24 | U54: 8 | V54: 12 | W54: 4 | X54: 0
E55: Beleš Pavol | F55: BC Balabuška Praha | G55: 22 | H55: 2012 | I55: 9 | J55: 1 | L55: 54 | M55: Pilný Pavel | N55: 3 | O55: 8 | P55: 8 | Q55: 8 | S55: 24 | U55: 24 | W55: 0 | X55: 0
E56: Beleš Pavol | F56: BC Balabuška Praha | G56: 26 | H56: 2012 | I56: 10 | J56: 1 | L56: 55 | M56: Jelínek Petr | N56: 12 | O56: 11 | P56: 5 | Q56: 7 | S56: 23 | V56: 8 | W56: 10 | X56: 5
E57: Beleš Pavol | F57: BC Balabuška Praha | G57: 20 | H57: 2013 | I57: 8 | J57: 1 | L57: 56 | M57: Krauskopf Ivo | N57: 21 | O57: 5 | P57: 5 | Q57: 4 | R57: 8 | S57: 22 | W57: 2 | X57: 20
E58: Beleš Pavol | F58: BC Balabuška Praha | G58: 12 | H58: 2013 | I58: 9 | J58: 1 | L58: 57 | M58: Severa Martin | N58: 22 | O58: 10 | P58: 9 | R58: 3 | S58: 22 | W58: 0 | X58: 22
E59: Beleš Pavol | F59: BC Balabuška Praha | G59: 20 | H59: 2013 | I59: 10 | J59: 1 | L59: 58 | M59: Měcháček Michal | N59: 19 | O59: 5 | P59: 5 | Q59: 6 | R59: 5 | S59: 21 | W59: 4 | X59: 17
E60: Beleš Pavol | F60: BC Balabuška Praha | G60: 21 | H60: 2014 | I60: 8 | J60: 1 | L60: 59 | M60: Pavlasová Miloslava | N60: 21 | O60: 7 | P60: 7 | R60: 7 | S60: 21 | W60: 0 | X60: 21
E61: Beleš Pavol | F61: BC Balabuška Praha | G61: 39 | H61: 2014 | I61: 9 | J61: 1 | L61: 60 | M61: Dupraz Serge | N61: 14 | O61: 7 | P61: 4 | Q61: 6 | R61: 2 | S61: 19 | V61: 4 | W61: 4 | X61: 11
E62: Beleš Pavol | F62: BC Balabuška Praha | G62: 25 | H62: 2014 | I62: 10 | J62: 1 | L62: 61 | M62: Novotný Tomáš | N62: 19 | O62: 3 | P62: 7 | Q62: 8 | R62: 1 | S62: 19 | W62: 0 | X62: 19
E63: Beleš Pavol | F63: BC Balabuška Praha | G63: 24 | H63: 2015 | I63: 8 | J63: 1 | L63: 62 | M63: Suchánek Tomáš | N63: 11 | O63: 9 | P63: 5 | Q63: 2 | R63: 3 | S63: 19 | V63: 4 | W63: 10 | X63: 5
E64: Beleš Pavol | F64: BC Balabuška Praha | G64: 18 | H64: 2015 | I64: 9 | J64: 1 | L64: 63 | M64: Weber Pavel | N64: 12 | O64: 6 | P64: 5 | Q64: 6 | R64: 2 | S64: 19 | V64: 8 | W64: 2 | X64: 9
E65: Beleš Pavol | F65: BC Balabuška Praha | G65: 33 | H65: 2015 | I65: 10 | J65: 1 | L65: 64 | M65: Mokrousov Mykola | N65: 16 | O65: 4 | P65: 5 | Q65: 4 | R65: 5 | S65: 18 | W65: 4 | X65: 14
E66: Beleš Pavol | F66: BC Balabuška Praha | G66: 28 | H66: 2016 | I66: 8 | J66: 1 | L66: 65 | M66: Žaludek Karel | N66: 9 | O66: 4 | P66: 6 | R66: 8 | S66: 18 | V66: 8 | W66: 6 | X66: 4
E67: Beleš Pavol | F67: BC Balabuška Praha | G67: 34 | H67: 2016 | I67: 9 | J67: 1 | L67: 66 | M67: Balan Arivukkannan | N67: 2 | O67: 16 | Q67: 1 | S67: 17 | T67: 16 | W67: 0 | X67: 1
E68: Beleš Pavol | F68: BC Balabuška Praha | G68: 27 | H68: 2016 | I68: 10 | J68: 1 | L68: 67 | M68: Náhlík Tomáš | N68: 9 | O68: 8 | P68: 3 | Q68: 2 | R68: 4 | S68: 17 | V68: 4 | W68: 10 | X68: 3
E69: Beleš Pavol | F69: Billiard Club Balabuška, z.s. | G69: 28 | H69: 2017 | I69: 9 | J69: 1 | L69: 68 | M69: Kaslová Květa | N69: 16 | O69: 8 | P69: 8 | S69: 16 | W69: 0 | X69: 16
E70: Beleš Pavol | F70: Billiard Club Balabuška, z.s. | G70: 21 | H70: 2017 | I70: 10 | J70: 1 | L70: 69 | M70: Jech Pavel | N70: 13 | O70: 5 | P70: 8 | Q70: 2 | S70: 15 | W70: 4 | X70: 11
E71: Beleš Pavol | F71: Billiard Club Balabuška, z.s. | G71: 27 | H71: 2018 | I71: 8 | J71: 1 | L71: 70 | M71: Kotršál František | N71: 9 | O71: 9 | P71: 3 | Q71: 3 | S71: 15 | V71: 4 | W71: 6 | X71: 5
E72: Beleš Pavol | F72: Billiard Club Balabuška, z.s. | G72: 18 | H72: 2018 | I72: 9 | J72: 1 | L72: 71 | M72: Michálek Petr | N72: 15 | O72: 5 | P72: 4 | Q72: 4 | R72: 2 | S72: 15 | W72: 0 | X72: 15
E73: Beleš Pavol | F73: Billiard Club Balabuška, z.s. | G73: 31 | H73: 2018 | I73: 10 | J73: 1 | L73: 72 | M73: Balský Karel | N73: 13 | O73: 9 | P73: 2 | R73: 3 | S73: 14 | W73: 2 | X73: 12
E74: Beleš Pavol | F74: Billiard Club Balabuška, z.s. | G74: 28 | H74: 2019 | I74: 8 | J74: 1 | L74: 73 | M74: Burda Martin | N74: 10 | O74: 5 | P74: 3 | R74: 6 | S74: 14 | W74: 8 | X74: 6
E75: Beleš Pavol | F75: Billiard Club Balabuška, z.s. | G75: 9 | H75: 2019 | I75: 9 | J75: 1 | L75: 74 | M75: Kadlec Pavel | N75: 13 | O75: 4 | P75: 2 | Q75: 4 | R75: 4 | S75: 14 | W75: 2 | X75: 12
E76: Beleš Pavol | F76: Billiard Club Balabuška, z.s. | G76: 19 | H76: 2019 | I76: 10 | J76: 1 | L76: 75 | M76: Kotěra Jan | N76: 6 | O76: 4 | Q76: 10 | S76: 14 | V76: 8 | W76: 4 | X76: 2
E77: Beleš Pavol | F77: Billiard Club Balabuška, z.s. | G77: 18 | H77: 2021 | I77: 9 | J77: 1 | L77: 76 | M77: Skrbek Jiří | N77: 14 | O77: 5 | P77: 4 | Q77: 4 | R77: 1 | S77: 14 | W77: 0 | X77: 14
E78: Beleš Pavol | F78: Sportovní klub Divočáci z Mníšku, z.s. | G78: 17 | H78: 2022 | I78: 8 | J78: 1 | L78: 77 | M78: Štich Václav | N78: 14 | O78: 7 | P78: 7 | S78: 14 | W78: 0 | X78: 14
E79: Beleš Pavol | F79: Sportovní klub Divočáci z Mníšku, z.s. | G79: 28 | H79: 2022 | I79: 9 | J79: 1 | L79: 78 | M79: Štorch Milan | N79: 14 | O79: 7 | P79: 7 | S79: 14 | W79: 0 | X79: 14
E80: Beleš Pavol | F80: Sportovní klub Divočáci z Mníšku, z.s. | G80: 14 | H80: 2022 | I80: 10 | J80: 1 | L80: 79 | M80: Zůna Jiří | N80: 8 | O80: 3 | P80: 3 | Q80: 3 | R80: 5 | S80: 14 | V80: 4 | W80: 6 | X80: 4
E81: Beleš Pavol | F81: Sportovní klub Divočáci z Mníšku, z.s. | G81: 31 | H81: 2023 | I81: 8 | J81: 1 | L81: 80 | M81: Egner Alexandr | N81: 13 | O81: 7 | P81: 3 | Q81: 3 | S81: 13 | W81: 0 | X81: 13
E82: Beleš Pavol | F82: Sportovní klub Divočáci z Mníšku, z.s. | G82: 19 | H82: 2023 | I82: 9 | J82: 1 | L82: 81 | M82: Kesnerová Valentina | N82: 13 | O82: 4 | P82: 4 | R82: 5 | S82: 13 | W82: 0 | X82: 13
E83: Beleš Pavol | F83: Sportovní klub Divočáci z Mníšku, z.s. | G83: 12 | H83: 2023 | I83: 10 | J83: 1 | L83: 82 | M83: Lener Jaroslav | N83: 12 | O83: 5 | P83: 2 | Q83: 6 | S83: 13 | W83: 2 | X83: 11
E84: Bene Robert | F84: BC Harlequin Praha | G84: 48 | H84: 2016 | I84: 8 | J84: 1 | L84: 83 | M84: Paťcha Robert | N84: 13 | O84: 5 | P84: 2 | Q84: 4 | R84: 2 | S84: 13 | W84: 0 | X84: 13
E85: Bene Robert | F85: BC Harlequin Praha | G85: 24 | H85: 2016 | I85: 9 | J85: 1 | L85: 84 | M85: Brancuský Petr | N85: 12 | O85: 5 | P85: 1 | Q85: 3 | R85: 3 | S85: 12 | W85: 0 | X85: 12
E86: Bene Robert | F86: BC Harlequin Praha | G86: 24 | H86: 2016 | I86: 10 | J86: 1 | L86: 85 | M86: Jadrný Roman | N86: 12 | O86: 4 | P86: 3 | Q86: 5 | S86: 12 | W86: 0 | X86: 12
E87: Bene Robert | F87: BC Harlequin Praha | G87: 21 | H87: 2016 | I87: 14 | J87: 1 | L87: 86 | M87: Illner Petr | N87: 11 | O87: 4 | P87: 4 | R87: 3 | S87: 11 | W87: 0 | X87: 11
E88: Bene Robert | F88: BC Harlequin Praha | G88: 31 | H88: 2017 | I88: 8 | J88: 1 | L88: 87 | M88: Mikeš Jaroslav | N88: 11 | O88: 4 | P88: 3 | Q88: 2 | R88: 2 | S88: 11 | W88: 0 | X88: 11
E89: Bene Robert | F89: BC Harlequin Praha | G89: 14 | H89: 2017 | I89: 9 | J89: 1 | L89: 88 | M89: Štych Jiří | N89: 11 | O89: 4 | P89: 5 | R89: 2 | S89: 11 | W89: 0 | X89: 11
E90: Bene Robert | F90: BC Harlequin Praha | G90: 12 | H90: 2017 | I90: 10 | J90: 1 | L90: 89 | M90: Diviš Pavel | N90: 10 | O90: 2 | P90: 2 | Q90: 4 | R90: 2 | S90: 10 | W90: 0 | X90: 10
E91: Bílek Rudolf | F91: SK Billard Centrum Praha | G91: 2 | H91: 1999 | I91: 9 | J91: 8 | L91: 90 | M91: Hamáček Jaroslav | N91: 10 | O91: 5 | P91: 2 | Q91: 3 | S91: 10 | W91: 0 | X91: 10
E92: Bílek Rudolf | F92: SK Billard Centrum Praha | G92: 4 | H92: 2000 | I92: 8 | J92: 4 | L92: 91 | M92: Louda Luboš | N92: 10 | O92: 2 | P92: 5 | Q92: 2 | R92: 1 | S92: 10 | W92: 0 | X92: 10
E93: Bílek Rudolf | F93: SK Billard Centrum Praha | G93: 5 | H93: 2000 | I93: 9 | J93: 2 | L93: 92 | M93: Šafařík Jan | N93: 4 | O93: 1 | P93: 5 | Q93: 4 | S93: 10 | V93: 8 | W93: 0 | X93: 2
E94: Bílek Rudolf | F94: SK Billard Centrum Praha | G94: 5 | H94: 2000 | I94: 14 | J94: 2 | L94: 93 | M94: Škodný Josef | N94: 10 | O94: 4 | P94: 1 | Q94: 4 | R94: 1 | S94: 10 | W94: 0 | X94: 10
E95: Bílek Rudolf | F95: SK Billard Centrum Praha | G95: 2 | H95: 2001 | I95: 8 | J95: 8 | L95: 94 | M95: Téma Libor | N95: 10 | O95: 4 | P95: 2 | Q95: 1 | R95: 3 | S95: 10 | W95: 0 | X95: 10
E96: Bílek Rudolf | F96: SK Billard Centrum Praha | G96: 14 | H96: 2001 | I96: 9 | J96: 1 | L96: 95 | M96: Vajner David | N96: 6 | O96: 5 | P96: 1 | Q96: 2 | R96: 2 | S96: 10 | V96: 4 | W96: 2 | X96: 4
E97: Bílek Rudolf | F97: SK Billard Centrum Praha | G97: 7 | H97: 2001 | I97: 14 | J97: 2 | L97: 96 | M97: Doležal Pavel | N97: 9 | O97: 5 | Q97: 4 | S97: 9 | W97: 0 | X97: 9
E98: Bílek Rudolf | F98: SK Billard Centrum Praha | G98: 10 | H98: 2002 | I98: 8 | J98: 1 | L98: 97 | M98: Hečko Karel | N98: 9 | O98: 3 | P98: 3 | Q98: 2 | R98: 1 | S98: 9 | W98: 0 | X98: 9
E99: Bílek Rudolf | F99: SK Billard Centrum Praha | G99: 8 | H99: 2002 | I99: 9 | J99: 2 | L99: 98 | M99: Hrubec Miroslav | N99: 8 | O99: 5 | P99: 2 | R99: 2 | S99: 9 | W99: 2 | X99: 7
E100: Bílek Rudolf | F100: SK Billard Centrum Praha | G100: 13 | H100: 2002 | I100: 14 | J100: 1 | L100: 99 | M100: Nikolič Srdan | N100: 8 | O100: 3 | P100: 3 | Q100: 1 | R100: 2 | S100: 9 | W100: 2 | X100: 7
...

Sheet Medaile
A1: VÝSLEDKY MR SENIOŘI 1999 - 2023 TŘÍDĚNÍ: umístění/jméno/ročník | E1: jméno | F1: klub | G1: umístění | H1: ročník | I1: disciplina | J1: body | M1: MEDAILE Jméno | N1: *1* | O1: *2* | P1: *3+4* | Q1: Počet
E2: Aust Jiří | F2: Renda Roudnice n/L. | G2: 2 | H2: 2013 | I2: 8 | J2: 8 | L2: 1 | M2: Halamka Pavel | N2: 16 | O2: 15 | P2: 15 | Q2: 46
E3: Aust Jiří | F3: Renda Roudnice n/L. | G3: 3 | H3: 2013 | I3: 9 | J3: 4 | L3: 2 | M3: Janata Jan | N3: 10 | O3: 2 | P3: 2 | Q3: 14
E4: Aust Jiří | F4: Renda Roudnice n/L. | G4: 2 | H4: 2013 | I4: 10 | J4: 8 | L4: 3 | M4: Dorobant Slavomír | N4: 9 | O4: 2 | P4: 5 | Q4: 16
E5: Aust Jiří | F5: Renda Roudnice n/L. | G5: 2 | H5: 2013 | I5: 14 | J5: 8 | L5: 4 | M5: Kokoška Petr | N5: 7 | O5: 2 | P5: 2 | Q5: 11
E6: Aust Jiří | F6: Renda Roudnice n/L. | G6: 4 | H6: 2014 | I6: 9 | J6: 4 | L6: 5 | M6: Marič Márijo | N6: 6 | O6: 10 | P6: 11 | Q6: 27
E7: Aust Jiří | F7: Renda Roudnice n/L. | G7: 4 | H7: 2014 | I7: 10 | J7: 4 | L7: 6 | M7: Zeman Oto | N7: 5 | O7: 3 | P7: 9 | Q7: 17
E8: Balan Arivukkannan | F8: SK Delta Billiard Brno | G8: 1 | H8: 2022 | I8: 8 | J8: 16 | L8: 7 | M8: Korn Jiří | N8: 4 | O8: 2 | P8: 2 | Q8: 8
E9: Bílek Rudolf | F9: SK Billard Centrum Praha | G9: 2 | H9: 1999 | I9: 9 | J9: 8 | L9: 8 | M9: Rush Andrew | N9: 4 | O9: 1 | P9: 3 | Q9: 8
E10: Bílek Rudolf | F10: SK Billard Centrum Praha | G10: 4 | H10: 2000 | I10: 8 | J10: 4 | L10: 9 | M10: Stojka Milan | N10: 3 | O10: 5 | P10: 7 | Q10: 15
E11: Bílek Rudolf | F11: SK Billard Centrum Praha | G11: 2 | H11: 2001 | I11: 8 | J11: 8 | L11: 10 | M11: Kavan Petr | N11: 3 | O11: 4 | P11: 10 | Q11: 17
E12: Bílek Rudolf | F12: SK Billard Centrum Praha | G12: 4 | H12: 2003 | I12: 9 | J12: 4 | L12: 11 | M12: Vančura Tomáš | N12: 3 | O12: 3 | P12: 9 | Q12: 15
E13: Bílek Rudolf | F13: SK Billard Centrum Praha | G13: 2 | H13: 2004 | I13: 9 | J13: 8 | L13: 12 | M13: Vladyka Robin | N13: 2 | O13: 3 | P13: 8 | Q13: 13
... E19: Dorobant Slavomír | F19: BC Mladá Boleslav | G19: 4 | H19: 2013 | I19: 10 | J19: 4 | L19: 18 | M19: Růčka Radek | N19: 1 | O19: 1 | P19: 1 | Q19: 3
E20: Dorobant Slavomír | F20: BC Mladá Boleslav | G20: 1 | H20: 2013 | I20: 14 | J20: 16 | L20: 19 | M20: Kočí Ivan | N20: 1 | P20: 7 | Q20: 8
E21: Dorobant Slavomír | F21: BC Mladá Boleslav | G21: 1 | H21: 2014 | I21: 8 | J21: 16 | L21: 20 | M21: Lottring Richard | N21: 1 | P21: 1 | Q21: 2
E22: Dorobant Slavomír | F22: BC Mladá Boleslav | G22: 3 | H22: 2014 | I22: 9 | J22: 4 | L22: 21 | M22: Balan Arivukkannan | N22: 1 | Q22: 1
E23: Dorobant Slavomír | F23: BC Mladá Boleslav | G23: 1 | H23: 2014 | I23: 14 | J23: 16 | L23: 22 | M23: Kadlec Bohdan | O23: 4 | P23: 4 | Q23: 8
E24: Dorobant Slavomír | F24: BC Mnichovo Hradiště | G24: 1 | H24: 2015 | I24: 10 | J24: 16 | L24: 23 | M24: Bílek Rudolf | O24: 3 | P24: 6 | Q24: 9
E25: Dorobant Slavomír | F25: BC Mnichovo Hradiště | G25: 2 | H25: 2015 | I25: 14 | J25: 8 | L25: 24 | M25: Aust Jiří | O25: 3 | P25: 3 | Q25: 6
E26: Dorobant Slavomír | F26: BC Mnichovo Hradiště | G26: 3 | H26: 2016 | I26: 8 | J26: 4 | L26: 25 | M26: Kratochvíl Josef | O26: 3 | P26: 3 | Q26: 6
E27: Dorobant Slavomír | F27: BC Mnichovo Hradiště | G27: 3 | H27: 2016 | I27: 9 | J27: 4 | L27: 26 | M27: Pilný Pavel | O27: 3 | Q27: 3
E28: Dorobant Slavomír | F28: BC Mnichovo Hradiště | G28: 1 | H28: 2016 | I28: 14 | J28: 16 | L28: 27 | M28: Valentin František | O28: 2 | P28: 1 | Q28: 3
E29: Dorobant Slavomír | F29: BC Mnichovo Hradiště | G29: 1 | H29: 2021 | I29: 14 | J29: 16 | L29: 28 | M29: Pavlas Josef | O29: 2 | Q29: 2
E30: Dorobant Slavomír | F30: Řipská Billiard club | G30: 4 | H30: 2022 | I30: 9 | J30: 4 | L30: 29 | M30: Švaňa Milan | O30: 1 | P30: 6 | Q30: 7
E31: Dorobant Slavomír | F31: Řipská Billiard club | G31: 1 | H31: 2022 | I31: 14 | J31: 16 | L31: 30 | M31: Kraušner Miroslav | O31: 1 | P31: 3 | Q31: 4
E32: Dorobant Slavomír | F32: Řipská Billiard club | G32: 1 | H32: 2023 | I32: 8 | J32: 16 | L32: 31 | M32: Uremovič Željko | O32: 1 | P32: 2 | Q32: 3
E33: Dorobant Slavomír | F33: Řipská Billiard club | G33: 1 | H33: 2023 | I33: 14 | J33: 16 | L33: 32 | M33: Smutný Petr | O33: 1 | P33: 1 | Q33: 2
E34: Dupraz Serge | F34: Billiard Club Balabuška, z.s. | G34: 4 | H34: 2018 | I34: 8 | J34: 4 | L34: 33 | M34: Urbánek Tomáš | O34: 1 | P34: 1 | Q34: 2
E35: Fian Martin | F35: 1. Billiardový Club Děčín, z. s. | G35: 4 | H35: 2023 | I35: 8 | J35: 4 | L35: 34 | M35: Tichý Jaroslav | P35: 4 | Q35: 4
E36: Hájek Vlastimil | F36: Bio Systém Plzeň | G36: 4 | H36: 2002 | I36: 9 | J36: 4 | L36: 35 | M36: Walach Kristian | P36: 3 | Q36: 3
E37: Halamka Pavel | F37: BC Harlequin Praha | G37: 3 | H37: 1999 | I37: 8 | J37: 4 | L37: 36 | M37: Jelínek Petr | P37: 2 | Q37: 2
E38: Halamka Pavel | F38: BC Harlequin Praha | G38: 1 | H38: 1999 | I38: 14 | J38: 16 | L38: 37 | M38: Kotěra Jan | P38: 2 | Q38: 2
E39: Halamka Pavel | F39: BC Harlequin Praha | G39: 3 | H39: 2000 | I39: 8 | J39: 4 | L39: 38 | M39: Šafařík Jan | P39: 2 | Q39: 2
E40: Halamka Pavel | F40: BC Harlequin Praha | G40: 3 | H40: 2000 | I40: 9 | J40: 4 | L40: 39 | M40: Vizingr Miloš | P40: 2 | Q40: 2
E41: Halamka Pavel | F41: BC Harlequin Praha | G41: 1 | H41: 2000 | I41: 14 | J41: 16 | L41: 40 | M41: Weber Pavel | P41: 2 | Q41: 2
E42: Halamka Pavel | F42: BC Harlequin Praha | G42: 1 | H42: 2001 | I42: 8 | J42: 16 | L42: 41 | M42: Žaludek Karel | P42: 2 | Q42: 2
E43: Halamka Pavel | F43: BC Harlequin Praha | G43: 3 | H43: 2001 | I43: 9 | J43: 4 | L43: 42 | M43: Dupraz Serge | P43: 1 | Q43: 1
E44: Halamka Pavel | F44: BC Harlequin Praha | G44: 1 | H44: 2001 | I44: 14 | J44: 16 | L44: 43 | M44: Fian Martin | P44: 1 | Q44: 1
E45: Halamka Pavel | F45: BC Harlequin Praha | G45: 1 | H45: 2002 | I45: 8 | J45: 16 | L45: 44 | M45: Hájek Vlastimil | P45: 1 | Q45: 1
E46: Halamka Pavel | F46: BC Harlequin Praha | G46: 1 | H46: 2002 | I46: 14 | J46: 16 | L46: 45 | M46: Jaborník Michal | P46: 1 | Q46: 1
... E58: Halamka Pavel | F58: BC Harlequ´in Praha | G58: 1 | H58: 2007 | I58: 14 | J58: 16 | L58: 57 | M58: Žemlička Josef | P58: 1 | Q58: 1
E59: Halamka Pavel | F59: BC Harlequ´in Praha | G59: 2 | H59: 2008 | I59: 8 | J59: 8
E60: Halamka Pavel | F60: BC Harlequ´in Praha | G60: 1 | H60: 2008 | I60: 14 | J60: 16
E61: Halamka Pavel | F61: BC Harlequ´in Praha | G61: 2 | H61: 2009 | I61: 8 | J61: 8
E62: Halamka Pavel | F62: BC Harlequ´in Praha | G62: 2 | H62: 2009 | I62: 14 | J62: 8
E63: Halamka Pavel | F63: BC Harlequ´in Praha | G63: 2 | H63: 2010 | I63: 8 | J63: 8
E64: Halamka Pavel | F64: BC Harlequ´in Praha | G64: 2 | H64: 2010 | I64: 9 | J64: 8
E65: Halamka Pavel | F65: BC Harlequ´in Praha | G65: 3 | H65: 2011 | I65: 8 | J65: 4
E66: Halamka Pavel | F66: BC Harlequ´in Praha | G66: 4 | H66: 2011 | I66: 10 | J66: 4
E67: Halamka Pavel | F67: BC Harlequ´in Praha | G67: 2 | H67: 2011 | I67: 14 | J67: 8
E68: Halamka Pavel | F68: BC Harlequ´in Praha | G68: 2 | H68: 2012 | I68: 14 | J68: 8
E69: Halamka Pavel | F69: BC Harlequ´in Praha | G69: 4 | H69: 2013 | I69: 8 | J69: 4
E70: Halamka Pavel | F70: BC Harlequ´in Praha | G70: 3 | H70: 2013 | I70: 14 | J70: 4
... E155: Kotršál František | F155: Bar Bar Billiard Beroun z.s. | G155: 4 | H155: 2022 | I155: 8 | J155: 4
E156: Krastochvíl | G156: 4 | H156: 2000 | I156: 9 | J156: 4
E157: Kratochvíl Josef | F157: Kratochvíl Nelahozeves | G157: 2 | H157: 2000 | I157: 8 | J157: 8
E158: Kratochvíl Josef | F158: Kratochvíl Nelahozeves | G158: 2 | H158: 2001 | I158: 9 | J158: 8
E159: Kratochvíl Josef | F159: Kratochvíl Nelahozeves | G159: 3 | H159: 2003 | I159: 8 | J159: 4
E160: Kratochvíl Josef | F160: Kratochvíl Nelahozeves | G160: 2 | H160: 2003 | I160: 9 | J160: 8
E161: Kratochvíl Josef | F161: Kratochvíl Nelahozeves | G161: 3 | H161: 2005 | I161: 8 | J161: 4
E162: Kratochvíl Josef | F162: Beseda Lovosice | G162: 4 | H162: 2007 | I162: 14 | J162: 4
E163: Kraušner Miroslav | F163: BC Mnichovo Hradiště | G163: 3 | H163: 2015 | I163: 10 | J163: 4
E164: Kraušner Miroslav | F164: BC Mnichovo Hradiště | G164: 3 | H164: 2015 | I164: 14 | J164: 4
E165: Kraušner Miroslav | F165: BC Mnichovo Hradiště | G165: 3 | H165: 2016 | I165: 10 | J165: 4
E166: Kraušner Miroslav | F166: BC Mnichovo Hradiště | G166: 2 | H166: 2016 | I166: 14 | J166: 8
E167: Lottring Richard | F167: BC Balabuška Praha | G167: 1 | H167: 2010 | I167: 9 | J167: 16
E168: Lottring Richard | F168: BC Balabuška Praha | G168: 4 | H168: 2010 | I168: 14 | J168: 4
... E337: Žemlička Josef | F337: BC Arizona Loděnice | G337: 3 | H337: 2003 | I337: 14 | J337: 4

Sheet Bodování
B2: disciplina | C2: (Vše) | E2: BODOVÉ ZISKY ZA UMÍSTĚNÍ NA MR 1999 - 2023 PRO KATEGORII SENIOŘI
B4: BODOVÝ ZISK | C4: Rok
B5: Jméno | C5: 1999 | D5: 2000 | E5: 2001 | F5: 2002 | G5: 2003 | H5: 2004 | I5: 2005 | J5: 2006 | K5: 2007 | L5: 2008 | M5: 2009 | N5: 2010 | O5: 2011 | P5: 2012 | Q5: 2013 | R5: 2014 | S5: 2015 | T5: 2016 | U5: 2017 | V5: 2018 | W5: 2019 | X5: 2021 | Y5: 2022 | Z5: 2023 | AA5: Celkem
B6: Halamka Pavel | C6: 22 | D6: 24 | E6: 36 | F6: 33 | G6: 36 | H6: 21 | I6: 36 | J6: 25 | K6: 26 | L6: 25 | M6: 17 | N6: 18 | O6: 18 | P6: 13 | Q6: 11 | R6: 13 | S6: 15 | T6: 5 | U6: 26 | V6: 8 | W6: 6 | X6: 24 | Y6: 22 | Z6: 12 | AA6: 492
B7: Marič Márijo | L7: 28 | M7: 28 | N7: 12 | O7: 12 | P7: 14 | Q7: 2 | R7: 30 | T7: 5 | U7: 6 | V7: 36 | W7: 34 | Y7: 20 | Z7: 15 | AA7: 242
B8: Janata Jan | O8: 64 | P8: 50 | Q8: 44 | S8: 21 | T8: 13 | AA8: 192
B9: Dorobant Slavomír | P9: 10 | Q9: 22 | R9: 36 | S9: 26 | T9: 26 | X9: 16 | Y9: 20 | Z9: 32 | AA9: 188
B10: Zeman Oto | L10: 8 | M10: 36 | P10: 10 | Q10: 7 | R10: 9 | S10: 12 | T10: 11 | U10: 20 | V10: 25 | W10: 6 | X10: 22 | Y10: 3 | Z10: 13 | AA10: 182
B11: Kokoška Petr | J11: 36 | K11: 40 | L11: 26 | M11: 6 | N11: 17 | O11: 6 | U11: 17 | AA11: 148
B12: Stojka Milan | C12: 28 | D12: 12 | E12: 14 | F12: 22 | G12: 25 | H12: 6 | I12: 12 | J12: 10 | K12: 6 | L12: 5 | M12: 3 | AA12: 143
B13: Kavan Petr | N13: 9 | O13: 21 | P13: 26 | Q13: 24 | R13: 36 | S13: 8 | T13: 3 | U13: 4 | V13: 5 | AA13: 136
B14: Vladyka Robin | O14: 12 | P14: 5 | Q14: 7 | R14: 4 | S14: 11 | T14: 6 | U14: 7 | V14: 28 | W14: 8 | X14: 9 | Y14: 12 | Z14: 25 | AA14: 134
B15: Vančura Tomáš | S15: 11 | T15: 19 | U15: 6 | V15: 2 | W15: 32 | X15: 15 | Y15: 11 | Z15: 30 | AA15: 126
B16: Škrhák Vladimír | D16: 17 | E16: 6 | F16: 10 | G16: 4 | H16: 19 | I16: 4 | J16: 7 | K16: 4 | L16: 4 | M16: 4 | N16: 3 | O16: 8 | P16: 3 | Q16: 6 | R16: 4 | S16: 2 | T16: 3 | U16: 3 | V16: 2 | W16: 3 | X16: 2 | Y16: 3 | Z16: 2 | AA16: 123
B17: Korn Jiří | C17: 26 | D17: 26 | E17: 6 | F17: 6 | G17: 1 | H17: 17 | I17: 18 | J17: 3 | K17: 4 | L17: 2 | M17: 2 | N17: 2 | O17: 4 | P17: 2 | AA17: 119
B18: Bílek Rudolf | C18: 8 | D18: 8 | E18: 11 | F18: 4 | G18: 7 | H18: 11 | I18: 5 | J18: 4 | K18: 9 | L18: 6 | M18: 6 | N18: 1 | O18: 4 | P18: 4 | Q18: 5 | R18: 2 | S18: 3 | T18: 2 | V18: 6 | AA18: 106
B19: Kočí Ivan | C19: 8 | D19: 6 | E19: 22 | F19: 10 | G19: 10 | H19: 6 | I19: 2 | J19: 3 | L19: 3 | M19: 3 | N19: 3 | O19: 3 | P19: 4 | Q19: 2 | R19: 3 | S19: 3 | T19: 2 | U19: 2 | V19: 3 | W19: 3 | AA19: 101
B20: Rush Andrew | S20: 34 | T20: 11 | U20: 30 | V20: 19 | AA20: 94
B21: Pavlas Josef | D21: 3 | E21: 3 | F21: 18 | G21: 3 | H21: 3 | I21: 4 | J21: 2 | K21: 3 | L21: 3 | M21: 3 | N21: 2 | O21: 4 | R21: 4 | U21: 5 | V21: 2 | W21: 5 | X21: 5 | Z21: 6 | AA21: 78
B22: Kratochvíl Josef | D22: 8 | E22: 12 | F22: 5 | G22: 14 | H22: 4 | I22: 6 | J22: 3 | K22: 6 | L22: 4 | M22: 3 | N22: 2 | O22: 3 | Y22: 3 | Z22: 2 | AA22: 75
B23: Urban Vladimír | E23: 2 | F23: 2 | G23: 1 | H23: 3 | I23: 3 | J23: 3 | K23: 4 | L23: 4 | M23: 4 | N23: 3 | O23: 4 | P23: 4 | Q23: 4 | R23: 5 | S23: 7 | T23: 4 | U23: 2 | V23: 2 | W23: 6 | X23: 3 | Y23: 2 | Z23: 2 | AA23: 74
B24: Kadlec Bohdan | H24: 11 | I24: 14 | J24: 18 | K24: 7 | L24: 6 | M24: 8 | AA24: 64
B25: Švaňa Milan | C25: 10 | D25: 6 | E25: 6 | F25: 7 | G25: 12 | H25: 6 | I25: 3 | J25: 3 | K25: 2 | L25: 1 | M25: 1 | N25: 1 | O25: 5 | AA25: 63
B26: Žalmanová Ilona | H26: 3 | I26: 3 | J26: 3 | K26: 3 | L26: 3 | M26: 3 | N26: 2 | O26: 4 | P26: 4 | Q26: 4 | R26: 4 | S26: 4 | T26: 4 | U26: 4 | W26: 3 | X26: 2 | Z26: 3 | AA26: 56
B27: Mrňák Jan | S27: 3 | T27: 6 | U27: 13 | V27: 12 | W27: 20 | AA27: 54
B28: Williams Heath | X28: 20 | Y28: 30 | AA28: 50
B29: Walach Kristian | C29: 4 | D29: 4 | F29: 2 | G29: 2 | H29: 4 | K29: 3 | L29: 3 | M29: 3 | N29: 3 | O29: 3 | P29: 2 | Q29: 6 | R29: 6 | S29: 2 | T29: 3 | AA29: 50
B30: Žemlička Josef | G30: 6 | H30: 4 | I30: 3 | J30: 3 | K30: 4 | L30: 3 | M30: 3 | N30: 3 | O30: 4 | P30: 3 | Q30: 5 | R30: 5 | S30: 4 | AA30: 50
B31: Hořeňovský Jaroslav | O31: 4 | P31: 4 | Q31: 4 | R31: 4 | S31: 4 | T31: 4 | U31: 4 | V31: 3 | W31: 4 | X31: 3 | Y31: 3 | Z31: 4 | AA31: 45
B32: Dončuk Jan | O32: 4 | P32: 4 | Q32: 4 | R32: 3 | S32: 4 | T32: 4 | U32: 4 | V32: 4 | W32: 4 | X32: 2 | Y32: 3 | Z32: 4 | AA32: 44
B33: Nohynek Dušan | T33: 44 | AA33: 44
B34: Javůrek Jaroslav | O34: 4 | P34: 4 | Q34: 4 | R34: 3 | S34: 4 | T34: 4 | U34: 3 | V34: 4 | W34: 4 | X34: 3 | Y34: 3 | Z34: 4 | AA34: 44
B35: Jaborník Michal | L35: 2 | M35: 3 | N35: 2 | O35: 4 | P35: 2 | Q35: 4 | R35: 3 | S35: 2 | T35: 3 | V35: 3 | W35: 3 | X35: 1 | Y35: 3 | Z35: 7 | AA35: 42
B36: Suchánek Jan | N36: 22 | P36: 18 | AA36: 40
B37: Tichý Jaroslav | E37: 1 | F37: 3 | G37: 5 | H37: 8 | I37: 9 | J37: 5 | K37: 6 | L37: 2 | AA37: 39
B38: Hájek Vlastimil | C38: 4 | D38: 2 | F38: 5 | G38: 1 | H38: 3 | I38: 3 | J38: 3 | K38: 3 | L38: 3 | M38: 2 | O38: 3 | P38: 1 | Q38: 1 | U38: 2 | V38: 1 | W38: 1 | AA38: 38
B39: Aust Jiří | Q39: 28 | R39: 10 | AA39: 38
B40: Valentin František | D40: 2 | H40: 11 | I40: 7 | J40: 5 | K40: 11 | Q40: 1 | AA40: 37
B41: Bauer Zdeněk | C41: 2 | D41: 4 | E41: 5 | F41: 4 | G41: 2 | H41: 5 | I41: 4 | J41: 4 | K41: 4 | L41: 3 | AA41: 37
B42: Uremovič Željko | H42: 5 | I42: 10 | J42: 3 | K42: 5 | M42: 6 | N42: 4 | T42: 3 | AA42: 36
B43: Hochman Jindřich | L43: 3 | M43: 3 | O43: 3 | P43: 4 | Q43: 3 | R43: 4 | S43: 3 | T43: 3 | U43: 3 | V43: 2 | W43: 2 | X43: 3 | AA43: 36
B44: Urbánek Tomáš | T44: 5 | U44: 12 | V44: 6 | W44: 5 | X44: 4 | Y44: 1 | Z44: 2 | AA44: 35
B45: Růčka Radek | V45: 10 | W45: 24 | AA45: 34
B46: Lottring Richard | M46: 5 | N46: 20 | O46: 5 | P46: 2 | Y46: 1 | AA46: 33
B47: Kníže Martin | U47: 4 | V47: 5 | W47: 6 | X47: 9 | Y47: 4 | Z47: 4 | AA47: 32
B48: Mičkal Libor | L48: 3 | M48: 4 | N48: 6 | O48: 4 | P48: 9 | Q48: 2 | T48: 3 | U48: 1 | AA48: 32
B49: Frejka Jiří | Q49: 2 | R49: 4 | S49: 4 | T49: 4 | U49: 4 | V49: 4 | W49: 5 | X49: 2 | Y49: 2 | AA49: 31
B50: Zuklín Petr | K50: 3 | L50: 1 | M50: 2 | N50: 1 | O50: 3 | P50: 3 | Q50: 3 | R50: 2 | S50: 1 | T50: 1 | U50: 3 | V50: 2 | W50: 2 | Z50: 4 | AA50: 31
B51: Beleš Pavol | P51: 3 | Q51: 3 | R51: 3 | S51: 3 | T51: 3 | U51: 2 | V51: 3 | W51: 3 | X51: 1 | Y51: 3 | Z51: 3 | AA51: 30
B52: Klatovský Jiří | C52: 2 | D52: 3 | E52: 3 | F52: 1 | G52: 3 | H52: 3 | I52: 4 | J52: 3 | K52: 3 | L52: 3 | AA52: 28
B53: Pertl Antonín | F53: 4 | G53: 2 | H53: 3 | I53: 3 | J53: 3 | K53: 3 | L53: 3 | M53: 3 | N53: 2 | AA53: 26
B54: Smutný Petr | P54: 2 | R54: 6 | S54: 9 | T54: 3 | U54: 2 | V54: 3 | AA54: 25
B55: Žalman Miloš | G55: 1 | H55: 3 | I55: 3 | J55: 3 | K55: 3 | L55: 3 | M55: 3 | N55: 1 | O55: 4 | U55: 1 | AA55: 25
B56: Hercík Karel | H56: 3 | I56: 3 | J56: 3 | K56: 3 | L56: 3 | M56: 3 | N56: 1 | O56: 5 | AA56: 24
B57: Božovský Robert | O57: 4 | P57: 2 | Q57: 3 | R57: 3 | T57: 3 | U57: 3 | V57: 2 | W57: 1 | X57: 2 | Y57: 1 | AA57: 24
B58: Pilný Pavel | X58: 24 | AA58: 24
B59: Kraušner Miroslav | S59: 8 | T59: 16 | AA59: 24
B60: Jelínek Petr | T60: 7 | U60: 5 | W60: 2 | X60: 6 | Y60: 3 | AA60: 23
B61: Severa Martin | D61: 3 | E61: 1 | G61: 1 | I61: 2 | J61: 1 | K61: 3 | L61: 2 | O61: 2 | P61: 2 | Q61: 1 | U61: 2 | W61: 2 | AA61: 22
B62: Krauskopf Ivo | L62: 3 | M62: 3 | N62: 2 | O62: 4 | P62: 5 | Q62: 2 | R62: 2 | S62: 1 | AA62: 22
B63: Měcháček Michal | R63: 4 | S63: 5 | T63: 5 | U63: 3 | Y63: 4 | AA63: 21
B64: Pavlasová Miloslava | D64: 1 | H64: 3 | I64: 2 | J64: 3 | K64: 3 | L64: 3 | M64: 3 | O64: 3 | AA64: 21
B65: Dupraz Serge | T65: 4 | U65: 1 | V65: 8 | W65: 2 | X65: 2 | Y65: 2 | AA65: 19
B66: Suchánek Tomáš | O66: 4 | P66: 3 | Q66: 5 | R66: 7 | AA66: 19
B67: Weber Pavel | U67: 3 | V67: 3 | W67: 11 | X67: 1 | Y67: 1 | AA67: 19
B68: Novotný Tomáš | O68: 4 | P68: 3 | Q68: 2 | R68: 3 | S68: 2 | T68: 2 | U68: 2 | V68: 1 | AA68: 19
B69: Mokrousov Mykola | S69: 4 | T69: 4 | U69: 4 | V69: 6 | AA69: 18
B70: Žaludek Karel | L70: 7 | M70: 3 | N70: 6 | O70: 2 | AA70: 18
B71: Balan Arivukkannan | Y71: 17 | AA71: 17
B72: Náhlík Tomáš | L72: 7 | M72: 4 | P72: 6 | AA72: 17
B73: Kaslová Květa | K73: 2 | L73: 2 | M73: 2 | O73: 2 | P73: 2 | Q73: 2 | R73: 2 | S73: 2 | AA73: 16
B74: Kotršál František | U74: 5 | X74: 3 | Y74: 4 | Z74: 3 | AA74: 15
B75: Jech Pavel | K75: 2 | L75: 1 | M75: 2 | N75: 3 | O75: 3 | Q75: 2 | T75: 2 | AA75: 15
B76: Michálek Petr | N76: 1 | O76: 3 | P76: 4 | Q76: 4 | R76: 1 | W76: 1 | Y76: 1 | AA76: 15
B77: Balský Karel | C77: 2 | D77: 2 | E77: 1 | H77: 3 | I77: 2 | K77: 1 | L77: 1 | M77: 2 | AA77: 14
B78: Štorch Milan | G78: 1 | H78: 2 | I78: 2 | J78: 2 | K78: 2 | L78: 2 | M78: 2 | N78: 1 | AA78: 14
B79: Štich Václav | K79: 2 | L79: 1 | M79: 2 | O79: 2 | P79: 2 | Q79: 2 | R79: 1 | S79: 2 | AA79: 14
B80: Kotěra Jan | X80: 5 | Y80: 6 | Z80: 3 | AA80: 14
B81: Skrbek Jiří | S81: 3 | T81: 3 | U81: 4 | V81: 3 | W81: 1 | AA81: 14
B82: Kadlec Pavel | R82: 4 | S82: 4 | U82: 2 | V82: 2 | W82: 2 | AA82: 14
B83: Burda Martin | T83: 2 | U83: 3 | V83: 4 | W83: 5 | AA83: 14
B84: Zůna Jiří | Y84: 10 | Z84: 4 | AA84: 14
B85: Paťcha Robert | U85: 2 | V85: 1 | W85: 2 | X85: 2 | Y85: 2 | Z85: 4 | AA85: 13
B86: Lener Jaroslav | S86: 3 | T86: 2 | U86: 3 | V86: 2 | W86: 3 | AA86: 13
B87: Egner Alexandr | N87: 1 | O87: 2 | P87: 2 | Q87: 1 | R87: 3 | S87: 2 | T87: 2 | AA87: 13
B88: Kesnerová Valentina | E88: 1 | I88: 3 | J88: 3 | K88: 3 | L88: 3 | AA88: 13
B89: Jadrný Roman | O89: 3 | P89: 3 | Q89: 3 | R89: 1 | S89: 2 | AA89: 12
B90: Brancuský Petr | S90: 1 | T90: 4 | U90: 3 | V90: 2 | W90: 2 | AA90: 12
B91: Štych Jiří | J91: 3 | K91: 2 | L91: 2 | M91: 3 | N91: 1 | AA91: 11
B92: Mikeš Jaroslav | Q92: 2 | R92: 3 | S92: 4 | T92: 2 | AA92: 11
B93: Illner Petr | K93: 3 | L93: 2 | M93: 3 | N93: 1 | R93: 2 | AA93: 11
B94: Škodný Josef | S94: 2 | T94: 2 | U94: 2 | V94: 4 | AA94: 10
B95: Téma Libor | O95: 3 | P95: 4 | Q95: 2 | R95: 1 | AA95: 10
B96: Diviš Pavel | P96: 4 | Q96: 3 | R96: 1 | S96: 2 | AA96: 10
B97: Louda Luboš | Q97: 3 | R97: 2 | S97: 2 | T97: 1 | V97: 1 | W97: 1 | AA97: 10
B98: Vajner David | R98: 3 | S98: 2 | U98: 4 | V98: 1 | AA98: 10
B99: Hamáček Jaroslav | P99: 2 | R99: 2 | S99: 2 | T99: 2 | U99: 2 | AA99: 10
B100: Šafařík Jan | U100: 6 | Z100: 4 | AA100: 10
B101: Vizingr Miloš | J101: 9 | AA101: 9
B102: Nikolič Srdan | X102: 4 | Y102: 3 | Z102: 2 | AA102: 9
...

Sheet Komentář
B2: Data na listu Bodování jsou uspořádána v kontingenční tabulce, která nabízí řadu pohledů na jejich obsah.
B3: - Řádky tabulky uvádějí historický seznam hráčů, kteří se na MR v průběhu let představili.
B4: - Sloupce tabulky uvádějí ročníky, v nichž se jednotlivá MR konala.
B5: - Každé pole tabulky uvádí celkový počet bodů, které daný hráč v daném roce na turnajích MR získal.
B6: - Závěrečný sloupec uvádí celkový součet bodů, které hráč na turnajích MR získal.
B8: Bodový zisk z turnaje MR odpovídá dosaženému pořadí hráče v turnaji.
B9: Za 1.místo se uděluje 16 bodů, za 2.místo je 8 bodů. Za účast v semifinále jsou 4 body.
B10: Za účast ve čtvrtfinále jsou 2 body, za umístění na dalších nístech je 1 bod.
B12: Uživatelsky lze volně upravovat zobrazený obsah tabulky pomocí nezávislých tří tlačítek:
B13: - Disciplína ▼: umožňuje zobrazit body buď za všechny disciplíny, nebo za vybranou z nich
B14: - Rok ▼: umožňuje potlačit zobrazení vybraných ročníků a zúžit tím zobrazenou tabulku
B15: - Jméno ▼: umožňuje potlačit zobrazení vybraných jmen a zkrátit tím zobrazenou tabulku
... B31: v případě potřeby lze list bez problémů odemknout. Doporučuji ale následně zase list zamknout!

Sheet Komplet
B2: ÚPLNÝ ŽEBŘÍČEK | C2: Bodové hodnocení pro MR v poolových disciplínách - senioři 1999 - 2023 | AB2: POČET ODEHRANÝCH TURNAJŮ
B3: Jméno | C3: 1999 | D3: 2000 | E3: 2001 | F3: 2002 | G3: 2003 | H3: 2004 | I3: 2005 | J3: 2006 | K3: 2007 | L3: 2008 | M3: 2009 | N3: 2010 | O3: 2011 | P3: 2012 | Q3: 2013 | R3: 2014 | S3: 2015 | T3: 2016 | U3: 2017 | V3: 2018 | W3: 2019 | X3: 2021 | Y3: 2022 | Z3: 2023 | AA3: Body | AB3: Turnaje | AC3: *1* | AD3: *2* | AE3: *3-4* | AF3: *5-8* | AG3: * 9 +*
A4: 1 | B4: Halamka Pavel | C4: 22 | D4: 24 | E4: 36 | F4: 33 | G4: 36 | H4: 21 | I4: 36 | J4: 25 | K4: 26 | L4: 25 | M4: 17 | N4: 18 | O4: 18 | P4: 13 | Q4: 11 | R4: 13 | S4: 15 | T4: 5 | U4: 26 | V4: 8 | W4: 6 | X4: 24 | Y4: 22 | Z4: 12 | AA4: 492 | AB4: =COUNTIF('Po hráčích'!$E$2:$E$2440,B4) -> 84 | AC4: =COUNTIFS('Po hráčích'!$E$2:$E$2440,B4,'Po hráčích'!$J$2:$J$2440,16) -> 16 | AD4: =COUNTIFS('Po hráčích'!$E$2:$E$2440,B4,'Po hráčích'!$J$2:$J$2440,8) -> 15 | AE4: =COUNTIFS('Po hráčích'!$E$2:$E$2440,B4,'Po hráčích'!$J$2:$J$2440,4) -> 15 | AF4: =COUNTIFS('Po hráčích'!$E$2:$E$2440,B4,'Po hráčích'!$J$2:$J$2440,2) -> 18 | AG4: =COUNTIFS('Po hráčích'!$E$2:$E$2440,B4,'Po hráčích'!$J$2:$J$2440,1) -> 20
A5: 2 | B5: Marič Márijo | L5: 28 | M5: 28 | N5: 12 | O5: 12 | P5: 14 | Q5: 2 | R5: 30 | T5: 5 | U5: 6 | V5: 36 | W5: 34 | Y5: 20 | Z5: 15 | AA5: 242 | AB5: =COUNTIF('Po hráčích'!$E$2:$E$2440,B5) -> 41 | AC5: =COUNTIFS('Po hráčích'!$E$2:$E$2440,B5,'Po hráčích'!$J$2:$J$2440,16) -> 6 | AD5: =COUNTIFS('Po hráčích'!$E$2:$E$2440,B5,'Po hráčích'!$J$2:$J$2440,8) -> 10 | AE5: =COUNTIFS('Po hráčích'!$E$2:$E$2440,B5,'Po hráčích'!$J$2:$J$2440,4) -> 11 | AF5: =COUNTIFS('Po hráčích'!$E$2:$E$2440,B5,'Po hráčích'!$J$2:$J$2440,2) -> 8 | AG5: =COUNTIFS('Po hráčích'!$E$2:$E$2440,B5,'Po hráčích'!$J$2:$J$2440,1) -> 6
A6: 3 | B6: Janata Jan | O6: 64 | P6: 50 | Q6: 44 | S6: 21 | T6: 13 | AA6: 192 | AB6: =COUNTIF('Po hráčích'!$E$2:$E$2440,B6) -> 19 | AC6: =COUNTIFS('Po hráčích'!$E$2:$E$2440,B6,'Po hráčích'!$J$2:$J$2440,16) -> 10 | AD6: =COUNTIFS('Po hráčích'!$E$2:$E$2440,B6,'Po hráčích'!$J$2:$J$2440,8) -> 2 | AE6: =COUNTIFS('Po hráčích'!$E$2:$E$2440,B6,'Po hráčích'!$J$2:$J$2440,4) -> 2 | AF6: =COUNTIFS('Po hráčích'!$E$2:$E$2440,B6,'Po hráčích'!$J$2:$J$2440,2) -> 3 | AG6: =COUNTIFS('Po hráčích'!$E$2:$E$2440,B6,'Po hráčích'!$J$2:$J$2440,1) -> 2
A7: 4 | B7: Dorobant Slavomír | P7: 10 | Q7: 22 | R7: 36 | S7: 26 | T7: 26 | X7: 16 | Y7: 20 | Z7: 32 | AA7: 188 | AB7: =COUNTIF('Po hráčích'!$E$2:$E$2440,B7) -> 20 | AC7: =COUNTIFS('Po hráčích'!$E$2:$E$2440,B7,'Po hráčích'!$J$2:$J$2440,16) -> 9 | AD7: =COUNTIFS('Po hráčích'!$E$2:$E$2440,B7,'Po hráčích'!$J$2:$J$2440,8) -> 2 | AE7: =COUNTIFS('Po hráčích'!$E$2:$E$2440,B7,'Po hráčích'!$J$2:$J$2440,4) -> 5 | AF7: =COUNTIFS('Po hráčích'!$E$2:$E$2440,B7,'Po hráčích'!$J$2:$J$2440,2) -> 4 | AG7: =COUNTIFS('Po hráčích'!$E$2:$E$2440,B7,'Po hráčích'!$J$2:$J$2440,1) -> 0
A8: 5 | B8: Zeman Oto | L8: 8 | M8: 36 | P8: 10 | Q8: 7 | R8: 9 | S8: 12 | T8: 11 | U8: 20 | V8: 25 | W8: 6 | X8: 22 | Y8: 3 | Z8: 13 | AA8: 182 | AB8: =COUNTIF('Po hráčích'!$E$2:$E$2440,B8) -> 45 | AC8: =COUNTIFS('Po hráčích'!$E$2:$E$2440,B8,'Po hráčích'!$J$2:$J$2440,16) -> 5 | AD8: =COUNTIFS('Po hráčích'!$E$2:$E$2440,B8,'Po hráčích'!$J$2:$J$2440,8) -> 3 | AE8: =COUNTIFS('Po hráčích'!$E$2:$E$2440,B8,'Po hráčích'!$J$2:$J$2440,4) -> 9 | AF8: =COUNTIFS('Po hráčích'!$E$2:$E$2440,B8,'Po hráčích'!$J$2:$J$2440,2) -> 14 | AG8: =COUNTIFS('Po hráčích'!$E$2:$E$2440,B8,'Po hráčích'!$J$2:$J$2440,1) -> 14
A9: 6 | B9: Kokoška Petr | J9: 36 | K9: 40 | L9: 26 | M9: 6 | N9: 17 | O9: 6 | U9: 17 | AA9: 148 | AB9: =COUNTIF('Po hráčích'!$E$2:$E$2440,B9) -> 18 | AC9: =COUNTIFS('Po hráčích'!$E$2:$E$2440,B9,'Po hráčích'!$J$2:$J$2440,16) -> 7 | AD9: =COUNTIFS('Po hráčích'!$E$2:$E$2440,B9,'Po hráčích'!$J$2:$J$2440,8) -> 2 | AE9: =COUNTIFS('Po hráčích'!$E$2:$E$2440,B9,'Po hráčích'!$J$2:$J$2440,4) -> 2 | AF9: =COUNTIFS('Po hráčích'!$E$2:$E$2440,B9,'Po hráčích'!$J$2:$J$2440,2) -> 5 | AG9: =COUNTIFS('Po hráčích'!$E$2:$E$2440,B9,'Po hráčích'!$J$2:$J$2440,1) -> 2
A10: 7 | B10: Stojka Milan | C10: 28 | D10: 12 | E10: 14 | F10: 22 | G10: 25 | H10: 6 | I10: 12 | J10: 10 | K10: 6 | L10: 5 | M10: 3 | AA10: 143 | AB10: =COUNTIF('Po hráčích'!$E$2:$E$2440,B10) -> 32 | AC10: =COUNTIFS('Po hráčích'!$E$2:$E$2440,B10,'Po hráčích'!$J$2:$J$2440,16) -> 3 | AD10: =COUNTIFS('Po hráčích'!$E$2:$E$2440,B10,'Po hráčích'!$J$2:$J$2440,8) -> 5 | AE10: =COUNTIFS('Po hráčích'!$E$2:$E$2440,B10,'Po hráčích'!$J$2:$J$2440,4) -> 7 | AF10: =COUNTIFS('Po hráčích'!$E$2:$E$2440,B10,'Po hráčích'!$J$2:$J$2440,2) -> 10 | AG10: =COUNTIFS('Po hráčích'!$E$2:$E$2440,B10,'Po hráčích'!$J$2:$J$2440,1) -> 7
A11: 8 | B11: Kavan Petr | N11: 9 | O11: 21 | P11: 26 | Q11: 24 | R11: 36 | S11: 8 | T11: 3 | U11: 4 | V11: 5 | AA11: 136 | AB11: =COUNTIF('Po hráčích'!$E$2:$E$2440,B11) -> 27 | AC11: =COUNTIFS('Po hráčích'!$E$2:$E$2440,B11,'Po hráčích'!$J$2:$J$2440,16) -> 3 | AD11: =COUNTIFS('Po hráčích'!$E$2:$E$2440,B11,'Po hráčích'!$J$2:$J$2440,8) -> 4 | AE11: =COUNTIFS('Po hráčích'!$E$2:$E$2440,B11,'Po hráčích'!$J$2:$J$2440,4) -> 10 | AF11: =COUNTIFS('Po hráčích'!$E$2:$E$2440,B11,'Po hráčích'!$J$2:$J$2440,2) -> 6 | AG11: =COUNTIFS('Po hráčích'!$E$2:$E$2440,B11,'Po hráčích'!$J$2:$J$2440,1) -> 4
A12: 9 | B12: Vladyka Robin | O12: 12 | P12: 5 | Q12: 7 | R12: 4 | S12: 11 | T12: 6 | U12: 7 | V12: 28 | W12: 8 | X12: 9 | Y12: 12 | Z12: 25 | AA12: 134 | AB12: =COUNTIF('Po hráčích'!$E$2:$E$2440,B12) -> 46 | AC12: =COUNTIFS('Po hráčích'!$E$2:$E$2440,B12,'Po hráčích'!$J$2:$J$2440,16) -> 2 | AD12: =COUNTIFS('Po hráčích'!$E$2:$E$2440,B12,'Po hráčích'!$J$2:$J$2440,8) -> 3 | AE12: =COUNTIFS('Po hráčích'!$E$2:$E$2440,B12,'Po hráčích'!$J$2:$J$2440,4) -> 8 | AF12: =COUNTIFS('Po hráčích'!$E$2:$E$2440,B12,'Po hráčích'!$J$2:$J$2440,2) -> 13 | AG12: =COUNTIFS('Po hráčích'!$E$2:$E$2440,B12,'Po hráčích'!$J$2:$J$2440,1) -> 20
A13: 10 | B13: Vančura Tomáš | S13: 11 | T13: 19 | U13: 6 | V13: 2 | W13: 32 | X13: 15 | Y13: 11 | Z13: 30 | AA13: 126 | AB13: =COUNTIF('Po hráčích'!$E$2:$E$2440,B13) -> 28 | AC13: =COUNTIFS('Po hráčích'!$E$2:$E$2440,B13,'Po hráčích'!$J$2:$J$2440,16) -> 3 | AD13: =COUNTIFS('Po hráčích'!$E$2:$E$2440,B13,'Po hráčích'!$J$2:$J$2440,8) -> 3 | AE13: =COUNTIFS('Po hráčích'!$E$2:$E$2440,B13,'Po hráčích'!$J$2:$J$2440,4) -> 9 | AF13: =COUNTIFS('Po hráčích'!$E$2:$E$2440,B13,'Po hráčích'!$J$2:$J$2440,2) -> 5 | AG13: =COUNTIFS('Po hráčích'!$E$2:$E$2440,B13,'Po hráčích'!$J$2:$J$2440,1) -> 8
A14: 11 | B14: Škrhák Vladimír | D14: 17 | E14: 6 | F14: 10 | G14: 4 | H14: 19 | I14: 4 | J14: 7 | K14: 4 | L14: 4 | M14: 4 | N14: 3 | O14: 8 | P14: 3 | Q14: 6 | R14: 4 | S14: 2 | T14: 3 | U14: 3 | V14: 2 | W14: 3 | X14: 2 | Y14: 3 | Z14: 2 | AA14: 123 | AB14: =COUNTIF('Po hráčích'!$E$2:$E$2440,B14) -> 65 | AC14: =COUNTIFS('Po hráčích'!$E$2:$E$2440,B14,'Po hráčích'!$J$2:$J$2440,16) -> 2 | AD14: =COUNTIFS('Po hráčích'!$E$2:$E$2440,B14,'Po hráčích'!$J$2:$J$2440,8) -> 1 | AE14: =COUNTIFS('Po hráčích'!$E$2:$E$2440,B14,'Po hráčích'!$J$2:$J$2440,4) -> 4 | AF14: =COUNTIFS('Po hráčích'!$E$2:$E$2440,B14,'Po hráčích'!$J$2:$J$2440,2) -> 9 | AG14: =COUNTIFS('Po hráčích'!$E$2:$E$2440,B14,'Po hráčích'!$J$2:$J$2440,1) -> 49
A15: 12 | B15: Korn Jiří | C15: 26 | D15: 26 | E15: 6 | F15: 6 | G15: 1 | H15: 17 | I15: 18 | J15: 3 | K15: 4 | L15: 2 | M15: 2 | N15: 2 | O15: 4 | P15: 2 | AA15: 119 | AB15: =COUNTIF('Po hráčích'!$E$2:$E$2440,B15) -> 32 | AC15: =COUNTIFS('Po hráčích'!$E$2:$E$2440,B15,'Po hráčích'!$J$2:$J$2440,16) -> 4 | AD15: =COUNTIFS('Po hráčích'!$E$2:$E$2440,B15,'Po hráčích'!$J$2:$J$2440,8) -> 2 | AE15: =COUNTIFS('Po hráčích'!$E$2:$E$2440,B15,'Po hráčích'!$J$2:$J$2440,4) -> 2 | AF15: =COUNTIFS('Po hráčích'!$E$2:$E$2440,B15,'Po hráčích'!$J$2:$J$2440,2) -> 7 | AG15: =COUNTIFS('Po hráčích'!$E$2:$E$2440,B15,'Po hráčích'!$J$2:$J$2440,1) -> 17
A16: 13 | B16: Bílek Rudolf | C16: 8 | D16: 8 | E16: 11 | F16: 4 | G16: 7 | H16: 11 | I16: 5 | J16: 4 | K16: 9 | L16: 6 | M16: 6 | N16: 1 | O16: 4 | P16: 4 | Q16: 5 | R16: 2 | S16: 3 | T16: 2 | V16: 6 | AA16: 106 | AB16: =COUNTIF('Po hráčích'!$E$2:$E$2440,B16) -> 54 | AC16: =COUNTIFS('Po hráčích'!$E$2:$E$2440,B16,'Po hráčích'!$J$2:$J$2440,16) -> 0 | AD16: =COUNTIFS('Po hráčích'!$E$2:$E$2440,B16,'Po hráčích'!$J$2:$J$2440,8) -> 3 | AE16: =COUNTIFS('Po hráčích'!$E$2:$E$2440,B16,'Po hráčích'!$J$2:$J$2440,4) -> 6 | AF16: =COUNTIFS('Po hráčích'!$E$2:$E$2440,B16,'Po hráčích'!$J$2:$J$2440,2) -> 13 | AG16: =COUNTIFS('Po hráčích'!$E$2:$E$2440,B16,'Po hráčích'!$J$2:$J$2440,1) -> 32
A17: 14 | B17: Kočí Ivan | C17: 8 | D17: 6 | E17: 22 | F17: 10 | G17: 10 | H17: 6 | I17: 2 | J17: 3 | L17: 3 | M17: 3 | N17: 3 | O17: 3 | P17: 4 | Q17: 2 | R17: 3 | S17: 3 | T17: 2 | U17: 2 | V17: 3 | W17: 3 | AA17: 101 | AB17: =COUNTIF('Po hráčích'!$E$2:$E$2440,B17) -> 56 | AC17: =COUNTIFS('Po hráčích'!$E$2:$E$2440,B17,'Po hráčích'!$J$2:$J$2440,16) -> 1 | AD17: =COUNTIFS('Po hráčích'!$E$2:$E$2440,B17,'Po hráčích'!$J$2:$J$2440,8) -> 0 | AE17: =COUNTIFS('Po hráčích'!$E$2:$E$2440,B17,'Po hráčích'!$J$2:$J$2440,4) -> 7 | AF17: =COUNTIFS('Po hráčích'!$E$2:$E$2440,B17,'Po hráčích'!$J$2:$J$2440,2) -> 9 | AG17: =COUNTIFS('Po hráčích'!$E$2:$E$2440,B17,'Po hráčích'!$J$2:$J$2440,1) -> 39
A18: 15 | B18: Rush Andrew | S18: 34 | T18: 11 | U18: 30 | V18: 19 | AA18: 94 | AB18: =COUNTIF('Po hráčích'!$E$2:$E$2440,B18) -> 15 | AC18: =COUNTIFS('Po hráčích'!$E$2:$E$2440,B18,'Po hráčích'!$J$2:$J$2440,16) -> 4 | AD18: =COUNTIFS('Po hráčích'!$E$2:$E$2440,B18,'Po hráčích'!$J$2:$J$2440,8) -> 1 | AE18: =COUNTIFS('Po hráčích'!$E$2:$E$2440,B18,'Po hráčích'!$J$2:$J$2440,4) -> 3 | AF18: =COUNTIFS('Po hráčích'!$E$2:$E$2440,B18,'Po hráčích'!$J$2:$J$2440,2) -> 3 | AG18: =COUNTIFS('Po hráčích'!$E$2:$E$2440,B18,'Po hráčích'!$J$2:$J$2440,1) -> 4
A19: 16 | B19: Pavlas Josef | D19: 3 | E19: 3 | F19: 18 | G19: 3 | H19: 3 | I19: 4 | J19: 2 | K19: 3 | L19: 3 | M19: 3 | N19: 2 | O19: 4 | R19: 4 | U19: 5 | V19: 2 | W19: 5 | X19: 5 | Z19: 6 | AA19: 78 | AB19: =COUNTIF('Po hráčích'!$E$2:$E$2440,B19) -> 55 | AC19: =COUNTIFS('Po hráčích'!$E$2:$E$2440,B19,'Po hráčích'!$J$2:$J$2440,16) -> 0 | AD19: =COUNTIFS('Po hráčích'!$E$2:$E$2440,B19,'Po hráčích'!$J$2:$J$2440,8) -> 2 | AE19: =COUNTIFS('Po hráčích'!$E$2:$E$2440,B19,'Po hráčích'!$J$2:$J$2440,4) -> 0 | AF19: =COUNTIFS('Po hráčích'!$E$2:$E$2440,B19,'Po hráčích'!$J$2:$J$2440,2) -> 9 | AG19: =COUNTIFS('Po hráčích'!$E$2:$E$2440,B19,'Po hráčích'!$J$2:$J$2440,1) -> 44
A20: 17 | B20: Kratochvíl Josef | D20: 8 | E20: 12 | F20: 5 | G20: 14 | H20: 4 | I20: 6 | J20: 3 | K20: 6 | L20: 4 | M20: 3 | N20: 2 | O20: 3 | Y20: 3 | Z20: 2 | AA20: 75 | AB20: =COUNTIF('Po hráčích'!$E$2:$E$2440,B20) -> 38 | AC20: =COUNTIFS('Po hráčích'!$E$2:$E$2440,B20,'Po hráčích'!$J$2:$J$2440,16) -> 0 | AD20: =COUNTIFS('Po hráčích'!$E$2:$E$2440,B20,'Po hráčích'!$J$2:$J$2440,8) -> 3 | AE20: =COUNTIFS('Po hráčích'!$E$2:$E$2440,B20,'Po hráčích'!$J$2:$J$2440,4) -> 3 | AF20: =COUNTIFS('Po hráčích'!$E$2:$E$2440,B20,'Po hráčích'!$J$2:$J$2440,2) -> 7 | AG20: =COUNTIFS('Po hráčích'!$E$2:$E$2440,B20,'Po hráčích'!$J$2:$J$2440,1) -> 25
A21: 18 | B21: Urban Vladimír | E21: 2 | F21: 2 | G21: 1 | H21: 3 | I21: 3 | J21: 3 | K21: 4 | L21: 4 | M21: 4 | N21: 3 | O21: 4 | P21: 4 | Q21: 4 | R21: 5 | S21: 7 | T21: 4 | U21: 2 | V21: 2 | W21: 6 | X21: 3 | Y21: 2 | Z21: 2 | AA21: 74 | AB21: =COUNTIF('Po hráčích'!$E$2:$E$2440,B21) -> 60 | AC21: =COUNTIFS('Po hráčích'!$E$2:$E$2440,B21,'Po hráčích'!$J$2:$J$2440,16) -> 0 | AD21: =COUNTIFS('Po hráčích'!$E$2:$E$2440,B21,'Po hráčích'!$J$2:$J$2440,8) -> 0 | AE21: =COUNTIFS('Po hráčích'!$E$2:$E$2440,B21,'Po hráčích'!$J$2:$J$2440,4) -> 1 | AF21: =COUNTIFS('Po hráčích'!$E$2:$E$2440,B21,'Po hráčích'!$J$2:$J$2440,2) -> 11 | AG21: =COUNTIFS('Po hráčích'!$E$2:$E$2440,B21,'Po hráčích'!$J$2:$J$2440,1) -> 48
A22: 19 | B22: Kadlec Bohdan | H22: 11 | I22: 14 | J22: 18 | K22: 7 | L22: 6 | M22: 8 | AA22: 64 | AB22: =COUNTIF('Po hráčích'!$E$2:$E$2440,B22) -> 18 | AC22: =COUNTIFS('Po hráčích'!$E$2:$E$2440,B22,'Po hráčích'!$J$2:$J$2440,16) -> 0 | AD22: =COUNTIFS('Po hráčích'!$E$2:$E$2440,B22,'Po hráčích'!$J$2:$J$2440,8) -> 4 | AE22: =COUNTIFS('Po hráčích'!$E$2:$E$2440,B22,'Po hráčích'!$J$2:$J$2440,4) -> 4 | AF22: =COUNTIFS('Po hráčích'!$E$2:$E$2440,B22,'Po hráčích'!$J$2:$J$2440,2) -> 6 | AG22: =COUNTIFS('Po hráčích'!$E$2:$E$2440,B22,'Po hráčích'!$J$2:$J$2440,1) -> 4
A23: 20 | B23: Švaňa Milan | C23: 10 | D23: 6 | E23: 6 | F23: 7 | G23: 12 | H23: 6 | I23: 3 | J23: 3 | K23: 2 | L23: 1 | M23: 1 | N23: 1 | O23: 5 | AA23: 63 | AB23: =COUNTIF('Po hráčích'!$E$2:$E$2440,B23) -> 31 | AC23: =COUNTIFS('Po hráčích'!$E$2:$E$2440,B23,'Po hráčích'!$J$2:$J$2440,16) -> 0 | AD23: =COUNTIFS('Po hráčích'!$E$2:$E$2440,B23,'Po hráčích'!$J$2:$J$2440,8) -> 1 | AE23: =COUNTIFS('Po hráčích'!$E$2:$E$2440,B23,'Po hráčích'!$J$2:$J$2440,4) -> 6 | AF23: =COUNTIFS('Po hráčích'!$E$2:$E$2440,B23,'Po hráčích'!$J$2:$J$2440,2) -> 7 | AG23: =COUNTIFS('Po hráčích'!$E$2:$E$2440,B23,'Po hráčích'!$J$2:$J$2440,1) -> 17
A24: 21 | B24: Žalmanová Ilona | H24: 3 | I24: 3 | J24: 3 | K24: 3 | L24: 3 | M24: 3 | N24: 2 | O24: 4 | P24: 4 | Q24: 4 | R24: 4 | S24: 4 | T24: 4 | U24: 4 | W24: 3 | X24: 2 | Z24: 3 | AA24: 56 | AB24: =COUNTIF('Po hráčích'!$E$2:$E$2440,B24) -> 54 | AC24: =COUNTIFS('Po hráčích'!$E$2:$E$2440,B24,'Po hráčích'!$J$2:$J$2440,16) -> 0 | AD24: =COUNTIFS('Po hráčích'!$E$2:$E$2440,B24,'Po hráčích'!$J$2:$J$2440,8) -> 0 | AE24: =COUNTIFS('Po hráčích'!$E$2:$E$2440,B24,'Po hráčích'!$J$2:$J$2440,4) -> 0 | AF24: =COUNTIFS('Po hráčích'!$E$2:$E$2440,B24,'Po hráčích'!$J$2:$J$2440,2) -> 2 | AG24: =COUNTIFS('Po hráčích'!$E$2:$E$2440,B24,'Po hráčích'!$J$2:$J$2440,1) -> 52
A25: 22 | B25: Mrňák Jan | S25: 3 | T25: 6 | U25: 13 | V25: 12 | W25: 20 | AA25: 54 | AB25: =COUNTIF('Po hráčích'!$E$2:$E$2440,B25) -> 16 | AC25: =COUNTIFS('Po hráčích'!$E$2:$E$2440,B25,'Po hráčích'!$J$2:$J$2440,16) -> 1 | AD25: =COUNTIFS('Po hráčích'!$E$2:$E$2440,B25,'Po hráčích'!$J$2:$J$2440,8) -> 2 | AE25: =COUNTIFS('Po hráčích'!$E$2:$E$2440,B25,'Po hráčích'!$J$2:$J$2440,4) -> 1 | AF25: =COUNTIFS('Po hráčích'!$E$2:$E$2440,B25,'Po hráčích'!$J$2:$J$2440,2) -> 6 | AG25: =COUNTIFS('Po hráčích'!$E$2:$E$2440,B25,'Po hráčích'!$J$2:$J$2440,1) -> 6
A26: 23 | B26: Williams Heath | X26: 20 | Y26: 30 | AA26: 50 | AB26: =COUNTIF('Po hráčích'!$E$2:$E$2440,B26) -> 6 | AC26: =COUNTIFS('Po hráčích'!$E$2:$E$2440,B26,'Po hráčích'!$J$2:$J$2440,16) -> 2 | AD26: =COUNTIFS('Po hráčích'!$E$2:$E$2440,B26,'Po hráčích'!$J$2:$J$2440,8) -> 1 | AE26: =COUNTIFS('Po hráčích'!$E$2:$E$2440,B26,'Po hráčích'!$J$2:$J$2440,4) -> 2 | AF26: =COUNTIFS('Po hráčích'!$E$2:$E$2440,B26,'Po hráčích'!$J$2:$J$2440,2) -> 1 | AG26: =COUNTIFS('Po hráčích'!$E$2:$E$2440,B26,'Po hráčích'!$J$2:$J$2440,1) -> 0
A27: 24 | B27: Žemlička Josef | G27: 6 | H27: 4 | I27: 3 | J27: 3 | K27: 4 | L27: 3 | M27: 3 | N27: 3 | O27: 4 | P27: 3 | Q27: 5 | R27: 5 | S27: 4 | AA27: 50 | AB27: =COUNTIF('Po hráčích'!$E$2:$E$2440,B27) -> 40 | AC27: =COUNTIFS('Po hráčích'!$E$2:$E$2440,B27,'Po hráčích'!$J$2:$J$2440,16) -> 0 | AD27: =COUNTIFS('Po hráčích'!$E$2:$E$2440,B27,'Po hráčích'!$J$2:$J$2440,8) -> 0 | AE27: =COUNTIFS('Po hráčích'!$E$2:$E$2440,B27,'Po hráčích'!$J$2:$J$2440,4) -> 1 | AF27: =COUNTIFS('Po hráčích'!$E$2:$E$2440,B27,'Po hráčích'!$J$2:$J$2440,2) -> 7 | AG27: =COUNTIFS('Po hráčích'!$E$2:$E$2440,B27,'Po hráčích'!$J$2:$J$2440,1) -> 32
A28: 25 | B28: Walach Kristian | C28: 4 | D28: 4 | F28: 2 | G28: 2 | H28: 4 | K28: 3 | L28: 3 | M28: 3 | N28: 3 | O28: 3 | P28: 2 | Q28: 6 | R28: 6 | S28: 2 | T28: 3 | AA28: 50 | AB28: =COUNTIF('Po hráčích'!$E$2:$E$2440,B28) -> 36 | AC28: =COUNTIFS('Po hráčích'!$E$2:$E$2440,B28,'Po hráčích'!$J$2:$J$2440,16) -> 0 | AD28: =COUNTIFS('Po hráčích'!$E$2:$E$2440,B28,'Po hráčích'!$J$2:$J$2440,8) -> 0 | AE28: =COUNTIFS('Po hráčích'!$E$2:$E$2440,B28,'Po hráčích'!$J$2:$J$2440,4) -> 3 | AF28: =COUNTIFS('Po hráčích'!$E$2:$E$2440,B28,'Po hráčích'!$J$2:$J$2440,2) -> 5 | AG28: =COUNTIFS('Po hráčích'!$E$2:$E$2440,B28,'Po hráčích'!$J$2:$J$2440,1) -> 28
A29: 26 | B29: Hořeňovský Jaroslav | O29: 4 | P29: 4 | Q29: 4 | R29: 4 | S29: 4 | T29: 4 | U29: 4 | V29: 3 | W29: 4 | X29: 3 | Y29: 3 | Z29: 4 | AA29: 45 | AB29: =COUNTIF('Po hráčích'!$E$2:$E$2440,B29) -> 45 | AC29: =COUNTIFS('Po hráčích'!$E$2:$E$2440,B29,'Po hráčích'!$J$2:$J$2440,16) -> 0 | AD29: =COUNTIFS('Po hráčích'!$E$2:$E$2440,B29,'Po hráčích'!$J$2:$J$2440,8) -> 0 | AE29: =COUNTIFS('Po hráčích'!$E$2:$E$2440,B29,'Po hráčích'!$J$2:$J$2440,4) -> 0 | AF29: =COUNTIFS('Po hráčích'!$E$2:$E$2440,B29,'Po hráčích'!$J$2:$J$2440,2) -> 0 | AG29: =COUNTIFS('Po hráčích'!$E$2:$E$2440,B29,'Po hráčích'!$J$2:$J$2440,1) -> 45
A30: 27 | B30: Nohynek Dušan | T30: 44 | AA30: 44 | AB30: =COUNTIF('Po hráčích'!$E$2:$E$2440,B30) -> 4 | AC30: =COUNTIFS('Po hráčích'!$E$2:$E$2440,B30,'Po hráčích'!$J$2:$J$2440,16) -> 2 | AD30: =COUNTIFS('Po hráčích'!$E$2:$E$2440,B30,'Po hráčích'!$J$2:$J$2440,8) -> 1 | AE30: =COUNTIFS('Po hráčích'!$E$2:$E$2440,B30,'Po hráčích'!$J$2:$J$2440,4) -> 1 | AF30: =COUNTIFS('Po hráčích'!$E$2:$E$2440,B30,'Po hráčích'!$J$2:$J$2440,2) -> 0 | AG30: =COUNTIFS('Po hráčích'!$E$2:$E$2440,B30,'Po hráčích'!$J$2:$J$2440,1) -> 0
A31: 28 | B31: Dončuk Jan | O31: 4 | P31: 4 | Q31: 4 | R31: 3 | S31: 4 | T31: 4 | U31: 4 | V31: 4 | W31: 4 | X31: 2 | Y31: 3 | Z31: 4 | AA31: 44 | AB31: =COUNTIF('Po hráčích'!$E$2:$E$2440,B31) -> 44 | AC31: =COUNTIFS('Po hráčích'!$E$2:$E$2440,B31,'Po hráčích'!$J$2:$J$2440,16) -> 0 | AD31: =COUNTIFS('Po hráčích'!$E$2:$E$2440,B31,'Po hráčích'!$J$2:$J$2440,8) -> 0 | AE31: =COUNTIFS('Po hráčích'!$E$2:$E$2440,B31,'Po hráčích'!$J$2:$J$2440,4) -> 0 | AF31: =COUNTIFS('Po hráčích'!$E$2:$E$2440,B31,'Po hráčích'!$J$2:$J$2440,2) -> 0 | AG31: =COUNTIFS('Po hráčích'!$E$2:$E$2440,B31,'Po hráčích'!$J$2:$J$2440,1) -> 44
A32: 29 | B32: Javůrek Jaroslav | O32: 4 | P32: 4 | Q32: 4 | R32: 3 | S32: 4 | T32: 4 | U32: 3 | V32: 4 | W32: 4 | X32: 3 | Y32: 3 | Z32: 4 | AA32: 44 | AB32: =COUNTIF('Po hráčích'!$E$2:$E$2440,B32) -> 44 | AC32: =COUNTIFS('Po hráčích'!$E$2:$E$2440,B32,'Po hráčích'!$J$2:$J$2440,16) -> 0 | AD32: =COUNTIFS('Po hráčích'!$E$2:$E$2440,B32,'Po hráčích'!$J$2:$J$2440,8) -> 0 | AE32: =COUNTIFS('Po hráčích'!$E$2:$E$2440,B32,'Po hráčích'!$J$2:$J$2440,4) -> 0 | AF32: =COUNTIFS('Po hráčích'!$E$2:$E$2440,B32,'Po hráčích'!$J$2:$J$2440,2) -> 0 | AG32: =COUNTIFS('Po hráčích'!$E$2:$E$2440,B32,'Po hráčích'!$J$2:$J$2440,1) -> 44
A33: 30 | B33: Jaborník Michal | L33: 2 | M33: 3 | N33: 2 | O33: 4 | P33: 2 | Q33: 4 | R33: 3 | S33: 2 | T33: 3 | V33: 3 | W33: 3 | X33: 1 | Y33: 3 | Z33: 7 | AA33: 42 | AB33: =COUNTIF('Po hráčích'!$E$2:$E$2440,B33) -> 37 | AC33: =COUNTIFS('Po hráčích'!$E$2:$E$2440,B33,'Po hráčích'!$J$2:$J$2440,16) -> 0 | AD33: =COUNTIFS('Po hráčích'!$E$2:$E$2440,B33,'Po hráčích'!$J$2:$J$2440,8) -> 0 | AE33: =COUNTIFS('Po hráčích'!$E$2:$E$2440,B33,'Po hráčích'!$J$2:$J$2440,4) -> 1 | AF33: =COUNTIFS('Po hráčích'!$E$2:$E$2440,B33,'Po hráčích'!$J$2:$J$2440,2) -> 2 | AG33: =COUNTIFS('Po hráčích'!$E$2:$E$2440,B33,'Po hráčích'!$J$2:$J$2440,1) -> 34
A34: 31 | B34: Suchánek Jan | N34: 22 | P34: 18 | AA34: 40 | AB34: =COUNTIF('Po hráčích'!$E$2:$E$2440,B34) -> 7 | AC34: =COUNTIFS('Po hráčích'!$E$2:$E$2440,B34,'Po hráčích'!$J$2:$J$2440,16) -> 1 | AD34: =COUNTIFS('Po hráčích'!$E$2:$E$2440,B34,'Po hráčích'!$J$2:$J$2440,8) -> 1 | AE34: =COUNTIFS('Po hráčích'!$E$2:$E$2440,B34,'Po hráčích'!$J$2:$J$2440,4) -> 3 | AF34: =COUNTIFS('Po hráčích'!$E$2:$E$2440,B34,'Po hráčích'!$J$2:$J$2440,2) -> 2 | AG34: =COUNTIFS('Po hráčích'!$E$2:$E$2440,B34,'Po hráčích'!$J$2:$J$2440,1) -> 0
A35: 32 | B35: Tichý Jaroslav | E35: 1 | F35: 3 | G35: 5 | H35: 8 | I35: 9 | J35: 5 | K35: 6 | L35: 2 | AA35: 39 | AB35: =COUNTIF('Po hráčích'!$E$2:$E$2440,B35) -> 20 | AC35: =COUNTIFS('Po hráčích'!$E$2:$E$2440,B35,'Po hráčích'!$J$2:$J$2440,16) -> 0 | AD35: =COUNTIFS('Po hráčích'!$E$2:$E$2440,B35,'Po hráčích'!$J$2:$J$2440,8) -> 0 | AE35: =COUNTIFS('Po hráčích'!$E$2:$E$2440,B35,'Po hráčích'!$J$2:$J$2440,4) -> 4 | AF35: =COUNTIFS('Po hráčích'!$E$2:$E$2440,B35,'Po hráčích'!$J$2:$J$2440,2) -> 7 | AG35: =COUNTIFS('Po hráčích'!$E$2:$E$2440,B35,'Po hráčích'!$J$2:$J$2440,1) -> 9
A36: 33 | B36: Aust Jiří | Q36: 28 | R36: 10 | AA36: 38 | AB36: =COUNTIF('Po hráčích'!$E$2:$E$2440,B36) -> 7 | AC36: =COUNTIFS('Po hráčích'!$E$2:$E$2440,B36,'Po hráčích'!$J$2:$J$2440,16) -> 0 | AD36: =COUNTIFS('Po hráčích'!$E$2:$E$2440,B36,'Po hráčích'!$J$2:$J$2440,8) -> 3 | AE36: =COUNTIFS('Po hráčích'!$E$2:$E$2440,B36,'Po hráčích'!$J$2:$J$2440,4) -> 3 | AF36: =COUNTIFS('Po hráčích'!$E$2:$E$2440,B36,'Po hráčích'!$J$2:$J$2440,2) -> 1 | AG36: =COUNTIFS('Po hráčích'!$E$2:$E$2440,B36,'Po hráčích'!$J$2:$J$2440,1) -> 0
A37: 34 | B37: Hájek Vlastimil | C37: 4 | D37: 2 | F37: 5 | G37: 1 | H37: 3 | I37: 3 | J37: 3 | K37: 3 | L37: 3 | M37: 2 | O37: 3 | P37: 1 | Q37: 1 | U37: 2 | V37: 1 | W37: 1 | AA37: 38 | AB37: =COUNTIF('Po hráčích'!$E$2:$E$2440,B37) -> 31 | AC37: =COUNTIFS('Po hráčích'!$E$2:$E$2440,B37,'Po hráčích'!$J$2:$J$2440,16) -> 0 | AD37: =COUNTIFS('Po hráčích'!$E$2:$E$2440,B37,'Po hráčích'!$J$2:$J$2440,8) -> 0 | AE37: =COUNTIFS('Po hráčích'!$E$2:$E$2440,B37,'Po hráčích'!$J$2:$J$2440,4) -> 1 | AF37: =COUNTIFS('Po hráčích'!$E$2:$E$2440,B37,'Po hráčích'!$J$2:$J$2440,2) -> 4 | AG37: =COUNTIFS('Po hráčích'!$E$2:$E$2440,B37,'Po hráčích'!$J$2:$J$2440,1) -> 26
A38: 35 | B38: Valentin František | D38: 2 | H38: 11 | I38: 7 | J38: 5 | K38: 11 | Q38: 1 | AA38: 37 | AB38: =COUNTIF('Po hráčích'!$E$2:$E$2440,B38) -> 15 | AC38: =COUNTIFS('Po hráčích'!$E$2:$E$2440,B38,'Po hráčích'!$J$2:$J$2440,16) -> 0 | AD38: =COUNTIFS('Po hráčích'!$E$2:$E$2440,B38,'Po hráčích'!$J$2:$J$2440,8) -> 2 | AE38: =COUNTIFS('Po hráčích'!$E$2:$E$2440,B38,'Po hráčích'!$J$2:$J$2440,4) -> 1 | AF38: =COUNTIFS('Po hráčích'!$E$2:$E$2440,B38,'Po hráčích'!$J$2:$J$2440,2) -> 5 | AG38: =COUNTIFS('Po hráčích'!$E$2:$E$2440,B38,'Po hráčích'!$J$2:$J$2440,1) -> 7
A39: 36 | B39: Bauer Zdeněk | C39: 2 | D39: 4 | E39: 5 | F39: 4 | G39: 2 | H39: 5 | I39: 4 | J39: 4 | K39: 4 | L39: 3 | AA39: 37 | AB39: =COUNTIF('Po hráčích'!$E$2:$E$2440,B39) -> 27 | AC39: =COUNTIFS('Po hráčích'!$E$2:$E$2440,B39,'Po hráčích'!$J$2:$J$2440,16) -> 0 | AD39: =COUNTIFS('Po hráčích'!$E$2:$E$2440,B39,'Po hráčích'!$J$2:$J$2440,8) -> 0 | AE39: =COUNTIFS('Po hráčích'!$E$2:$E$2440,B39,'Po hráčích'!$J$2:$J$2440,4) -> 0 | AF39: =COUNTIFS('Po hráčích'!$E$2:$E$2440,B39,'Po hráčích'!$J$2:$J$2440,2) -> 10 | AG39: =COUNTIFS('Po hráčích'!$E$2:$E$2440,B39,'Po hráčích'!$J$2:$J$2440,1) -> 17
A40: 37 | B40: Uremovič Željko | H40: 5 | I40: 10 | J40: 3 | K40: 5 | M40: 6 | N40: 4 | T40: 3 | AA40: 36 | AB40: =COUNTIF('Po hráčích'!$E$2:$E$2440,B40) -> 20 | AC40: =COUNTIFS('Po hráčích'!$E$2:$E$2440,B40,'Po hráčích'!$J$2:$J$2440,16) -> 0 | AD40: =COUNTIFS('Po hráčích'!$E$2:$E$2440,B40,'Po hráčích'!$J$2:$J$2440,8) -> 1 | AE40: =COUNTIFS('Po hráčích'!$E$2:$E$2440,B40,'Po hráčích'!$J$2:$J$2440,4) -> 2 | AF40: =COUNTIFS('Po hráčích'!$E$2:$E$2440,B40,'Po hráčích'!$J$2:$J$2440,2) -> 3 | AG40: =COUNTIFS('Po hráčích'!$E$2:$E$2440,B40,'Po hráčích'!$J$2:$J$2440,1) -> 14
A41: 38 | B41: Hochman Jindřich | L41: 3 | M41: 3 | O41: 3 | P41: 4 | Q41: 3 | R41: 4 | S41: 3 | T41: 3 | U41: 3 | V41: 2 | W41: 2 | X41: 3 | AA41: 36 | AB41: =COUNTIF('Po hráčích'!$E$2:$E$2440,B41) -> 36 | AC41: =COUNTIFS('Po hráčích'!$E$2:$E$2440,B41,'Po hráčích'!$J$2:$J$2440,16) -> 0 | AD41: =COUNTIFS('Po hráčích'!$E$2:$E$2440,B41,'Po hráčích'!$J$2:$J$2440,8) -> 0 | AE41: =COUNTIFS('Po hráčích'!$E$2:$E$2440,B41,'Po hráčích'!$J$2:$J$2440,4) -> 0 | AF41: =COUNTIFS('Po hráčích'!$E$2:$E$2440,B41,'Po hráčích'!$J$2:$J$2440,2) -> 0 | AG41: =COUNTIFS('Po hráčích'!$E$2:$E$2440,B41,'Po hráčích'!$J$2:$J$2440,1) -> 36
A42: 39 | B42: Urbánek Tomáš | T42: 5 | U42: 12 | V42: 6 | W42: 5 | X42: 4 | Y42: 1 | Z42: 2 | AA42: 35 | AB42: =COUNTIF('Po hráčích'!$E$2:$E$2440,B42) -> 17 | AC42: =COUNTIFS('Po hráčích'!$E$2:$E$2440,B42,'Po hráčích'!$J$2:$J$2440,16) -> 0 | AD42: =COUNTIFS('Po hráčích'!$E$2:$E$2440,B42,'Po hráčích'!$J$2:$J$2440,8) -> 1 | AE42: =COUNTIFS('Po hráčích'!$E$2:$E$2440,B42,'Po hráčích'!$J$2:$J$2440,4) -> 1 | AF42: =COUNTIFS('Po hráčích'!$E$2:$E$2440,B42,'Po hráčích'!$J$2:$J$2440,2) -> 8 | AG42: =COUNTIFS('Po hráčích'!$E$2:$E$2440,B42,'Po hráčích'!$J$2:$J$2440,1) -> 7
A43: 40 | B43: Růčka Radek | V43: 10 | W43: 24 | AA43: 34 | AB43: =COUNTIF('Po hráčích'!$E$2:$E$2440,B43) -> 6 | AC43: =COUNTIFS('Po hráčích'!$E$2:$E$2440,B43,'Po hráčích'!$J$2:$J$2440,16) -> 1 | AD43: =COUNTIFS('Po hráčích'!$E$2:$E$2440,B43,'Po hráčích'!$J$2:$J$2440,8) -> 1 | AE43: =COUNTIFS('Po hráčích'!$E$2:$E$2440,B43,'Po hráčích'!$J$2:$J$2440,4) -> 1 | AF43: =COUNTIFS('Po hráčích'!$E$2:$E$2440,B43,'Po hráčích'!$J$2:$J$2440,2) -> 3 | AG43: =COUNTIFS('Po hráčích'!$E$2:$E$2440,B43,'Po hráčích'!$J$2:$J$2440,1) -> 0
A44: 41 | B44: Lottring Richard | M44: 5 | N44: 20 | O44: 5 | P44: 2 | Y44: 1 | AA44: 33 | AB44: =COUNTIF('Po hráčích'!$E$2:$E$2440,B44) -> 11 | AC44: =COUNTIFS('Po hráčích'!$E$2:$E$2440,B44,'Po hráčích'!$J$2:$J$2440,16) -> 1 | AD44: =COUNTIFS('Po hráčích'!$E$2:$E$2440,B44,'Po hráčích'!$J$2:$J$2440,8) -> 0 | AE44: =COUNTIFS('Po hráčích'!$E$2:$E$2440,B44,'Po hráčích'!$J$2:$J$2440,4) -> 1 | AF44: =COUNTIFS('Po hráčích'!$E$2:$E$2440,B44,'Po hráčích'!$J$2:$J$2440,2) -> 4 | AG44: =COUNTIFS('Po hráčích'!$E$2:$E$2440,B44,'Po hráčích'!$J$2:$J$2440,1) -> 5
A45: 42 | B45: Kníže Martin | U45: 4 | V45: 5 | W45: 6 | X45: 9 | Y45: 4 | Z45: 4 | AA45: 32 | AB45: =COUNTIF('Po hráčích'!$E$2:$E$2440,B45) -> 21 | AC45: =COUNTIFS('Po hráčích'!$E$2:$E$2440,B45,'Po hráčích'!$J$2:$J$2440,16) -> 0 | AD45: =COUNTIFS('Po hráčích'!$E$2:$E$2440,B45,'Po hráčích'!$J$2:$J$2440,8) -> 0 | AE45: =COUNTIFS('Po hráčích'!$E$2:$E$2440,B45,'Po hráčích'!$J$2:$J$2440,4) -> 1 | AF45: =COUNTIFS('Po hráčích'!$E$2:$E$2440,B45,'Po hráčích'!$J$2:$J$2440,2) -> 8 | AG45: =COUNTIFS('Po hráčích'!$E$2:$E$2440,B45,'Po hráčích'!$J$2:$J$2440,1) -> 12
A46: 43 | B46: Mičkal Libor | L46: 3 | M46: 4 | N46: 6 | O46: 4 | P46: 9 | Q46: 2 | T46: 3 | U46: 1 | AA46: 32 | AB46: =COUNTIF('Po hráčích'!$E$2:$E$2440,B46) -> 23 | AC46: =COUNTIFS('Po hráčích'!$E$2:$E$2440,B46,'Po hráčích'!$J$2:$J$2440,16) -> 0 | AD46: =COUNTIFS('Po hráčích'!$E$2:$E$2440,B46,'Po hráčích'!$J$2:$J$2440,8) -> 0 | AE46: =COUNTIFS('Po hráčích'!$E$2:$E$2440,B46,'Po hráčích'!$J$2:$J$2440,4) -> 1 | AF46: =COUNTIFS('Po hráčích'!$E$2:$E$2440,B46,'Po hráčích'!$J$2:$J$2440,2) -> 6 | AG46: =COUNTIFS('Po hráčích'!$E$2:$E$2440,B46,'Po hráčích'!$J$2:$J$2440,1) -> 16
A47: 44 | B47: Frejka Jiří | Q47: 2 | R47: 4 | S47: 4 | T47: 4 | U47: 4 | V47: 4 | W47: 5 | X47: 2 | Y47: 2 | AA47: 31 | AB47: =COUNTIF('Po hráčích'!$E$2:$E$2440,B47) -> 30 | AC47: =COUNTIFS('Po hráčích'!$E$2:$E$2440,B47,'Po hráčích'!$J$2:$J$2440,16) -> 0 | AD47: =COUNTIFS('Po hráčích'!$E$2:$E$2440,B47,'Po hráčích'!$J$2:$J$2440,8) -> 0 | AE47: =COUNTIFS('Po hráčích'!$E$2:$E$2440,B47,'Po hráčích'!$J$2:$J$2440,4) -> 0 | AF47: =COUNTIFS('Po hráčích'!$E$2:$E$2440,B47,'Po hráčích'!$J$2:$J$2440,2) -> 1 | AG47: =COUNTIFS('Po hráčích'!$E$2:$E$2440,B47,'Po hráčích'!$J$2:$J$2440,1) -> 29
A48: 45 | B48: Zuklín Petr | K48: 3 | L48: 1 | M48: 2 | N48: 1 | O48: 3 | P48: 3 | Q48: 3 | R48: 2 | S48: 1 | T48: 1 | U48: 3 | V48: 2 | W48: 2 | Z48: 4 | AA48: 31 | AB48: =COUNTIF('Po hráčích'!$E$2:$E$2440,B48) -> 30 | AC48: =COUNTIFS('Po hráčích'!$E$2:$E$2440,B48,'Po hráčích'!$J$2:$J$2440,16) -> 0 | AD48: =COUNTIFS('Po hráčích'!$E$2:$E$2440,B48,'Po hráčích'!$J$2:$J$2440,8) -> 0 | AE48: =COUNTIFS('Po hráčích'!$E$2:$E$2440,B48,'Po hráčích'!$J$2:$J$2440,4) -> 0 | AF48: =COUNTIFS('Po hráčích'!$E$2:$E$2440,B48,'Po hráčích'!$J$2:$J$2440,2) -> 1 | AG48: =COUNTIFS('Po hráčích'!$E$2:$E$2440,B48,'Po hráčích'!$J$2:$J$2440,1) -> 29
A49: 46 | B49: Beleš Pavol | P49: 3 | Q49: 3 | R49: 3 | S49: 3 | T49: 3 | U49: 2 | V49: 3 | W49: 3 | X49: 1 | Y49: 3 | Z49: 3 | AA49: 30 | AB49: =COUNTIF('Po hráčích'!$E$2:$E$2440,B49) -> 30 | AC49: =COUNTIFS('Po hráčích'!$E$2:$E$2440,B49,'Po hráčích'!$J$2:$J$2440,16) -> 0 | AD49: =COUNTIFS('Po hráčích'!$E$2:$E$2440,B49,'Po hráčích'!$J$2:$J$2440,8) -> 0 | AE49: =COUNTIFS('Po hráčích'!$E$2:$E$2440,B49,'Po hráčích'!$J$2:$J$2440,4) -> 0 | AF49: =COUNTIFS('Po hráčích'!$E$2:$E$2440,B49,'Po hráčích'!$J$2:$J$2440,2) -> 0 | AG49: =COUNTIFS('Po hráčích'!$E$2:$E$2440,B49,'Po hráčích'!$J$2:$J$2440,1) -> 30
A50: 47 | B50: Klatovský Jiří | C50: 2 | D50: 3 | E50: 3 | F50: 1 | G50: 3 | H50: 3 | I50: 4 | J50: 3 | K50: 3 | L50: 3 | AA50: 28 | AB50: =COUNTIF('Po hráčích'!$E$2:$E$2440,B50) -> 23 | AC50: =COUNTIFS('Po hráčích'!$E$2:$E$2440,B50,'Po hráčích'!$J$2:$J$2440,16) -> 0 | AD50: =COUNTIFS('Po hráčích'!$E$2:$E$2440,B50,'Po hráčích'!$J$2:$J$2440,8) -> 0 | AE50: =COUNTIFS('Po hráčích'!$E$2:$E$2440,B50,'Po hráčích'!$J$2:$J$2440,4) -> 0 | AF50: =COUNTIFS('Po hráčích'!$E$2:$E$2440,B50,'Po hráčích'!$J$2:$J$2440,2) -> 5 | AG50: =COUNTIFS('Po hráčích'!$E$2:$E$2440,B50,'Po hráčích'!$J$2:$J$2440,1) -> 18
A51: 48 | B51: Pertl Antonín | F51: 4 | G51: 2 | H51: 3 | I51: 3 | J51: 3 | K51: 3 | L51: 3 | M51: 3 | N51: 2 | AA51: 26 | AB51: =COUNTIF('Po hráčích'!$E$2:$E$2440,B51) -> 24 | AC51: =COUNTIFS('Po hráčích'!$E$2:$E$2440,B51,'Po hráčích'!$J$2:$J$2440,16) -> 0 | AD51: =COUNTIFS('Po hráčích'!$E$2:$E$2440,B51,'Po hráčích'!$J$2:$J$2440,8) -> 0 | AE51: =COUNTIFS('Po hráčích'!$E$2:$E$2440,B51,'Po hráčích'!$J$2:$J$2440,4) -> 0 | AF51: =COUNTIFS('Po hráčích'!$E$2:$E$2440,B51,'Po hráčích'!$J$2:$J$2440,2) -> 2 | AG51: =COUNTIFS('Po hráčích'!$E$2:$E$2440,B51,'Po hráčích'!$J$2:$J$2440,1) -> 22
A52: 49 | B52: Smutný Petr | P52: 2 | R52: 6 | S52: 9 | T52: 3 | U52: 2 | V52: 3 | AA52: 25 | AB52: =COUNTIF('Po hráčích'!$E$2:$E$2440,B52) -> 14 | AC52: =COUNTIFS('Po hráčích'!$E$2:$E$2440,B52,'Po hráčích'!$J$2:$J$2440,16) -> 0 | AD52: =COUNTIFS('Po hráčích'!$E$2:$E$2440,B52,'Po hráčích'!$J$2:$J$2440,8) -> 1 | AE52: =COUNTIFS('Po hráčích'!$E$2:$E$2440,B52,'Po hráčích'!$J$2:$J$2440,4) -> 1 | AF52: =COUNTIFS('Po hráčích'!$E$2:$E$2440,B52,'Po hráčích'!$J$2:$J$2440,2) -> 1 | AG52: =COUNTIFS('Po hráčích'!$E$2:$E$2440,B52,'Po hráčích'!$J$2:$J$2440,1) -> 11
A53: 50 | B53: Žalman Miloš | G53: 1 | H53: 3 | I53: 3 | J53: 3 | K53: 3 | L53: 3 | M53: 3 | N53: 1 | O53: 4 | U53: 1 | AA53: 25 | AB53: =COUNTIF('Po hráčích'!$E$2:$E$2440,B53) -> 25 | AC53: =COUNTIFS('Po hráčích'!$E$2:$E$2440,B53,'Po hráčích'!$J$2:$J$2440,16) -> 0 | AD53: =COUNTIFS('Po hráčích'!$E$2:$E$2440,B53,'Po hráčích'!$J$2:$J$2440,8) -> 0 | AE53: =COUNTIFS('Po hráčích'!$E$2:$E$2440,B53,'Po hráčích'!$J$2:$J$2440,4) -> 0 | AF53: =COUNTIFS('Po hráčích'!$E$2:$E$2440,B53,'Po hráčích'!$J$2:$J$2440,2) -> 0 | AG53: =COUNTIFS('Po hráčích'!$E$2:$E$2440,B53,'Po hráčích'!$J$2:$J$2440,1) -> 25
A54: 51 | B54: Pilný Pavel | X54: 24 | AA54: 24 | AB54: =COUNTIF('Po hráčích'!$E$2:$E$2440,B54) -> 3 | AC54: =COUNTIFS('Po hráčích'!$E$2:$E$2440,B54,'Po hráčích'!$J$2:$J$2440,16) -> 0 | AD54: =COUNTIFS('Po hráčích'!$E$2:$E$2440,B54,'Po hráčích'!$J$2:$J$2440,8) -> 3 | AE54: =COUNTIFS('Po hráčích'!$E$2:$E$2440,B54,'Po hráčích'!$J$2:$J$2440,4) -> 0 | AF54: =COUNTIFS('Po hráčích'!$E$2:$E$2440,B54,'Po hráčích'!$J$2:$J$2440,2) -> 0 | AG54: =COUNTIFS('Po hráčích'!$E$2:$E$2440,B54,'Po hráčích'!$J$2:$J$2440,1) -> 0
A55: 52 | B55: Kraušner Miroslav | S55: 8 | T55: 16 | AA55: 24 | AB55: =COUNTIF('Po hráčích'!$E$2:$E$2440,B55) -> 6 | AC55: =COUNTIFS('Po hráčích'!$E$2:$E$2440,B55,'Po hráčích'!$J$2:$J$2440,16) -> 0 | AD55: =COUNTIFS('Po hráčích'!$E$2:$E$2440,B55,'Po hráčích'!$J$2:$J$2440,8) -> 1 | AE55: =COUNTIFS('Po hráčích'!$E$2:$E$2440,B55,'Po hráčích'!$J$2:$J$2440,4) -> 3 | AF55: =COUNTIFS('Po hráčích'!$E$2:$E$2440,B55,'Po hráčích'!$J$2:$J$2440,2) -> 2 | AG55: =COUNTIFS('Po hráčích'!$E$2:$E$2440,B55,'Po hráčích'!$J$2:$J$2440,1) -> 0
A56: 53 | B56: Hercík Karel | H56: 3 | I56: 3 | J56: 3 | K56: 3 | L56: 3 | M56: 3 | N56: 1 | O56: 5 | AA56: 24 | AB56: =COUNTIF('Po hráčích'!$E$2:$E$2440,B56) -> 23 | AC56: =COUNTIFS('Po hráčích'!$E$2:$E$2440,B56,'Po hráčích'!$J$2:$J$2440,16) -> 0 | AD56: =COUNTIFS('Po hráčích'!$E$2:$E$2440,B56,'Po hráčích'!$J$2:$J$2440,8) -> 0 | AE56: =COUNTIFS('Po hráčích'!$E$2:$E$2440,B56,'Po hráčích'!$J$2:$J$2440,4) -> 0 | AF56: =COUNTIFS('Po hráčích'!$E$2:$E$2440,B56,'Po hráčích'!$J$2:$J$2440,2) -> 1 | AG56: =COUNTIFS('Po hráčích'!$E$2:$E$2440,B56,'Po hráčích'!$J$2:$J$2440,1) -> 22
A57: 54 | B57: Božovský Robert | O57: 4 | P57: 2 | Q57: 3 | R57: 3 | T57: 3 | U57: 3 | V57: 2 | W57: 1 | X57: 2 | Y57: 1 | AA57: 24 | AB57: =COUNTIF('Po hráčích'!$E$2:$E$2440,B57) -> 23 | AC57: =COUNTIFS('Po hráčích'!$E$2:$E$2440,B57,'Po hráčích'!$J$2:$J$2440,16) -> 0 | AD57: =COUNTIFS('Po hráčích'!$E$2:$E$2440,B57,'Po hráčích'!$J$2:$J$2440,8) -> 0 | AE57: =COUNTIFS('Po hráčích'!$E$2:$E$2440,B57,'Po hráčích'!$J$2:$J$2440,4) -> 0 | AF57: =COUNTIFS('Po hráčích'!$E$2:$E$2440,B57,'Po hráčích'!$J$2:$J$2440,2) -> 1 | AG57: =COUNTIFS('Po hráčích'!$E$2:$E$2440,B57,'Po hráčích'!$J$2:$J$2440,1) -> 22
A58: 55 | B58: Jelínek Petr | T58: 7 | U58: 5 | W58: 2 | X58: 6 | Y58: 3 | AA58: 23 | AB58: =COUNTIF('Po hráčích'!$E$2:$E$2440,B58) -> 12 | AC58: =COUNTIFS('Po hráčích'!$E$2:$E$2440,B58,'Po hráčích'!$J$2:$J$2440,16) -> 0 | AD58: =COUNTIFS('Po hráčích'!$E$2:$E$2440,B58,'Po hráčích'!$J$2:$J$2440,8) -> 0 | AE58: =COUNTIFS('Po hráčích'!$E$2:$E$2440,B58,'Po hráčích'!$J$2:$J$2440,4) -> 2 | AF58: =COUNTIFS('Po hráčích'!$E$2:$E$2440,B58,'Po hráčích'!$J$2:$J$2440,2) -> 5 | AG58: =COUNTIFS('Po hráčích'!$E$2:$E$2440,B58,'Po hráčích'!$J$2:$J$2440,1) -> 5
A59: 56 | B59: Krauskopf Ivo | L59: 3 | M59: 3 | N59: 2 | O59: 4 | P59: 5 | Q59: 2 | R59: 2 | S59: 1 | AA59: 22 | AB59: =COUNTIF('Po hráčích'!$E$2:$E$2440,B59) -> 21 | AC59: =COUNTIFS('Po hráčích'!$E$2:$E$2440,B59,'Po hráčích'!$J$2:$J$2440,16) -> 0 | AD59: =COUNTIFS('Po hráčích'!$E$2:$E$2440,B59,'Po hráčích'!$J$2:$J$2440,8) -> 0 | AE59: =COUNTIFS('Po hráčích'!$E$2:$E$2440,B59,'Po hráčích'!$J$2:$J$2440,4) -> 0 | AF59: =COUNTIFS('Po hráčích'!$E$2:$E$2440,B59,'Po hráčích'!$J$2:$J$2440,2) -> 1 | AG59: =COUNTIFS('Po hráčích'!$E$2:$E$2440,B59,'Po hráčích'!$J$2:$J$2440,1) -> 20
A60: 57 | B60: Severa Martin | D60: 3 | E60: 1 | G60: 1 | I60: 2 | J60: 1 | K60: 3 | L60: 2 | O60: 2 | P60: 2 | Q60: 1 | U60: 2 | W60: 2 | AA60: 22 | AB60: =COUNTIF('Po hráčích'!$E$2:$E$2440,B60) -> 22 | AC60: =COUNTIFS('Po hráčích'!$E$2:$E$2440,B60,'Po hráčích'!$J$2:$J$2440,16) -> 0 | AD60: =COUNTIFS('Po hráčích'!$E$2:$E$2440,B60,'Po hráčích'!$J$2:$J$2440,8) -> 0 | AE60: =COUNTIFS('Po hráčích'!$E$2:$E$2440,B60,'Po hráčích'!$J$2:$J$2440,4) -> 0 | AF60: =COUNTIFS('Po hráčích'!$E$2:$E$2440,B60,'Po hráčích'!$J$2:$J$2440,2) -> 0 | AG60: =COUNTIFS('Po hráčích'!$E$2:$E$2440,B60,'Po hráčích'!$J$2:$J$2440,1) -> 22
A61: 58 | B61: Měcháček Michal | R61: 4 | S61: 5 | T61: 5 | U61: 3 | Y61: 4 | AA61: 21 | AB61: =COUNTIF('Po hráčích'!$E$2:$E$2440,B61) -> 19 | AC61: =COUNTIFS('Po hráčích'!$E$2:$E$2440,B61,'Po hráčích'!$J$2:$J$2440,16) -> 0 | AD61: =COUNTIFS('Po hráčích'!$E$2:$E$2440,B61,'Po hráčích'!$J$2:$J$2440,8) -> 0 | AE61: =COUNTIFS('Po hráčích'!$E$2:$E$2440,B61,'Po hráčích'!$J$2:$J$2440,4) -> 0 | AF61: =COUNTIFS('Po hráčích'!$E$2:$E$2440,B61,'Po hráčích'!$J$2:$J$2440,2) -> 2 | AG61: =COUNTIFS('Po hráčích'!$E$2:$E$2440,B61,'Po hráčích'!$J$2:$J$2440,1) -> 17
A62: 59 | B62: Pavlasová Miloslava | D62: 1 | H62: 3 | I62: 2 | J62: 3 | K62: 3 | L62: 3 | M62: 3 | O62: 3 | AA62: 21 | AB62: =COUNTIF('Po hráčích'!$E$2:$E$2440,B62) -> 21 | AC62: =COUNTIFS('Po hráčích'!$E$2:$E$2440,B62,'Po hráčích'!$J$2:$J$2440,16) -> 0 | AD62: =COUNTIFS('Po hráčích'!$E$2:$E$2440,B62,'Po hráčích'!$J$2:$J$2440,8) -> 0 | AE62: =COUNTIFS('Po hráčích'!$E$2:$E$2440,B62,'Po hráčích'!$J$2:$J$2440,4) -> 0 | AF62: =COUNTIFS('Po hráčích'!$E$2:$E$2440,B62,'Po hráčích'!$J$2:$J$2440,2) -> 0 | AG62: =COUNTIFS('Po hráčích'!$E$2:$E$2440,B62,'Po hráčích'!$J$2:$J$2440,1) -> 21
A63: 60 | B63: Suchánek Tomáš | O63: 4 | P63: 3 | Q63: 5 | R63: 7 | AA63: 19 | AB63: =COUNTIF('Po hráčích'!$E$2:$E$2440,B63) -> 11 | AC63: =COUNTIFS('Po hráčích'!$E$2:$E$2440,B63,'Po hráčích'!$J$2:$J$2440,16) -> 0 | AD63: =COUNTIFS('Po hráčích'!$E$2:$E$2440,B63,'Po hráčích'!$J$2:$J$2440,8) -> 0 | AE63: =COUNTIFS('Po hráčích'!$E$2:$E$2440,B63,'Po hráčích'!$J$2:$J$2440,4) -> 1 | AF63: =COUNTIFS('Po hráčích'!$E$2:$E$2440,B63,'Po hráčích'!$J$2:$J$2440,2) -> 5 | AG63: =COUNTIFS('Po hráčích'!$E$2:$E$2440,B63,'Po hráčích'!$J$2:$J$2440,1) -> 5
A64: 61 | B64: Weber Pavel | U64: 3 | V64: 3 | W64: 11 | X64: 1 | Y64: 1 | AA64: 19 | AB64: =COUNTIF('Po hráčích'!$E$2:$E$2440,B64) -> 12 | AC64: =COUNTIFS('Po hráčích'!$E$2:$E$2440,B64,'Po hráčích'!$J$2:$J$2440,16) -> 0 | AD64: =COUNTIFS('Po hráčích'!$E$2:$E$2440,B64,'Po hráčích'!$J$2:$J$2440,8) -> 0 | AE64: =COUNTIFS('Po hráčích'!$E$2:$E$2440,B64,'Po hráčích'!$J$2:$J$2440,4) -> 2 | AF64: =COUNTIFS('Po hráčích'!$E$2:$E$2440,B64,'Po hráčích'!$J$2:$J$2440,2) -> 1 | AG64: =COUNTIFS('Po hráčích'!$E$2:$E$2440,B64,'Po hráčích'!$J$2:$J$2440,1) -> 9
A65: 62 | B65: Dupraz Serge | T65: 4 | U65: 1 | V65: 8 | W65: 2 | X65: 2 | Y65: 2 | AA65: 19 | AB65: =COUNTIF('Po hráčích'!$E$2:$E$2440,B65) -> 14 | AC65: =COUNTIFS('Po hráčích'!$E$2:$E$2440,B65,'Po hráčích'!$J$2:$J$2440,16) -> 0 | AD65: =COUNTIFS('Po hráčích'!$E$2:$E$2440,B65,'Po hráčích'!$J$2:$J$2440,8) -> 0 | AE65: =COUNTIFS('Po hráčích'!$E$2:$E$2440,B65,'Po hráčích'!$J$2:$J$2440,4) -> 1 | AF65: =COUNTIFS('Po hráčích'!$E$2:$E$2440,B65,'Po hráčích'!$J$2:$J$2440,2) -> 2 | AG65: =COUNTIFS('Po hráčích'!$E$2:$E$2440,B65,'Po hráčích'!$J$2:$J$2440,1) -> 11
A66: 63 | B66: Novotný Tomáš | O66: 4 | P66: 3 | Q66: 2 | R66: 3 | S66: 2 | T66: 2 | U66: 2 | V66: 1 | AA66: 19 | AB66: =COUNTIF('Po hráčích'!$E$2:$E$2440,B66) -> 19 | AC66: =COUNTIFS('Po hráčích'!$E$2:$E$2440,B66,'Po hráčích'!$J$2:$J$2440,16) -> 0 | AD66: =COUNTIFS('Po hráčích'!$E$2:$E$2440,B66,'Po hráčích'!$J$2:$J$2440,8) -> 0 | AE66: =COUNTIFS('Po hráčích'!$E$2:$E$2440,B66,'Po hráčích'!$J$2:$J$2440,4) -> 0 | AF66: =COUNTIFS('Po hráčích'!$E$2:$E$2440,B66,'Po hráčích'!$J$2:$J$2440,2) -> 0 | AG66: =COUNTIFS('Po hráčích'!$E$2:$E$2440,B66,'Po hráčích'!$J$2:$J$2440,1) -> 19
A67: 64 | B67: Mokrousov Mykola | S67: 4 | T67: 4 | U67: 4 | V67: 6 | AA67: 18 | AB67: =COUNTIF('Po hráčích'!$E$2:$E$2440,B67) -> 16 | AC67: =COUNTIFS('Po hráčích'!$E$2:$E$2440,B67,'Po hráčích'!$J$2:$J$2440,16) -> 0 | AD67: =COUNTIFS('Po hráčích'!$E$2:$E$2440,B67,'Po hráčích'!$J$2:$J$2440,8) -> 0 | AE67: =COUNTIFS('Po hráčích'!$E$2:$E$2440,B67,'Po hráčích'!$J$2:$J$2440,4) -> 0 | AF67: =COUNTIFS('Po hráčích'!$E$2:$E$2440,B67,'Po hráčích'!$J$2:$J$2440,2) -> 2 | AG67: =COUNTIFS('Po hráčích'!$E$2:$E$2440,B67,'Po hráčích'!$J$2:$J$2440,1) -> 14
A68: 65 | B68: Žaludek Karel | L68: 7 | M68: 3 | N68: 6 | O68: 2 | AA68: 18 | AB68: =COUNTIF('Po hráčích'!$E$2:$E$2440,B68) -> 9 | AC68: =COUNTIFS('Po hráčích'!$E$2:$E$2440,B68,'Po hráčích'!$J$2:$J$2440,16) -> 0 | AD68: =COUNTIFS('Po hráčích'!$E$2:$E$2440,B68,'Po hráčích'!$J$2:$J$2440,8) -> 0 | AE68: =COUNTIFS('Po hráčích'!$E$2:$E$2440,B68,'Po hráčích'!$J$2:$J$2440,4) -> 2 | AF68: =COUNTIFS('Po hráčích'!$E$2:$E$2440,B68,'Po hráčích'!$J$2:$J$2440,2) -> 3 | AG68: =COUNTIFS('Po hráčích'!$E$2:$E$2440,B68,'Po hráčích'!$J$2:$J$2440,1) -> 4
A69: 66 | B69: Balan Arivukkannan | Y69: 17 | AA69: 17 | AB69: =COUNTIF('Po hráčích'!$E$2:$E$2440,B69) -> 2 | AC69: =COUNTIFS('Po hráčích'!$E$2:$E$2440,B69,'Po hráčích'!$J$2:$J$2440,16) -> 1 | AD69: =COUNTIFS('Po hráčích'!$E$2:$E$2440,B69,'Po hráčích'!$J$2:$J$2440,8) -> 0 | AE69: =COUNTIFS('Po hráčích'!$E$2:$E$2440,B69,'Po hráčích'!$J$2:$J$2440,4) -> 0 | AF69: =COUNTIFS('Po hráčích'!$E$2:$E$2440,B69,'Po hráčích'!$J$2:$J$2440,2) -> 0 | AG69: =COUNTIFS('Po hráčích'!$E$2:$E$2440,B69,'Po hráčích'!$J$2:$J$2440,1) -> 1
A70: 67 | B70: Náhlík Tomáš | L70: 7 | M70: 4 | P70: 6 | AA70: 17 | AB70: =COUNTIF('Po hráčích'!$E$2:$E$2440,B70) -> 9 | AC70: =COUNTIFS('Po hráčích'!$E$2:$E$2440,B70,'Po hráčích'!$J$2:$J$2440,16) -> 0 | AD70: =COUNTIFS('Po hráčích'!$E$2:$E$2440,B70,'Po hráčích'!$J$2:$J$2440,8) -> 0 | AE70: =COUNTIFS('Po hráčích'!$E$2:$E$2440,B70,'Po hráčích'!$J$2:$J$2440,4) -> 1 | AF70: =COUNTIFS('Po hráčích'!$E$2:$E$2440,B70,'Po hráčích'!$J$2:$J$2440,2) -> 5 | AG70: =COUNTIFS('Po hráčích'!$E$2:$E$2440,B70,'Po hráčích'!$J$2:$J$2440,1) -> 3
A71: 68 | B71: Kaslová Květa | K71: 2 | L71: 2 | M71: 2 | O71: 2 | P71: 2 | Q71: 2 | R71: 2 | S71: 2 | AA71: 16 | AB71: =COUNTIF('Po hráčích'!$E$2:$E$2440,B71) -> 16 | AC71: =COUNTIFS('Po hráčích'!$E$2:$E$2440,B71,'Po hráčích'!$J$2:$J$2440,16) -> 0 | AD71: =COUNTIFS('Po hráčích'!$E$2:$E$2440,B71,'Po hráčích'!$J$2:$J$2440,8) -> 0 | AE71: =COUNTIFS('Po hráčích'!$E$2:$E$2440,B71,'Po hráčích'!$J$2:$J$2440,4) -> 0 | AF71: =COUNTIFS('Po hráčích'!$E$2:$E$2440,B71,'Po hráčích'!$J$2:$J$2440,2) -> 0 | AG71: =COUNTIFS('Po hráčích'!$E$2:$E$2440,B71,'Po hráčích'!$J$2:$J$2440,1) -> 16
A72: 69 | B72: Kotršál František | U72: 5 | X72: 3 | Y72: 4 | Z72: 3 | AA72: 15 | AB72: =COUNTIF('Po hráčích'!$E$2:$E$2440,B72) -> 9 | AC72: =COUNTIFS('Po hráčích'!$E$2:$E$2440,B72,'Po hráčích'!$J$2:$J$2440,16) -> 0 | AD72: =COUNTIFS('Po hráčích'!$E$2:$E$2440,B72,'Po hráčích'!$J$2:$J$2440,8) -> 0 | AE72: =COUNTIFS('Po hráčích'!$E$2:$E$2440,B72,'Po hráčích'!$J$2:$J$2440,4) -> 1 | AF72: =COUNTIFS('Po hráčích'!$E$2:$E$2440,B72,'Po hráčích'!$J$2:$J$2440,2) -> 3 | AG72: =COUNTIFS('Po hráčích'!$E$2:$E$2440,B72,'Po hráčích'!$J$2:$J$2440,1) -> 5
A73: 70 | B73: Jech Pavel | K73: 2 | L73: 1 | M73: 2 | N73: 3 | O73: 3 | Q73: 2 | T73: 2 | AA73: 15 | AB73: =COUNTIF('Po hráčích'!$E$2:$E$2440,B73) -> 13 | AC73: =COUNTIFS('Po hráčích'!$E$2:$E$2440,B73,'Po hráčích'!$J$2:$J$2440,16) -> 0 | AD73: =COUNTIFS('Po hráčích'!$E$2:$E$2440,B73,'Po hráčích'!$J$2:$J$2440,8) -> 0 | AE73: =COUNTIFS('Po hráčích'!$E$2:$E$2440,B73,'Po hráčích'!$J$2:$J$2440,4) -> 0 | AF73: =COUNTIFS('Po hráčích'!$E$2:$E$2440,B73,'Po hráčích'!$J$2:$J$2440,2) -> 2 | AG73: =COUNTIFS('Po hráčích'!$E$2:$E$2440,B73,'Po hráčích'!$J$2:$J$2440,1) -> 11
A74: 71 | B74: Michálek Petr | N74: 1 | O74: 3 | P74: 4 | Q74: 4 | R74: 1 | W74: 1 | Y74: 1 | AA74: 15 | AB74: =COUNTIF('Po hráčích'!$E$2:$E$2440,B74) -> 15 | AC74: =COUNTIFS('Po hráčích'!$E$2:$E$2440,B74,'Po hráčích'!$J$2:$J$2440,16) -> 0 | AD74: =COUNTIFS('Po hráčích'!$E$2:$E$2440,B74,'Po hráčích'!$J$2:$J$2440,8) -> 0 | AE74: =COUNTIFS('Po hráčích'!$E$2:$E$2440,B74,'Po hráčích'!$J$2:$J$2440,4) -> 0 | AF74: =COUNTIFS('Po hráčích'!$E$2:$E$2440,B74,'Po hráčích'!$J$2:$J$2440,2) -> 0 | AG74: =COUNTIFS('Po hráčích'!$E$2:$E$2440,B74,'Po hráčích'!$J$2:$J$2440,1) -> 15
A75: 72 | B75: Zůna Jiří | Y75: 10 | Z75: 4 | AA75: 14 | AB75: =COUNTIF('Po hráčích'!$E$2:$E$2440,B75) -> 8 | AC75: =COUNTIFS('Po hráčích'!$E$2:$E$2440,B75,'Po hráčích'!$J$2:$J$2440,16) -> 0 | AD75: =COUNTIFS('Po hráčích'!$E$2:$E$2440,B75,'Po hráčích'!$J$2:$J$2440,8) -> 0 | AE75: =COUNTIFS('Po hráčích'!$E$2:$E$2440,B75,'Po hráčích'!$J$2:$J$2440,4) -> 1 | AF75: =COUNTIFS('Po hráčích'!$E$2:$E$2440,B75,'Po hráčích'!$J$2:$J$2440,2) -> 3 | AG75: =COUNTIFS('Po hráčích'!$E$2:$E$2440,B75,'Po hráčích'!$J$2:$J$2440,1) -> 4
A76: 73 | B76: Kotěra Jan | X76: 5 | Y76: 6 | Z76: 3 | AA76: 14 | AB76: =COUNTIF('Po hráčích'!$E$2:$E$2440,B76) -> 6 | AC76: =COUNTIFS('Po hráčích'!$E$2:$E$2440,B76,'Po hráčích'!$J$2:$J$2440,16) -> 0 | AD76: =COUNTIFS('Po hráčích'!$E$2:$E$2440,B76,'Po hráčích'!$J$2:$J$2440,8) -> 0 | AE76: =COUNTIFS('Po hráčích'!$E$2:$E$2440,B76,'Po hráčích'!$J$2:$J$2440,4) -> 2 | AF76: =COUNTIFS('Po hráčích'!$E$2:$E$2440,B76,'Po hráčích'!$J$2:$J$2440,2) -> 2 | AG76: =COUNTIFS('Po hráčích'!$E$2:$E$2440,B76,'Po hráčích'!$J$2:$J$2440,1) -> 2
A77: 74 | B77: Burda Martin | T77: 2 | U77: 3 | V77: 4 | W77: 5 | AA77: 14 | AB77: =COUNTIF('Po hráčích'!$E$2:$E$2440,B77) -> 10 | AC77: =COUNTIFS('Po hráčích'!$E$2:$E$2440,B77,'Po hráčích'!$J$2:$J$2440,16) -> 0 | AD77: =COUNTIFS('Po hráčích'!$E$2:$E$2440,B77,'Po hráčích'!$J$2:$J$2440,8) -> 0 | AE77: =COUNTIFS('Po hráčích'!$E$2:$E$2440,B77,'Po hráčích'!$J$2:$J$2440,4) -> 0 | AF77: =COUNTIFS('Po hráčích'!$E$2:$E$2440,B77,'Po hráčích'!$J$2:$J$2440,2) -> 4 | AG77: =COUNTIFS('Po hráčích'!$E$2:$E$2440,B77,'Po hráčích'!$J$2:$J$2440,1) -> 6
A78: 75 | B78: Skrbek Jiří | S78: 3 | T78: 3 | U78: 4 | V78: 3 | W78: 1 | AA78: 14 | AB78: =COUNTIF('Po hráčích'!$E$2:$E$2440,B78) -> 14 | AC78: =COUNTIFS('Po hráčích'!$E$2:$E$2440,B78,'Po hráčích'!$J$2:$J$2440,16) -> 0 | AD78: =COUNTIFS('Po hráčích'!$E$2:$E$2440,B78,'Po hráčích'!$J$2:$J$2440,8) -> 0 | AE78: =COUNTIFS('Po hráčích'!$E$2:$E$2440,B78,'Po hráčích'!$J$2:$J$2440,4) -> 0 | AF78: =COUNTIFS('Po hráčích'!$E$2:$E$2440,B78,'Po hráčích'!$J$2:$J$2440,2) -> 0 | AG78: =COUNTIFS('Po hráčích'!$E$2:$E$2440,B78,'Po hráčích'!$J$2:$J$2440,1) -> 14
A79: 76 | B79: Kadlec Pavel | R79: 4 | S79: 4 | U79: 2 | V79: 2 | W79: 2 | AA79: 14 | AB79: =COUNTIF('Po hráčích'!$E$2:$E$2440,B79) -> 13 | AC79: =COUNTIFS('Po hráčích'!$E$2:$E$2440,B79,'Po hráčích'!$J$2:$J$2440,16) -> 0 | AD79: =COUNTIFS('Po hráčích'!$E$2:$E$2440,B79,'Po hráčích'!$J$2:$J$2440,8) -> 0 | AE79: =COUNTIFS('Po hráčích'!$E$2:$E$2440,B79,'Po hráčích'!$J$2:$J$2440,4) -> 0 | AF79: =COUNTIFS('Po hráčích'!$E$2:$E$2440,B79,'Po hráčích'!$J$2:$J$2440,2) -> 1 | AG79: =COUNTIFS('Po hráčích'!$E$2:$E$2440,B79,'Po hráčích'!$J$2:$J$2440,1) -> 12
A80: 77 | B80: Balský Karel | C80: 2 | D80: 2 | E80: 1 | H80: 3 | I80: 2 | K80: 1 | L80: 1 | M80: 2 | AA80: 14 | AB80: =COUNTIF('Po hráčích'!$E$2:$E$2440,B80) -> 13 | AC80: =COUNTIFS('Po hráčích'!$E$2:$E$2440,B80,'Po hráčích'!$J$2:$J$2440,16) -> 0 | AD80: =COUNTIFS('Po hráčích'!$E$2:$E$2440,B80,'Po hráčích'!$J$2:$J$2440,8) -> 0 | AE80: =COUNTIFS('Po hráčích'!$E$2:$E$2440,B80,'Po hráčích'!$J$2:$J$2440,4) -> 0 | AF80: =COUNTIFS('Po hráčích'!$E$2:$E$2440,B80,'Po hráčích'!$J$2:$J$2440,2) -> 1 | AG80: =COUNTIFS('Po hráčích'!$E$2:$E$2440,B80,'Po hráčích'!$J$2:$J$2440,1) -> 12
A81: 78 | B81: Štorch Milan | G81: 1 | H81: 2 | I81: 2 | J81: 2 | K81: 2 | L81: 2 | M81: 2 | N81: 1 | AA81: 14 | AB81: =COUNTIF('Po hráčích'!$E$2:$E$2440,B81) -> 14 | AC81: =COUNTIFS('Po hráčích'!$E$2:$E$2440,B81,'Po hráčích'!$J$2:$J$2440,16) -> 0 | AD81: =COUNTIFS('Po hráčích'!$E$2:$E$2440,B81,'Po hráčích'!$J$2:$J$2440,8) -> 0 | AE81: =COUNTIFS('Po hráčích'!$E$2:$E$2440,B81,'Po hráčích'!$J$2:$J$2440,4) -> 0 | AF81: =COUNTIFS('Po hráčích'!$E$2:$E$2440,B81,'Po hráčích'!$J$2:$J$2440,2) -> 0 | AG81: =COUNTIFS('Po hráčích'!$E$2:$E$2440,B81,'Po hráčích'!$J$2:$J$2440,1) -> 14
A82: 79 | B82: Štich Václav | K82: 2 | L82: 1 | M82: 2 | O82: 2 | P82: 2 | Q82: 2 | R82: 1 | S82: 2 | AA82: 14 | AB82: =COUNTIF('Po hráčích'!$E$2:$E$2440,B82) -> 14 | AC82: =COUNTIFS('Po hráčích'!$E$2:$E$2440,B82,'Po hráčích'!$J$2:$J$2440,16) -> 0 | AD82: =COUNTIFS('Po hráčích'!$E$2:$E$2440,B82,'Po hráčích'!$J$2:$J$2440,8) -> 0 | AE82: =COUNTIFS('Po hráčích'!$E$2:$E$2440,B82,'Po hráčích'!$J$2:$J$2440,4) -> 0 | AF82: =COUNTIFS('Po hráčích'!$E$2:$E$2440,B82,'Po hráčích'!$J$2:$J$2440,2) -> 0 | AG82: =COUNTIFS('Po hráčích'!$E$2:$E$2440,B82,'Po hráčích'!$J$2:$J$2440,1) -> 14
A83: 80 | B83: Lener Jaroslav | S83: 3 | T83: 2 | U83: 3 | V83: 2 | W83: 3 | AA83: 13 | AB83: =COUNTIF('Po hráčích'!$E$2:$E$2440,B83) -> 12 | AC83: =COUNTIFS('Po hráčích'!$E$2:$E$2440,B83,'Po hráčích'!$J$2:$J$2440,16) -> 0 | AD83: =COUNTIFS('Po hráčích'!$E$2:$E$2440,B83,'Po hráčích'!$J$2:$J$2440,8) -> 0 | AE83: =COUNTIFS('Po hráčích'!$E$2:$E$2440,B83,'Po hráčích'!$J$2:$J$2440,4) -> 0 | AF83: =COUNTIFS('Po hráčích'!$E$2:$E$2440,B83,'Po hráčích'!$J$2:$J$2440,2) -> 1 | AG83: =COUNTIFS('Po hráčích'!$E$2:$E$2440,B83,'Po hráčích'!$J$2:$J$2440,1) -> 11
A84: 81 | B84: Kesnerová Valentina | E84: 1 | I84: 3 | J84: 3 | K84: 3 | L84: 3 | AA84: 13 | AB84: =COUNTIF('Po hráčích'!$E$2:$E$2440,B84) -> 13 | AC84: =COUNTIFS('Po hráčích'!$E$2:$E$2440,B84,'Po hráčích'!$J$2:$J$2440,16) -> 0 | AD84: =COUNTIFS('Po hráčích'!$E$2:$E$2440,B84,'Po hráčích'!$J$2:$J$2440,8) -> 0 | AE84: =COUNTIFS('Po hráčích'!$E$2:$E$2440,B84,'Po hráčích'!$J$2:$J$2440,4) -> 0 | AF84: =COUNTIFS('Po hráčích'!$E$2:$E$2440,B84,'Po hráčích'!$J$2:$J$2440,2) -> 0 | AG84: =COUNTIFS('Po hráčích'!$E$2:$E$2440,B84,'Po hráčích'!$J$2:$J$2440,1) -> 13
A85: 82 | B85: Paťcha Robert | U85: 2 | V85: 1 | W85: 2 | X85: 2 | Y85: 2 | Z85: 4 | AA85: 13 | AB85: =COUNTIF('Po hráčích'!$E$2:$E$2440,B85) -> 13 | AC85: =COUNTIFS('Po hráčích'!$E$2:$E$2440,B85,'Po hráčích'!$J$2:$J$2440,16) -> 0 | AD85: =COUNTIFS('Po hráčích'!$E$2:$E$2440,B85,'Po hráčích'!$J$2:$J$2440,8) -> 0 | AE85: =COUNTIFS('Po hráčích'!$E$2:$E$2440,B85,'Po hráčích'!$J$2:$J$2440,4) -> 0 | AF85: =COUNTIFS('Po hráčích'!$E$2:$E$2440,B85,'Po hráčích'!$J$2:$J$2440,2) -> 0 | AG85: =COUNTIFS('Po hráčích'!$E$2:$E$2440,B85,'Po hráčích'!$J$2:$J$2440,1) -> 13
A86: 83 | B86: Egner Alexandr | N86: 1 | O86: 2 | P86: 2 | Q86: 1 | R86: 3 | S86: 2 | T86: 2 | AA86: 13 | AB86: =COUNTIF('Po hráčích'!$E$2:$E$2440,B86) -> 13 | AC86: =COUNTIFS('Po hráčích'!$E$2:$E$2440,B86,'Po hráčích'!$J$2:$J$2440,16) -> 0 | AD86: =COUNTIFS('Po hráčích'!$E$2:$E$2440,B86,'Po hráčích'!$J$2:$J$2440,8) -> 0 | AE86: =COUNTIFS('Po hráčích'!$E$2:$E$2440,B86,'Po hráčích'!$J$2:$J$2440,4) -> 0 | AF86: =COUNTIFS('Po hráčích'!$E$2:$E$2440,B86,'Po hráčích'!$J$2:$J$2440,2) -> 0 | AG86: =COUNTIFS('Po hráčích'!$E$2:$E$2440,B86,'Po hráčích'!$J$2:$J$2440,1) -> 13
A87: 84 | B87: Jadrný Roman | O87: 3 | P87: 3 | Q87: 3 | R87: 1 | S87: 2 | AA87: 12 | AB87: =COUNTIF('Po hráčích'!$E$2:$E$2440,B87) -> 12 | AC87: =COUNTIFS('Po hráčích'!$E$2:$E$2440,B87,'Po hráčích'!$J$2:$J$2440,16) -> 0 | AD87: =COUNTIFS('Po hráčích'!$E$2:$E$2440,B87,'Po hráčích'!$J$2:$J$2440,8) -> 0 | AE87: =COUNTIFS('Po hráčích'!$E$2:$E$2440,B87,'Po hráčích'!$J$2:$J$2440,4) -> 0 | AF87: =COUNTIFS('Po hráčích'!$E$2:$E$2440,B87,'Po hráčích'!$J$2:$J$2440,2) -> 0 | AG87: =COUNTIFS('Po hráčích'!$E$2:$E$2440,B87,'Po hráčích'!$J$2:$J$2440,1) -> 12
A88: 85 | B88: Brancuský Petr | S88: 1 | T88: 4 | U88: 3 | V88: 2 | W88: 2 | AA88: 12 | AB88: =COUNTIF('Po hráčích'!$E$2:$E$2440,B88) -> 12 | AC88: =COUNTIFS('Po hráčích'!$E$2:$E$2440,B88,'Po hráčích'!$J$2:$J$2440,16) -> 0 | AD88: =COUNTIFS('Po hráčích'!$E$2:$E$2440,B88,'Po hráčích'!$J$2:$J$2440,8) -> 0 | AE88: =COUNTIFS('Po hráčích'!$E$2:$E$2440,B88,'Po hráčích'!$J$2:$J$2440,4) -> 0 | AF88: =COUNTIFS('Po hráčích'!$E$2:$E$2440,B88,'Po hráčích'!$J$2:$J$2440,2) -> 0 | AG88: =COUNTIFS('Po hráčích'!$E$2:$E$2440,B88,'Po hráčích'!$J$2:$J$2440,1) -> 12
A89: 86 | B89: Mikeš Jaroslav | Q89: 2 | R89: 3 | S89: 4 | T89: 2 | AA89: 11 | AB89: =COUNTIF('Po hráčích'!$E$2:$E$2440,B89) -> 11 | AC89: =COUNTIFS('Po hráčích'!$E$2:$E$2440,B89,'Po hráčích'!$J$2:$J$2440,16) -> 0 | AD89: =COUNTIFS('Po hráčích'!$E$2:$E$2440,B89,'Po hráčích'!$J$2:$J$2440,8) -> 0 | AE89: =COUNTIFS('Po hráčích'!$E$2:$E$2440,B89,'Po hráčích'!$J$2:$J$2440,4) -> 0 | AF89: =COUNTIFS('Po hráčích'!$E$2:$E$2440,B89,'Po hráčích'!$J$2:$J$2440,2) -> 0 | AG89: =COUNTIFS('Po hráčích'!$E$2:$E$2440,B89,'Po hráčích'!$J$2:$J$2440,1) -> 11
A90: 87 | B90: Štych Jiří | J90: 3 | K90: 2 | L90: 2 | M90: 3 | N90: 1 | AA90: 11 | AB90: =COUNTIF('Po hráčích'!$E$2:$E$2440,B90) -> 11 | AC90: =COUNTIFS('Po hráčích'!$E$2:$E$2440,B90,'Po hráčích'!$J$2:$J$2440,16) -> 0 | AD90: =COUNTIFS('Po hráčích'!$E$2:$E$2440,B90,'Po hráčích'!$J$2:$J$2440,8) -> 0 | AE90: =COUNTIFS('Po hráčích'!$E$2:$E$2440,B90,'Po hráčích'!$J$2:$J$2440,4) -> 0 | AF90: =COUNTIFS('Po hráčích'!$E$2:$E$2440,B90,'Po hráčích'!$J$2:$J$2440,2) -> 0 | AG90: =COUNTIFS('Po hráčích'!$E$2:$E$2440,B90,'Po hráčích'!$J$2:$J$2440,1) -> 11
A91: 88 | B91: Illner Petr | K91: 3 | L91: 2 | M91: 3 | N91: 1 | R91: 2 | AA91: 11 | AB91: =COUNTIF('Po hráčích'!$E$2:$E$2440,B91) -> 11 | AC91: =COUNTIFS('Po hráčích'!$E$2:$E$2440,B91,'Po hráčích'!$J$2:$J$2440,16) -> 0 | AD91: =COUNTIFS('Po hráčích'!$E$2:$E$2440,B91,'Po hráčích'!$J$2:$J$2440,8) -> 0 | AE91: =COUNTIFS('Po hráčích'!$E$2:$E$2440,B91,'Po hráčích'!$J$2:$J$2440,4) -> 0 | AF91: =COUNTIFS('Po hráčích'!$E$2:$E$2440,B91,'Po hráčích'!$J$2:$J$2440,2) -> 0 | AG91: =COUNTIFS('Po hráčích'!$E$2:$E$2440,B91,'Po hráčích'!$J$2:$J$2440,1) -> 11
A92: 89 | B92: Šafařík Jan | U92: 6 | Z92: 4 | AA92: 10 | AB92: =COUNTIF('Po hráčích'!$E$2:$E$2440,B92) -> 4 | AC92: =COUNTIFS('Po hráčích'!$E$2:$E$2440,B92,'Po hráčích'!$J$2:$J$2440,16) -> 0 | AD92: =COUNTIFS('Po hráčích'!$E$2:$E$2440,B92,'Po hráčích'!$J$2:$J$2440,8) -> 0 | AE92: =COUNTIFS('Po hráčích'!$E$2:$E$2440,B92,'Po hráčích'!$J$2:$J$2440,4) -> 2 | AF92: =COUNTIFS('Po hráčích'!$E$2:$E$2440,B92,'Po hráčích'!$J$2:$J$2440,2) -> 0 | AG92: =COUNTIFS('Po hráčích'!$E$2:$E$2440,B92,'Po hráčích'!$J$2:$J$2440,1) -> 2
A93: 90 | B93: Škodný Josef | S93: 2 | T93: 2 | U93: 2 | V93: 4 | AA93: 10 | AB93: =COUNTIF('Po hráčích'!$E$2:$E$2440,B93) -> 10 | AC93: =COUNTIFS('Po hráčích'!$E$2:$E$2440,B93,'Po hráčích'!$J$2:$J$2440,16) -> 0 | AD93: =COUNTIFS('Po hráčích'!$E$2:$E$2440,B93,'Po hráčích'!$J$2:$J$2440,8) -> 0 | AE93: =COUNTIFS('Po hráčích'!$E$2:$E$2440,B93,'Po hráčích'!$J$2:$J$2440,4) -> 0 | AF93: =COUNTIFS('Po hráčích'!$E$2:$E$2440,B93,'Po hráčích'!$J$2:$J$2440,2) -> 0 | AG93: =COUNTIFS('Po hráčích'!$E$2:$E$2440,B93,'Po hráčích'!$J$2:$J$2440,1) -> 10
A94: 91 | B94: Téma Libor | O94: 3 | P94: 4 | Q94: 2 | R94: 1 | AA94: 10 | AB94: =COUNTIF('Po hráčích'!$E$2:$E$2440,B94) -> 10 | AC94: =COUNTIFS('Po hráčích'!$E$2:$E$2440,B94,'Po hráčích'!$J$2:$J$2440,16) -> 0 | AD94: =COUNTIFS('Po hráčích'!$E$2:$E$2440,B94,'Po hráčích'!$J$2:$J$2440,8) -> 0 | AE94: =COUNTIFS('Po hráčích'!$E$2:$E$2440,B94,'Po hráčích'!$J$2:$J$2440,4) -> 0 | AF94: =COUNTIFS('Po hráčích'!$E$2:$E$2440,B94,'Po hráčích'!$J$2:$J$2440,2) -> 0 | AG94: =COUNTIFS('Po hráčích'!$E$2:$E$2440,B94,'Po hráčích'!$J$2:$J$2440,1) -> 10
A95: 92 | B95: Diviš Pavel | P95: 4 | Q95: 3 | R95: 1 | S95: 2 | AA95: 10 | AB95: =COUNTIF('Po hráčích'!$E$2:$E$2440,B95) -> 10 | AC95: =COUNTIFS('Po hráčích'!$E$2:$E$2440,B95,'Po hráčích'!$J$2:$J$2440,16) -> 0 | AD95: =COUNTIFS('Po hráčích'!$E$2:$E$2440,B95,'Po hráčích'!$J$2:$J$2440,8) -> 0 | AE95: =COUNTIFS('Po hráčích'!$E$2:$E$2440,B95,'Po hráčích'!$J$2:$J$2440,4) -> 0 | AF95: =COUNTIFS('Po hráčích'!$E$2:$E$2440,B95,'Po hráčích'!$J$2:$J$2440,2) -> 0 | AG95: =COUNTIFS('Po hráčích'!$E$2:$E$2440,B95,'Po hráčích'!$J$2:$J$2440,1) -> 10
A96: 93 | B96: Vajner David | R96: 3 | S96: 2 | U96: 4 | V96: 1 | AA96: 10 | AB96: =COUNTIF('Po hráčích'!$E$2:$E$2440,B96) -> 6 | AC96: =COUNTIFS('Po hráčích'!$E$2:$E$2440,B96,'Po hráčích'!$J$2:$J$2440,16) -> 0 | AD96: =COUNTIFS('Po hráčích'!$E$2:$E$2440,B96,'Po hráčích'!$J$2:$J$2440,8) -> 0 | AE96: =COUNTIFS('Po hráčích'!$E$2:$E$2440,B96,'Po hráčích'!$J$2:$J$2440,4) -> 1 | AF96: =COUNTIFS('Po hráčích'!$E$2:$E$2440,B96,'Po hráčích'!$J$2:$J$2440,2) -> 1 | AG96: =COUNTIFS('Po hráčích'!$E$2:$E$2440,B96,'Po hráčích'!$J$2:$J$2440,1) -> 4
A97: 94 | B97: Hamáček Jaroslav | P97: 2 | R97: 2 | S97: 2 | T97: 2 | U97: 2 | AA97: 10 | AB97: =COUNTIF('Po hráčích'!$E$2:$E$2440,B97) -> 10 | AC97: =COUNTIFS('Po hráčích'!$E$2:$E$2440,B97,'Po hráčích'!$J$2:$J$2440,16) -> 0 | AD97: =COUNTIFS('Po hráčích'!$E$2:$E$2440,B97,'Po hráčích'!$J$2:$J$2440,8) -> 0 | AE97: =COUNTIFS('Po hráčích'!$E$2:$E$2440,B97,'Po hráčích'!$J$2:$J$2440,4) -> 0 | AF97: =COUNTIFS('Po hráčích'!$E$2:$E$2440,B97,'Po hráčích'!$J$2:$J$2440,2) -> 0 | AG97: =COUNTIFS('Po hráčích'!$E$2:$E$2440,B97,'Po hráčích'!$J$2:$J$2440,1) -> 10
A98: 95 | B98: Louda Luboš | Q98: 3 | R98: 2 | S98: 2 | T98: 1 | V98: 1 | W98: 1 | AA98: 10 | AB98: =COUNTIF('Po hráčích'!$E$2:$E$2440,B98) -> 10 | AC98: =COUNTIFS('Po hráčích'!$E$2:$E$2440,B98,'Po hráčích'!$J$2:$J$2440,16) -> 0 | AD98: =COUNTIFS('Po hráčích'!$E$2:$E$2440,B98,'Po hráčích'!$J$2:$J$2440,8) -> 0 | AE98: =COUNTIFS('Po hráčích'!$E$2:$E$2440,B98,'Po hráčích'!$J$2:$J$2440,4) -> 0 | AF98: =COUNTIFS('Po hráčích'!$E$2:$E$2440,B98,'Po hráčích'!$J$2:$J$2440,2) -> 0 | AG98: =COUNTIFS('Po hráčích'!$E$2:$E$2440,B98,'Po hráčích'!$J$2:$J$2440,1) -> 10
A99: 96 | B99: Vizingr Miloš | J99: 9 | AA99: 9 | AB99: =COUNTIF('Po hráčích'!$E$2:$E$2440,B99) -> 3 | AC99: =COUNTIFS('Po hráčích'!$E$2:$E$2440,B99,'Po hráčích'!$J$2:$J$2440,16) -> 0 | AD99: =COUNTIFS('Po hráčích'!$E$2:$E$2440,B99,'Po hráčích'!$J$2:$J$2440,8) -> 0 | AE99: =COUNTIFS('Po hráčích'!$E$2:$E$2440,B99,'Po hráčích'!$J$2:$J$2440,4) -> 2 | AF99: =COUNTIFS('Po hráčích'!$E$2:$E$2440,B99,'Po hráčích'!$J$2:$J$2440,2) -> 0 | AG99: =COUNTIFS('Po hráčích'!$E$2:$E$2440,B99,'Po hráčích'!$J$2:$J$2440,1) -> 1
A100: 97 | B100: Nikolič Srdan | X100: 4 | Y100: 3 | Z100: 2 | AA100: 9 | AB100: =COUNTIF('Po hráčích'!$E$2:$E$2440,B100) -> 8 | AC100: =COUNTIFS('Po hráčích'!$E$2:$E$2440,B100,'Po hráčích'!$J$2:$J$2440,16) -> 0 | AD100: =COUNTIFS('Po hráčích'!$E$2:$E$2440,B100,'Po hráčích'!$J$2:$J$2440,8) -> 0 | AE100: =COUNTIFS('Po hráčích'!$E$2:$E$2440,B100,'Po hráčích'!$J$2:$J$2440,4) -> 0 | AF100: =COUNTIFS('Po hráčích'!$E$2:$E$2440,B100,'Po hráčích'!$J$2:$J$2440,2) -> 1 | AG100: =COUNTIFS('Po hráčích'!$E$2:$E$2440,B100,'Po hráčích'!$J$2:$J$2440,1) -> 7
A101: 98 | B101: Hečko Karel | Q101: 2 | R101: 4 | S101: 3 | AA101: 9 | AB101: =COUNTIF('Po hráčích'!$E$2:$E$2440,B101) -> 9 | AC101: =COUNTIFS('Po hráčích'!$E$2:$E$2440,B101,'Po hráčích'!$J$2:$J$2440,16) -> 0 | AD101: =COUNTIFS('Po hráčích'!$E$2:$E$2440,B101,'Po hráčích'!$J$2:$J$2440,8) -> 0 | AE101: =COUNTIFS('Po hráčích'!$E$2:$E$2440,B101,'Po hráčích'!$J$2:$J$2440,4) -> 0 | AF101: =COUNTIFS('Po hráčích'!$E$2:$E$2440,B101,'Po hráčích'!$J$2:$J$2440,2) -> 0 | AG101: =COUNTIFS('Po hráčích'!$E$2:$E$2440,B101,'Po hráčích'!$J$2:$J$2440,1) -> 9
...

Sheet 8-ball
B2: ŽEBŘÍČEK 8-BALL | C2: Bodové hodnocení pro MR v poolových disciplínách - senioři 1999 - 2023 | AB2: POČET ODEHRANÝCH TURNAJŮ
B3: Jméno | C3: 1999 | D3: 2000 | E3: 2001 | F3: 2002 | G3: 2003 | H3: 2004 | I3: 2005 | J3: 2006 | K3: 2007 | L3: 2008 | M3: 2009 | N3: 2010 | O3: 2011 | P3: 2012 | Q3: 2013 | R3: 2014 | S3: 2015 | T3: 2016 | U3: 2017 | V3: 2018 | W3: 2019 | X3: 2021 | Y3: 2022 | Z3: 2023 | AA3: Body | AB3: Turnaje | AC3: *1* | AD3: *2* | AE3: *3-4* | AF3: *5-8* | AG3: * 9 +*
A4: 1 | B4: Halamka Pavel | C4: 4 | D4: 4 | E4: 16 | F4: 16 | G4: 16 | H4: 1 | I4: 16 | J4: 1 | K4: 8 | L4: 8 | M4: 8 | N4: 8 | O4: 4 | P4: 1 | Q4: 4 | R4: 8 | S4: 8 | T4: 1 | U4: 1 | V4: 2 | W4: 1 | X4: 2 | Y4: 8 | Z4: 1 | AA4: 147 | AB4: 24 | AC4: 4 | AD4: 7 | AE4: 4 | AF4: 2 | AG4: 7
A5: 2 | B5: Janata Jan | O5: 16 | P5: 16 | Q5: 16 | S5: 16 | T5: 1 | AA5: 65 | AB5: 5 | AC5: 4 | AD5: 0 | AE5: 0 | AF5: 0 | AG5: 1
A6: 3 | B6: Marič Márijo | L6: 16 | M6: 4 | N6: 4 | P6: 8 | R6: 2 | T6: 1 | V6: 8 | W6: 8 | Y6: 1 | Z6: 8 | AA6: 60 | AB6: 10 | AC6: 1 | AD6: 4 | AE6: 2 | AF6: 1 | AG6: 2
A7: 4 | B7: Kokoška Petr | J7: 16 | K7: 16 | L7: 2 | M7: 4 | N7: 16 | O7: 2 | AA7: 56 | AB7: 6 | AC7: 3 | AD7: 0 | AE7: 1 | AF7: 2 | AG7: 0
A8: 5 | B8: Škrhák Vladimír | D8: 1 | E8: 4 | F8: 8 | G8: 2 | H8: 16 | I8: 2 | J8: 1 | K8: 1 | L8: 1 | M8: 1 | N8: 1 | O8: 2 | P8: 1 | Q8: 1 | R8: 2 | S8: 1 | T8: 1 | U8: 1 | V8: 1 | W8: 1 | Y8: 1 | Z8: 1 | AA8: 51 | AB8: 22 | AC8: 1 | AD8: 1 | AE8: 1 | AF8: 4 | AG8: 15
A9: 6 | B9: Dorobant Slavomír | P9: 2 | Q9: 2 | R9: 16 | S9: 2 | T9: 4 | Z9: 16 | AA9: 42 | AB9: 6 | AC9: 2 | AD9: 0 | AE9: 1 | AF9: 3 | AG9: 0
A10: 7 | B10: Rush Andrew | S10: 1 | T10: 4 | U10: 16 | V10: 16 | AA10: 37 | AB10: 4 | AC10: 2 | AD10: 0 | AE10: 1 | AF10: 0 | AG10: 1
A11: 8 | B11: Korn Jiří | C11: 8 | D11: 16 | E11: 4 | F11: 1 | J11: 1 | K11: 2 | L11: 1 | M11: 1 | O11: 1 | P11: 1 | AA11: 36 | AB11: 10 | AC11: 1 | AD11: 1 | AE11: 1 | AF11: 1 | AG11: 6
A12: 9 | B12: Zeman Oto | L12: 2 | M12: 16 | P12: 1 | Q12: 2 | R12: 1 | S12: 1 | T12: 8 | U12: 2 | V12: 1 | Z12: 2 | AA12: 36 | AB12: 10 | AC12: 1 | AD12: 1 | AE12: 0 | AF12: 4 | AG12: 4
A13: 10 | B13: Stojka Milan | C13: 16 | D13: 2 | E13: 2 | F13: 2 | G13: 1 | H13: 1 | I13: 2 | J13: 4 | K13: 1 | L13: 2 | M13: 1 | AA13: 34 | AB13: 11 | AC13: 1 | AD13: 0 | AE13: 1 | AF13: 5 | AG13: 4
A14: 11 | B14: Kavan Petr | N14: 1 | O14: 8 | P14: 4 | Q14: 4 | R14: 4 | S14: 4 | T14: 1 | U14: 4 | AA14: 30 | AB14: 8 | AC14: 0 | AD14: 1 | AE14: 5 | AF14: 0 | AG14: 2
A15: 12 | B15: Vančura Tomáš | S15: 2 | T15: 1 | V15: 1 | W15: 16 | X15: 4 | Y15: 1 | Z15: 4 | AA15: 29 | AB15: 7 | AC15: 1 | AD15: 0 | AE15: 2 | AF15: 1 | AG15: 3
A16: 13 | B16: Kratochvíl Josef | D16: 8 | E16: 2 | F16: 2 | G16: 4 | H16: 2 | I16: 4 | J16: 1 | K16: 1 | L16: 1 | M16: 1 | O16: 1 | Y16: 1 | Z16: 1 | AA16: 29 | AB16: 13 | AC16: 0 | AD16: 1 | AE16: 2 | AF16: 3 | AG16: 7
A17: 14 | B17: Kočí Ivan | C17: 2 | D17: 2 | E17: 2 | F17: 4 | G17: 4 | H17: 2 | I17: 1 | J17: 1 | L17: 1 | M17: 1 | N17: 1 | O17: 1 | P17: 1 | Q17: 1 | R17: 1 | S17: 1 | U17: 1 | V17: 1 | W17: 1 | AA17: 29 | AB17: 19 | AC17: 0 | AD17: 0 | AE17: 2 | AF17: 4 | AG17: 13
A18: 15 | B18: Bílek Rudolf | D18: 4 | E18: 8 | F18: 1 | G18: 1 | H18: 1 | I18: 1 | J18: 2 | K18: 1 | L18: 1 | M18: 1 | O18: 1 | P18: 1 | Q18: 1 | S18: 1 | V18: 2 | AA18: 27 | AB18: 15 | AC18: 0 | AD18: 1 | AE18: 1 | AF18: 2 | AG18: 11
A19: 16 | B19: Kadlec Bohdan | H19: 2 | I19: 2 | J19: 8 | K19: 4 | L19: 4 | M19: 2 | AA19: 22 | AB19: 6 | AC19: 0 | AD19: 1 | AE19: 2 | AF19: 3 | AG19: 0
A20: 17 | B20: Švaňa Milan | C20: 4 | D20: 1 | F20: 4 | G20: 8 | H20: 1 | I20: 1 | J20: 1 | K20: 1 | O20: 1 | AA20: 22 | AB20: 9 | AC20: 0 | AD20: 1 | AE20: 2 | AF20: 0 | AG20: 6
A21: 18 | B21: Pavlas Josef | D21: 2 | E21: 1 | F21: 2 | G21: 1 | H21: 1 | I21: 1 | J21: 1 | K21: 1 | L21: 1 | M21: 1 | N21: 1 | O21: 2 | R21: 1 | U21: 1 | V21: 1 | W21: 1 | X21: 1 | Z21: 2 | AA21: 22 | AB21: 18 | AC21: 0 | AD21: 0 | AE21: 0 | AF21: 4 | AG21: 14
A22: 19 | B22: Williams Heath | X22: 16 | Y22: 4 | AA22: 20 | AB22: 2 | AC22: 1 | AD22: 0 | AE22: 1 | AF22: 0 | AG22: 0
A23: 20 | B23: Vladyka Robin | O23: 1 | P23: 2 | R23: 1 | S23: 4 | T23: 2 | U23: 1 | V23: 2 | W23: 2 | X23: 2 | Y23: 2 | Z23: 1 | AA23: 20 | AB23: 11 | AC23: 0 | AD23: 0 | AE23: 1 | AF23: 6 | AG23: 4
A24: 21 | B24: Uremovič Željko | H24: 4 | I24: 8 | J24: 1 | K24: 2 | M24: 1 | N24: 2 | T24: 1 | AA24: 19 | AB24: 7 | AC24: 0 | AD24: 1 | AE24: 1 | AF24: 2 | AG24: 3
A25: 22 | B25: Žemlička Josef | G25: 2 | H25: 2 | I25: 1 | J25: 1 | K25: 2 | L25: 1 | M25: 1 | N25: 2 | O25: 1 | Q25: 1 | R25: 2 | S25: 1 | AA25: 17 | AB25: 12 | AC25: 0 | AD25: 0 | AE25: 0 | AF25: 5 | AG25: 7
A26: 23 | B26: Balan Arivukkannan | Y26: 16 | AA26: 16 | AB26: 1 | AC26: 1 | AD26: 0 | AE26: 0 | AF26: 0 | AG26: 0
A27: 24 | B27: Nohynek Dušan | T27: 16 | AA27: 16 | AB27: 1 | AC27: 1 | AD27: 0 | AE27: 0 | AF27: 0 | AG27: 0
A28: 25 | B28: Urbánek Tomáš | T28: 1 | U28: 8 | V28: 4 | W28: 2 | X28: 1 | AA28: 16 | AB28: 5 | AC28: 0 | AD28: 1 | AE28: 1 | AF28: 1 | AG28: 2
A29: 26 | B29: Tichý Jaroslav | G29: 1 | H29: 4 | I29: 4 | J29: 2 | K29: 4 | L29: 1 | AA29: 16 | AB29: 6 | AC29: 0 | AD29: 0 | AE29: 3 | AF29: 1 | AG29: 2
A30: 27 | B30: Hájek Vlastimil | C30: 2 | D30: 1 | H30: 1 | I30: 1 | J30: 1 | K30: 1 | L30: 2 | M30: 1 | O30: 1 | P30: 1 | Q30: 1 | U30: 1 | V30: 1 | W30: 1 | AA30: 16 | AB30: 14 | AC30: 0 | AD30: 0 | AE30: 0 | AF30: 2 | AG30: 12
A31: 28 | B31: Žalmanová Ilona | H31: 1 | I31: 1 | J31: 1 | K31: 1 | L31: 1 | M31: 1 | N31: 1 | O31: 1 | P31: 1 | Q31: 1 | R31: 1 | S31: 1 | T31: 1 | U31: 1 | W31: 1 | Z31: 1 | AA31: 16 | AB31: 16 | AC31: 0 | AD31: 0 | AE31: 0 | AF31: 0 | AG31: 16
A32: 29 | B32: Urban Vladimír | H32: 1 | I32: 1 | J32: 1 | K32: 1 | L32: 1 | M32: 1 | N32: 1 | O32: 1 | P32: 1 | Q32: 1 | R32: 1 | S32: 2 | T32: 1 | Z32: 1 | AA32: 15 | AB32: 14 | AC32: 0 | AD32: 0 | AE32: 0 | AF32: 1 | AG32: 13
A33: 30 | B33: Valentin František | H33: 8 | I33: 2 | J33: 1 | K33: 2 | Q33: 1 | AA33: 14 | AB33: 5 | AC33: 0 | AD33: 1 | AE33: 0 | AF33: 2 | AG33: 2
A34: 31 | B34: Walach Kristian | F34: 1 | H34: 1 | K34: 1 | L34: 1 | M34: 1 | N34: 1 | O34: 1 | P34: 1 | Q34: 2 | R34: 1 | S34: 1 | T34: 2 | AA34: 14 | AB34: 12 | AC34: 0 | AD34: 0 | AE34: 0 | AF34: 2 | AG34: 10
A35: 32 | B35: Jaborník Michal | L35: 1 | M35: 1 | N35: 1 | O35: 1 | P35: 1 | Q35: 1 | R35: 1 | S35: 1 | T35: 1 | V35: 1 | W35: 1 | X35: 1 | Z35: 1 | AA35: 13 | AB35: 13 | AC35: 0 | AD35: 0 | AE35: 0 | AF35: 0 | AG35: 13
A36: 33 | B36: Javůrek Jaroslav | O36: 1 | P36: 1 | Q36: 1 | R36: 1 | S36: 1 | T36: 1 | U36: 1 | V36: 1 | W36: 1 | X36: 1 | Y36: 1 | Z36: 1 | AA36: 12 | AB36: 12 | AC36: 0 | AD36: 0 | AE36: 0 | AF36: 0 | AG36: 12
A37: 34 | B37: Dončuk Jan | O37: 1 | P37: 1 | Q37: 1 | R37: 1 | S37: 1 | T37: 1 | U37: 1 | V37: 1 | W37: 1 | X37: 1 | Y37: 1 | Z37: 1 | AA37: 12 | AB37: 12 | AC37: 0 | AD37: 0 | AE37: 0 | AF37: 0 | AG37: 12
A38: 35 | B38: Jelínek Petr | T38: 2 | U38: 2 | W38: 1 | X38: 4 | Y38: 2 | AA38: 11 | AB38: 5 | AC38: 0 | AD38: 0 | AE38: 1 | AF38: 3 | AG38: 1
A39: 36 | B39: Mičkal Libor | L39: 1 | M39: 1 | N39: 2 | O39: 1 | P39: 4 | Q39: 1 | T39: 1 | AA39: 11 | AB39: 7 | AC39: 0 | AD39: 0 | AE39: 1 | AF39: 1 | AG39: 5
A40: 37 | B40: Hořeňovský Jaroslav | O40: 1 | P40: 1 | Q40: 1 | R40: 1 | S40: 1 | T40: 1 | U40: 1 | W40: 1 | X40: 1 | Y40: 1 | Z40: 1 | AA40: 11 | AB40: 11 | AC40: 0 | AD40: 0 | AE40: 0 | AF40: 0 | AG40: 11
A41: 38 | B41: Hochman Jindřich | L41: 1 | M41: 1 | O41: 1 | P41: 1 | Q41: 1 | R41: 1 | S41: 1 | T41: 1 | V41: 1 | W41: 1 | X41: 1 | AA41: 11 | AB41: 11 | AC41: 0 | AD41: 0 | AE41: 0 | AF41: 0 | AG41: 11
A42: 39 | B42: Klatovský Jiří | E42: 2 | F42: 1 | G42: 2 | H42: 1 | I42: 1 | J42: 1 | K42: 1 | L42: 1 | AA42: 10 | AB42: 8 | AC42: 0 | AD42: 0 | AE42: 0 | AF42: 2 | AG42: 6
A43: 40 | B43: Pertl Antonín | F43: 2 | G43: 1 | H43: 1 | I43: 1 | J43: 1 | K43: 1 | L43: 1 | M43: 1 | N43: 1 | AA43: 10 | AB43: 9 | AC43: 0 | AD43: 0 | AE43: 0 | AF43: 1 | AG43: 8
A44: 41 | B44: Severa Martin | D44: 1 | G44: 1 | I44: 1 | K44: 1 | L44: 1 | O44: 1 | P44: 1 | Q44: 1 | U44: 1 | W44: 1 | AA44: 10 | AB44: 10 | AC44: 0 | AD44: 0 | AE44: 0 | AF44: 0 | AG44: 10
A45: 42 | B45: Kotršál František | U45: 2 | X45: 1 | Y45: 4 | Z45: 2 | AA45: 9 | AB45: 4 | AC45: 0 | AD45: 0 | AE45: 1 | AF45: 2 | AG45: 1
A46: 43 | B46: Suchánek Tomáš | O46: 4 | P46: 1 | Q46: 2 | R46: 2 | AA46: 9 | AB46: 4 | AC46: 0 | AD46: 0 | AE46: 1 | AF46: 2 | AG46: 1
A47: 44 | B47: Mrňák Jan | S47: 2 | T47: 1 | U47: 1 | V47: 1 | W47: 4 | AA47: 9 | AB47: 5 | AC47: 0 | AD47: 0 | AE47: 1 | AF47: 1 | AG47: 3
A48: 45 | B48: Smutný Petr | P48: 1 | R48: 4 | S48: 1 | T48: 1 | U48: 1 | V48: 1 | AA48: 9 | AB48: 6 | AC48: 0 | AD48: 0 | AE48: 1 | AF48: 0 | AG48: 5
A49: 46 | B49: Bauer Zdeněk | D49: 1 | E49: 1 | F49: 1 | H49: 1 | I49: 1 | J49: 2 | K49: 1 | L49: 1 | AA49: 9 | AB49: 8 | AC49: 0 | AD49: 0 | AE49: 0 | AF49: 1 | AG49: 7
A50: 47 | B50: Balský Karel | C50: 2 | D50: 1 | E50: 1 | H50: 1 | I50: 1 | K50: 1 | L50: 1 | M50: 1 | AA50: 9 | AB50: 8 | AC50: 0 | AD50: 0 | AE50: 0 | AF50: 1 | AG50: 7
A51: 48 | B51: Zuklín Petr | K51: 1 | M51: 1 | O51: 1 | P51: 1 | Q51: 1 | R51: 1 | V51: 1 | W51: 1 | Z51: 1 | AA51: 9 | AB51: 9 | AC51: 0 | AD51: 0 | AE51: 0 | AF51: 0 | AG51: 9
A52: 49 | B52: Žalman Miloš | G52: 1 | H52: 1 | I52: 1 | J52: 1 | K52: 1 | L52: 1 | M52: 1 | O52: 1 | U52: 1 | AA52: 9 | AB52: 9 | AC52: 0 | AD52: 0 | AE52: 0 | AF52: 0 | AG52: 9
A53: 50 | B53: Beleš Pavol | P53: 1 | Q53: 1 | R53: 1 | S53: 1 | T53: 1 | V53: 1 | W53: 1 | Y53: 1 | Z53: 1 | AA53: 9 | AB53: 9 | AC53: 0 | AD53: 0 | AE53: 0 | AF53: 0 | AG53: 9
A54: 51 | B54: Pilný Pavel | X54: 8 | AA54: 8 | AB54: 1 | AC54: 0 | AD54: 1 | AE54: 0 | AF54: 0 | AG54: 0
A55: 52 | B55: Aust Jiří | Q55: 8 | AA55: 8 | AB55: 1 | AC55: 0 | AD55: 1 | AE55: 0 | AF55: 0 | AG55: 0
A56: 53 | B56: Náhlík Tomáš | L56: 4 | M56: 2 | P56: 2 | AA56: 8 | AB56: 3 | AC56: 0 | AD56: 0 | AE56: 1 | AF56: 2 | AG56: 0
A57: 54 | B57: Hercík Karel | H57: 1 | I57: 1 | J57: 1 | K57: 1 | L57: 1 | M57: 1 | O57: 2 | AA57: 8 | AB57: 7 | AC57: 0 | AD57: 0 | AE57: 0 | AF57: 1 | AG57: 6
A58: 55 | B58: Božovský Robert | O58: 1 | P58: 1 | Q58: 1 | R58: 1 | T58: 1 | U58: 1 | V58: 1 | X58: 1 | AA58: 8 | AB58: 8 | AC58: 0 | AD58: 0 | AE58: 0 | AF58: 0 | AG58: 8
A59: 56 | B59: Frejka Jiří | Q59: 1 | R59: 1 | S59: 1 | T59: 1 | U59: 1 | V59: 1 | W59: 1 | X59: 1 | AA59: 8 | AB59: 8 | AC59: 0 | AD59: 0 | AE59: 0 | AF59: 0 | AG59: 8
A60: 57 | B60: Kaslová Květa | K60: 1 | L60: 1 | M60: 1 | O60: 1 | P60: 1 | Q60: 1 | R60: 1 | S60: 1 | AA60: 8 | AB60: 8 | AC60: 0 | AD60: 0 | AE60: 0 | AF60: 0 | AG60: 8
A61: 58 | B61: Dupraz Serge | T61: 1 | V61: 4 | W61: 1 | Y61: 1 | AA61: 7 | AB61: 4 | AC61: 0 | AD61: 0 | AE61: 1 | AF61: 0 | AG61: 3
A62: 59 | B62: Kníže Martin | U62: 1 | V62: 1 | W62: 2 | X62: 2 | Z62: 1 | AA62: 7 | AB62: 5 | AC62: 0 | AD62: 0 | AE62: 0 | AF62: 2 | AG62: 3
A63: 60 | B63: Egner Alexandr | N63: 1 | O63: 1 | P63: 1 | Q63: 1 | R63: 1 | S63: 1 | T63: 1 | AA63: 7 | AB63: 7 | AC63: 0 | AD63: 0 | AE63: 0 | AF63: 0 | AG63: 7
A64: 61 | B64: Štorch Milan | H64: 1 | I64: 1 | J64: 1 | K64: 1 | L64: 1 | M64: 1 | N64: 1 | AA64: 7 | AB64: 7 | AC64: 0 | AD64: 0 | AE64: 0 | AF64: 0 | AG64: 7
A65: 62 | B65: Štich Václav | K65: 1 | L65: 1 | M65: 1 | O65: 1 | P65: 1 | Q65: 1 | S65: 1 | AA65: 7 | AB65: 7 | AC65: 0 | AD65: 0 | AE65: 0 | AF65: 0 | AG65: 7
A66: 63 | B66: Pavlasová Miloslava | H66: 1 | I66: 1 | J66: 1 | K66: 1 | L66: 1 | M66: 1 | O66: 1 | AA66: 7 | AB66: 7 | AC66: 0 | AD66: 0 | AE66: 0 | AF66: 0 | AG66: 7
A67: 64 | B67: Suchánek Jan | N67: 4 | P67: 2 | AA67: 6 | AB67: 2 | AC67: 0 | AD67: 0 | AE67: 1 | AF67: 1 | AG67: 0
A68: 65 | B68: Weber Pavel | U68: 1 | V68: 1 | W68: 4 | AA68: 6 | AB68: 3 | AC68: 0 | AD68: 0 | AE68: 1 | AF68: 0 | AG68: 2
A69: 66 | B69: Vajner David | S69: 1 | U69: 4 | AA69: 5 | AB69: 2 | AC69: 0 | AD69: 0 | AE69: 1 | AF69: 0 | AG69: 1
A70: 67 | B70: Burda Martin | T70: 1 | U70: 1 | V70: 1 | W70: 2 | AA70: 5 | AB70: 4 | AC70: 0 | AD70: 0 | AE70: 0 | AF70: 1 | AG70: 3
A71: 68 | B71: Hrubec Miroslav | F71: 1 | I71: 1 | J71: 2 | K71: 1 | AA71: 5 | AB71: 4 | AC71: 0 | AD71: 0 | AE71: 0 | AF71: 1 | AG71: 3
A72: 69 | B72: Kormendy S. | E72: 1 | F72: 1 | G72: 2 | H72: 1 | AA72: 5 | AB72: 4 | AC72: 0 | AD72: 0 | AE72: 0 | AF72: 1 | AG72: 3
A73: 70 | B73: Tribula Roman | L73: 1 | M73: 1 | N73: 1 | O73: 1 | P73: 1 | AA73: 5 | AB73: 5 | AC73: 0 | AD73: 0 | AE73: 0 | AF73: 0 | AG73: 5
A74: 71 | B74: Hamáček Jaroslav | P74: 1 | R74: 1 | S74: 1 | T74: 1 | U74: 1 | AA74: 5 | AB74: 5 | AC74: 0 | AD74: 0 | AE74: 0 | AF74: 0 | AG74: 5
A75: 72 | B75: Krauskopf Ivo | L75: 1 | M75: 1 | O75: 1 | P75: 1 | R75: 1 | AA75: 5 | AB75: 5 | AC75: 0 | AD75: 0 | AE75: 0 | AF75: 0 | AG75: 5
A76: 73 | B76: Paťcha Robert | U76: 1 | V76: 1 | W76: 1 | X76: 1 | Z76: 1 | AA76: 5 | AB76: 5 | AC76: 0 | AD76: 0 | AE76: 0 | AF76: 0 | AG76: 5
A77: 74 | B77: Jech Pavel | K77: 1 | M77: 1 | N77: 1 | O77: 1 | T77: 1 | AA77: 5 | AB77: 5 | AC77: 0 | AD77: 0 | AE77: 0 | AF77: 0 | AG77: 5
A78: 75 | B78: Michálek Petr | N78: 1 | O78: 1 | P78: 1 | Q78: 1 | Y78: 1 | AA78: 5 | AB78: 5 | AC78: 0 | AD78: 0 | AE78: 0 | AF78: 0 | AG78: 5
A79: 76 | B79: Lener Jaroslav | S79: 1 | T79: 1 | U79: 1 | V79: 1 | W79: 1 | AA79: 5 | AB79: 5 | AC79: 0 | AD79: 0 | AE79: 0 | AF79: 0 | AG79: 5
A80: 77 | B80: Brancuský Petr | S80: 1 | T80: 1 | U80: 1 | V80: 1 | W80: 1 | AA80: 5 | AB80: 5 | AC80: 0 | AD80: 0 | AE80: 0 | AF80: 0 | AG80: 5
A81: 78 | B81: Skrbek Jiří | S81: 1 | T81: 1 | U81: 1 | V81: 1 | W81: 1 | AA81: 5 | AB81: 5 | AC81: 0 | AD81: 0 | AE81: 0 | AF81: 0 | AG81: 5
A82: 79 | B82: Doležal Pavel | T82: 1 | U82: 1 | V82: 1 | W82: 1 | X82: 1 | AA82: 5 | AB82: 5 | AC82: 0 | AD82: 0 | AE82: 0 | AF82: 0 | AG82: 5
A83: 80 | B83: Měcháček Michal | R83: 1 | S83: 1 | T83: 1 | U83: 1 | Y83: 1 | AA83: 5 | AB83: 5 | AC83: 0 | AD83: 0 | AE83: 0 | AF83: 0 | AG83: 5
A84: 81 | B84: Vizingr Miloš | J84: 4 | AA84: 4 | AB84: 1 | AC84: 0 | AD84: 0 | AE84: 1 | AF84: 0 | AG84: 0
A85: 82 | B85: Fian Martin | Z85: 4 | AA85: 4 | AB85: 1 | AC85: 0 | AD85: 0 | AE85: 1 | AF85: 0 | AG85: 0
A86: 83 | B86: Lazarevič Saša | X86: 2 | Y86: 1 | Z86: 1 | AA86: 4 | AB86: 3 | AC86: 0 | AD86: 0 | AE86: 0 | AF86: 1 | AG86: 2
A87: 84 | B87: Hrach Josef | W87: 1 | X87: 1 | Z87: 2 | AA87: 4 | AB87: 3 | AC87: 0 | AD87: 0 | AE87: 0 | AF87: 1 | AG87: 2
A88: 85 | B88: Žaludek Karel | L88: 1 | M88: 2 | N88: 1 | AA88: 4 | AB88: 3 | AC88: 0 | AD88: 0 | AE88: 0 | AF88: 1 | AG88: 2
A89: 86 | B89: Kohut | C89: 2 | D89: 1 | E89: 1 | AA89: 4 | AB89: 3 | AC89: 0 | AD89: 0 | AE89: 0 | AF89: 1 | AG89: 2
A90: 87 | B90: Kotěra Jan | X90: 1 | Y90: 2 | Z90: 1 | AA90: 4 | AB90: 3 | AC90: 0 | AD90: 0 | AE90: 0 | AF90: 1 | AG90: 2
A91: 88 | B91: Šikula Jiří | H91: 1 | K91: 1 | L91: 1 | M91: 1 | AA91: 4 | AB91: 4 | AC91: 0 | AD91: 0 | AE91: 0 | AF91: 0 | AG91: 4
A92: 89 | B92: Jadrný Roman | O92: 1 | P92: 1 | Q92: 1 | S92: 1 | AA92: 4 | AB92: 4 | AC92: 0 | AD92: 0 | AE92: 0 | AF92: 0 | AG92: 4
A93: 90 | B93: Štych Jiří | J93: 1 | K93: 1 | L93: 1 | M93: 1 | AA93: 4 | AB93: 4 | AC93: 0 | AD93: 0 | AE93: 0 | AF93: 0 | AG93: 4
A94: 91 | B94: Mokrousov Mykola | S94: 1 | T94: 1 | U94: 1 | V94: 1 | AA94: 4 | AB94: 4 | AC94: 0 | AD94: 0 | AE94: 0 | AF94: 0 | AG94: 4
A95: 92 | B95: Téma Libor | O95: 1 | P95: 1 | Q95: 1 | R95: 1 | AA95: 4 | AB95: 4 | AC95: 0 | AD95: 0 | AE95: 0 | AF95: 0 | AG95: 4
A96: 93 | B96: Komárek Vít | R96: 1 | S96: 1 | T96: 1 | U96: 1 | AA96: 4 | AB96: 4 | AC96: 0 | AD96: 0 | AE96: 0 | AF96: 0 | AG96: 4
A97: 94 | B97: Vrzák František | O97: 1 | Q97: 1 | R97: 1 | V97: 1 | AA97: 4 | AB97: 4 | AC97: 0 | AD97: 0 | AE97: 0 | AF97: 0 | AG97: 4
A98: 95 | B98: Kadlec Pavel | R98: 1 | S98: 1 | U98: 1 | V98: 1 | AA98: 4 | AB98: 4 | AC98: 0 | AD98: 0 | AE98: 0 | AF98: 0 | AG98: 4
A99: 96 | B99: Illner Petr | K99: 1 | L99: 1 | M99: 1 | R99: 1 | AA99: 4 | AB99: 4 | AC99: 0 | AD99: 0 | AE99: 0 | AF99: 0 | AG99: 4
A100: 97 | B100: Hrdina Jiří | M100: 1 | O100: 1 | P100: 1 | R100: 1 | AA100: 4 | AB100: 4 | AC100: 0 | AD100: 0 | AE100: 0 | AF100: 0 | AG100: 4
A101: 98 | B101: Hetflejš Jan | T101: 1 | U101: 1 | V101: 1 | W101: 1 | AA101: 4 | AB101: 4 | AC101: 0 | AD101: 0 | AE101: 0 | AF101: 0 | AG101: 4
...

Sheet 9-ball
B2: ŽEBŘÍČEK 9-BALL | C2: Bodové hodnocení pro MR v poolových disciplínách - senioři 1999 - 2023 | AB2: POČET ODEHRANÝCH TURNAJŮ
B3: Jméno | C3: 1999 | D3: 2000 | E3: 2001 | F3: 2002 | G3: 2003 | H3: 2004 | I3: 2005 | J3: 2006 | K3: 2007 | L3: 2008 | M3: 2009 | N3: 2010 | O3: 2011 | P3: 2012 | Q3: 2013 | R3: 2014 | S3: 2015 | T3: 2016 | U3: 2017 | V3: 2018 | W3: 2019 | X3: 2021 | Y3: 2022 | Z3: 2023 | AA3: Body | AB3: Turnaje | AC3: *1* | AD3: *2* | AE3: *3*4* | AF3: *5-8* | AG3: * 9 +*
A4: 1 | B4: Halamka Pavel | C4: 2 | D4: 4 | E4: 4 | F4: 1 | G4: 4 | H4: 4 | I4: 4 | J4: 8 | K4: 2 | L4: 1 | M4: 1 | N4: 8 | O4: 2 | P4: 2 | Q4: 2 | R4: 2 | S4: 4 | T4: 2 | U4: 16 | V4: 4 | W4: 1 | X4: 4 | Y4: 8 | Z4: 2 | AA4: 92 | AB4: 24 | AC4: 1 | AD4: 3 | AE4: 8 | AF4: 8 | AG4: 4
A5: 2 | B5: Korn Jiří | C5: 16 | D5: 8 | E5: 2 | F5: 4 | H5: 16 | I5: 16 | J5: 2 | K5: 2 | L5: 1 | M5: 1 | N5: 1 | O5: 1 | P5: 1 | AA5: 71 | AB5: 13 | AC5: 3 | AD5: 1 | AE5: 1 | AF5: 3 | AG5: 5
A6: 3 | B6: Marič Márijo | L6: 8 | M6: 8 | O6: 4 | P6: 4 | R6: 16 | T6: 1 | V6: 4 | W6: 8 | Y6: 16 | Z6: 1 | AA6: 70 | AB6: 10 | AC6: 2 | AD6: 3 | AE6: 3 | AF6: 0 | AG6: 2
A7: 4 | B7: Zeman Oto | L7: 4 | M7: 16 | P7: 1 | Q7: 1 | R7: 2 | S7: 8 | T7: 1 | U7: 1 | V7: 16 | W7: 2 | X7: 16 | Y7: 1 | Z7: 1 | AA7: 70 | AB7: 13 | AC7: 3 | AD7: 1 | AE7: 1 | AF7: 2 | AG7: 6
A8: 5 | B8: Stojka Milan | C8: 4 | D8: 2 | E8: 4 | F8: 16 | G8: 16 | H8: 1 | I8: 2 | J8: 4 | K8: 4 | L8: 2 | AA8: 55 | AB8: 10 | AC8: 2 | AD8: 0 | AE8: 4 | AF8: 3 | AG8: 1
A9: 6 | B9: Kokoška Petr | J9: 16 | K9: 16 | L9: 16 | M9: 2 | N9: 1 | O9: 2 | U9: 1 | AA9: 54 | AB9: 7 | AC9: 3 | AD9: 0 | AE9: 0 | AF9: 2 | AG9: 2
A10: 7 | B10: Bílek Rudolf | C10: 8 | D10: 2 | E10: 1 | F10: 2 | G10: 4 | H10: 8 | I10: 2 | K10: 4 | L10: 4 | M10: 4 | O10: 1 | P10: 1 | Q10: 2 | S10: 1 | T10: 1 | V10: 2 | AA10: 47 | AB10: 16 | AC10: 0 | AD10: 2 | AE10: 4 | AF10: 5 | AG10: 5
A11: 8 | B11: Škrhák Vladimír | D11: 16 | E11: 1 | F11: 1 | G11: 1 | H11: 1 | I11: 1 | J11: 2 | K11: 1 | L11: 1 | M11: 2 | N11: 1 | O11: 4 | P11: 1 | Q11: 4 | R11: 1 | T11: 1 | U11: 1 | W11: 1 | X11: 1 | Y11: 1 | AA11: 43 | AB11: 20 | AC11: 1 | AD11: 0 | AE11: 2 | AF11: 2 | AG11: 15
A12: 9 | B12: Kavan Petr | N12: 4 | O12: 8 | P12: 4 | Q12: 16 | R12: 8 | S12: 2 | AA12: 42 | AB12: 6 | AC12: 1 | AD12: 2 | AE12: 2 | AF12: 1 | AG12: 0
A13: 10 | B13: Vančura Tomáš | S13: 4 | T13: 16 | U13: 4 | W13: 4 | X13: 2 | Y13: 4 | Z13: 8 | AA13: 42 | AB13: 7 | AC13: 1 | AD13: 1 | AE13: 4 | AF13: 1 | AG13: 0
A14: 11 | B14: Vladyka Robin | O14: 1 | P14: 2 | Q14: 2 | R14: 1 | S14: 2 | T14: 2 | U14: 1 | V14: 8 | W14: 4 | X14: 2 | Y14: 1 | Z14: 16 | AA14: 42 | AB14: 12 | AC14: 1 | AD14: 1 | AE14: 1 | AF14: 5 | AG14: 4
A15: 12 | B15: Kočí Ivan | C15: 2 | D15: 2 | E15: 16 | F15: 2 | G15: 2 | H15: 4 | I15: 1 | J15: 1 | L15: 1 | M15: 1 | N15: 1 | O15: 1 | P15: 1 | Q15: 1 | R15: 1 | S15: 1 | T15: 1 | U15: 1 | V15: 1 | W15: 1 | AA15: 42 | AB15: 20 | AC15: 1 | AD15: 0 | AE15: 1 | AF15: 4 | AG15: 14
A16: 13 | B16: Janata Jan | O16: 16 | P16: 16 | Q16: 8 | S16: 1 | AA16: 41 | AB16: 4 | AC16: 2 | AD16: 1 | AE16: 0 | AF16: 0 | AG16: 1
A17: 14 | B17: Kratochvíl Josef | E17: 8 | F17: 2 | G17: 8 | H17: 1 | I17: 1 | J17: 1 | K17: 1 | L17: 1 | M17: 1 | N17: 1 | O17: 1 | Y17: 1 | Z17: 1 | AA17: 28 | AB17: 13 | AC17: 0 | AD17: 2 | AE17: 0 | AF17: 1 | AG17: 10
A18: 15 | B18: Urban Vladimír | F18: 1 | G18: 1 | H18: 1 | I18: 1 | J18: 1 | K18: 1 | L18: 2 | M18: 2 | O18: 1 | P18: 1 | Q18: 1 | R18: 1 | S18: 2 | T18: 1 | V18: 1 | W18: 2 | X18: 2 | Y18: 1 | Z18: 1 | AA18: 24 | AB18: 19 | AC18: 0 | AD18: 0 | AE18: 0 | AF18: 5 | AG18: 14
A19: 16 | B19: Pavlas Josef | E19: 1 | F19: 8 | G19: 1 | H19: 1 | I19: 1 | K19: 1 | L19: 1 | M19: 1 | N19: 1 | O19: 1 | R19: 1 | U19: 2 | W19: 1 | X19: 1 | Z19: 1 | AA19: 23 | AB19: 15 | AC19: 0 | AD19: 1 | AE19: 0 | AF19: 1 | AG19: 13
A20: 17 | B20: Lottring Richard | M20: 2 | N20: 16 | O20: 1 | P20: 1 | Y20: 1 | AA20: 21 | AB20: 5 | AC20: 1 | AD20: 0 | AE20: 0 | AF20: 1 | AG20: 3
A21: 18 | B21: Rush Andrew | S21: 16 | T21: 1 | U21: 2 | V21: 1 | AA21: 20 | AB21: 4 | AC21: 1 | AD21: 0 | AE21: 0 | AF21: 1 | AG21: 2
A22: 19 | B22: Růčka Radek | V22: 2 | W22: 16 | AA22: 18 | AB22: 2 | AC22: 1 | AD22: 0 | AE22: 0 | AF22: 1 | AG22: 0
A23: 20 | B23: Valentin František | D23: 1 | H23: 2 | I23: 4 | J23: 2 | K23: 8 | AA23: 17 | AB23: 5 | AC23: 0 | AD23: 1 | AE23: 1 | AF23: 2 | AG23: 1
A24: 21 | B24: Kadlec Bohdan | H24: 1 | I24: 8 | J24: 2 | K24: 1 | L24: 1 | M24: 4 | AA24: 17 | AB24: 6 | AC24: 0 | AD24: 1 | AE24: 1 | AF24: 1 | AG24: 3
A25: 22 | B25: Žalmanová Ilona | H25: 1 | I25: 1 | J25: 1 | K25: 1 | L25: 1 | M25: 1 | O25: 1 | P25: 1 | Q25: 1 | R25: 1 | S25: 2 | T25: 1 | U25: 1 | W25: 1 | X25: 1 | Z25: 1 | AA25: 17 | AB25: 16 | AC25: 0 | AD25: 0 | AE25: 0 | AF25: 1 | AG25: 15
A26: 23 | B26: Hájek Vlastimil | C26: 2 | D26: 1 | F26: 4 | G26: 1 | H26: 1 | I26: 1 | J26: 1 | K26: 1 | L26: 1 | M26: 1 | U26: 1 | AA26: 15 | AB26: 11 | AC26: 0 | AD26: 0 | AE26: 1 | AF26: 1 | AG26: 9
A27: 24 | B27: Švaňa Milan | C27: 4 | D27: 1 | E27: 2 | F27: 1 | G27: 2 | H27: 1 | I27: 1 | J27: 1 | AA27: 13 | AB27: 8 | AC27: 0 | AD27: 0 | AE27: 1 | AF27: 2 | AG27: 5
A28: 25 | B28: Bauer Zdeněk | D28: 1 | E28: 2 | F28: 2 | G28: 1 | H28: 2 | I28: 1 | J28: 1 | K28: 2 | L28: 1 | AA28: 13 | AB28: 9 | AC28: 0 | AD28: 0 | AE28: 0 | AF28: 4 | AG28: 5
A29: 26 | B29: Walach Kristian | F29: 1 | G29: 2 | H29: 2 | K29: 1 | L29: 1 | M29: 1 | N29: 1 | O29: 1 | P29: 1 | Q29: 1 | R29: 1 | AA29: 13 | AB29: 11 | AC29: 0 | AD29: 0 | AE29: 0 | AF29: 2 | AG29: 9
A30: 27 | B30: Žemlička Josef | H30: 1 | I30: 1 | J30: 1 | K30: 1 | L30: 1 | M30: 1 | N30: 1 | O30: 1 | P30: 1 | Q30: 2 | R30: 1 | S30: 1 | AA30: 13 | AB30: 12 | AC30: 0 | AD30: 0 | AE30: 0 | AF30: 1 | AG30: 11
A31: 28 | B31: Dorobant Slavomír | R31: 4 | T31: 4 | Y31: 4 | AA31: 12 | AB31: 3 | AC31: 0 | AD31: 0 | AE31: 3 | AF31: 0 | AG31: 0
A32: 29 | B32: Jaborník Michal | L32: 1 | M32: 1 | O32: 1 | P32: 1 | Q32: 1 | R32: 1 | T32: 1 | V32: 1 | W32: 1 | Y32: 1 | Z32: 2 | AA32: 12 | AB32: 11 | AC32: 0 | AD32: 0 | AE32: 0 | AF32: 1 | AG32: 10
A33: 30 | B33: Hořeňovský Jaroslav | O33: 1 | P33: 1 | Q33: 1 | R33: 1 | S33: 1 | T33: 1 | U33: 1 | V33: 1 | W33: 1 | X33: 1 | Y33: 1 | Z33: 1 | AA33: 12 | AB33: 12 | AC33: 0 | AD33: 0 | AE33: 0 | AF33: 0 | AG33: 12
A34: 31 | B34: Javůrek Jaroslav | O34: 1 | P34: 1 | Q34: 1 | R34: 1 | S34: 1 | T34: 1 | U34: 1 | V34: 1 | W34: 1 | X34: 1 | Y34: 1 | Z34: 1 | AA34: 12 | AB34: 12 | AC34: 0 | AD34: 0 | AE34: 0 | AF34: 0 | AG34: 12
A35: 32 | B35: Urbánek Tomáš | T35: 2 | U35: 2 | V35: 1 | W35: 2 | X35: 1 | Y35: 1 | Z35: 2 | AA35: 11 | AB35: 7 | AC35: 0 | AD35: 0 | AE35: 0 | AF35: 4 | AG35: 3
A36: 33 | B36: Beleš Pavol | P36: 1 | Q36: 1 | R36: 1 | S36: 1 | T36: 1 | U36: 1 | V36: 1 | W36: 1 | X36: 1 | Y36: 1 | Z36: 1 | AA36: 11 | AB36: 11 | AC36: 0 | AD36: 0 | AE36: 0 | AF36: 0 | AG36: 11
A37: 34 | B37: Dončuk Jan | O37: 1 | P37: 1 | Q37: 1 | R37: 1 | S37: 1 | T37: 1 | U37: 1 | V37: 1 | W37: 1 | Y37: 1 | Z37: 1 | AA37: 11 | AB37: 11 | AC37: 0 | AD37: 0 | AE37: 0 | AF37: 0 | AG37: 11
A38: 35 | B38: Suchánek Jan | N38: 2 | P38: 8 | AA38: 10 | AB38: 2 | AC38: 0 | AD38: 1 | AE38: 0 | AF38: 1 | AG38: 0
A39: 36 | B39: Mrňák Jan | T39: 1 | U39: 8 | V39: 1 | AA39: 10 | AB39: 3 | AC39: 0 | AD39: 1 | AE39: 0 | AF39: 0 | AG39: 2
A40: 37 | B40: Kníže Martin | U40: 1 | V40: 1 | W40: 1 | X40: 4 | Y40: 2 | Z40: 1 | AA40: 10 | AB40: 6 | AC40: 0 | AD40: 0 | AE40: 1 | AF40: 1 | AG40: 4
A41: 38 | B41: Tichý Jaroslav | E41: 1 | F41: 1 | G41: 2 | H41: 2 | I41: 1 | J41: 1 | K41: 1 | L41: 1 | AA41: 10 | AB41: 8 | AC41: 0 | AD41: 0 | AE41: 0 | AF41: 2 | AG41: 6
A42: 39 | B42: Hochman Jindřich | L42: 1 | M42: 1 | O42: 1 | P42: 1 | Q42: 1 | R42: 1 | S42: 1 | T42: 1 | U42: 1 | X42: 1 | AA42: 10 | AB42: 10 | AC42: 0 | AD42: 0 | AE42: 0 | AF42: 0 | AG42: 10
A43: 40 | B43: Mičkal Libor | L43: 1 | M43: 1 | N43: 2 | O43: 1 | P43: 2 | T43: 1 | U43: 1 | AA43: 9 | AB43: 7 | AC43: 0 | AD43: 0 | AE43: 0 | AF43: 2 | AG43: 5
A44: 41 | B44: Klatovský Jiří | D44: 2 | E44: 1 | H44: 1 | I44: 2 | J44: 1 | K44: 1 | L44: 1 | AA44: 9 | AB44: 7 | AC44: 0 | AD44: 0 | AE44: 0 | AF44: 2 | AG44: 5
A45: 42 | B45: Frejka Jiří | Q45: 1 | R45: 1 | S45: 1 | T45: 1 | U45: 1 | V45: 1 | W45: 2 | Y45: 1 | AA45: 9 | AB45: 8 | AC45: 0 | AD45: 0 | AE45: 0 | AF45: 1 | AG45: 7
A46: 43 | B46: Severa Martin | D46: 1 | I46: 1 | J46: 1 | K46: 1 | L46: 1 | O46: 1 | P46: 1 | U46: 1 | W46: 1 | AA46: 9 | AB46: 9 | AC46: 0 | AD46: 0 | AE46: 0 | AF46: 0 | AG46: 9
A47: 44 | B47: Pilný Pavel | X47: 8 | AA47: 8 | AB47: 1 | AC47: 0 | AD47: 1 | AE47: 0 | AF47: 0 | AG47: 0
A48: 45 | B48: Nohynek Dušan | T48: 8 | AA48: 8 | AB48: 1 | AC48: 0 | AD48: 1 | AE48: 0 | AF48: 0 | AG48: 0
A49: 46 | B49: Aust Jiří | Q49: 4 | R49: 4 | AA49: 8 | AB49: 2 | AC49: 0 | AD49: 0 | AE49: 2 | AF49: 0 | AG49: 0
A50: 47 | B50: Jech Pavel | K50: 1 | L50: 1 | M50: 1 | N50: 2 | O50: 2 | Q50: 1 | AA50: 8 | AB50: 6 | AC50: 0 | AD50: 0 | AE50: 0 | AF50: 2 | AG50: 4
A51: 48 | B51: Božovský Robert | O51: 2 | P51: 1 | R51: 1 | T51: 1 | U51: 1 | W51: 1 | Y51: 1 | AA51: 8 | AB51: 7 | AC51: 0 | AD51: 0 | AE51: 0 | AF51: 1 | AG51: 6
A52: 49 | B52: Kaslová Květa | K52: 1 | L52: 1 | M52: 1 | O52: 1 | P52: 1 | Q52: 1 | R52: 1 | S52: 1 | AA52: 8 | AB52: 8 | AC52: 0 | AD52: 0 | AE52: 0 | AF52: 0 | AG52: 8
A53: 50 | B53: Žalman Miloš | H53: 1 | I53: 1 | J53: 1 | K53: 1 | L53: 1 | M53: 1 | N53: 1 | O53: 1 | AA53: 8 | AB53: 8 | AC53: 0 | AD53: 0 | AE53: 0 | AF53: 0 | AG53: 8
A54: 51 | B54: Zuklín Petr | K54: 1 | M54: 1 | N54: 1 | P54: 1 | R54: 1 | S54: 1 | U54: 1 | Z54: 1 | AA54: 8 | AB54: 8 | AC54: 0 | AD54: 0 | AE54: 0 | AF54: 0 | AG54: 8
A55: 52 | B55: Hercík Karel | H55: 1 | I55: 1 | J55: 1 | K55: 1 | L55: 1 | M55: 1 | N55: 1 | O55: 1 | AA55: 8 | AB55: 8 | AC55: 0 | AD55: 0 | AE55: 0 | AF55: 0 | AG55: 8
A56: 53 | B56: Štorch Milan | G56: 1 | H56: 1 | I56: 1 | J56: 1 | K56: 1 | L56: 1 | M56: 1 | AA56: 7 | AB56: 7 | AC56: 0 | AD56: 0 | AE56: 0 | AF56: 0 | AG56: 7
A57: 54 | B57: Štich Václav | K57: 1 | M57: 1 | O57: 1 | P57: 1 | Q57: 1 | R57: 1 | S57: 1 | AA57: 7 | AB57: 7 | AC57: 0 | AD57: 0 | AE57: 0 | AF57: 0 | AG57: 7
A58: 55 | B58: Novotný Tomáš | O58: 1 | P58: 1 | Q58: 1 | R58: 1 | S58: 1 | T58: 1 | U58: 1 | AA58: 7 | AB58: 7 | AC58: 0 | AD58: 0 | AE58: 0 | AF58: 0 | AG58: 7
A59: 56 | B59: Pavlasová Miloslava | H59: 1 | I59: 1 | J59: 1 | K59: 1 | L59: 1 | M59: 1 | O59: 1 | AA59: 7 | AB59: 7 | AC59: 0 | AD59: 0 | AE59: 0 | AF59: 0 | AG59: 7
A60: 57 | B60: Žaludek Karel | L60: 2 | N60: 4 | AA60: 6 | AB60: 2 | AC60: 0 | AD60: 0 | AE60: 1 | AF60: 1 | AG60: 0
A61: 58 | B61: Pertl Antonín | H61: 1 | I61: 1 | J61: 1 | K61: 1 | L61: 1 | M61: 1 | AA61: 6 | AB61: 6 | AC61: 0 | AD61: 0 | AE61: 0 | AF61: 0 | AG61: 6
A62: 59 | B62: Jelínek Petr | T62: 4 | U62: 1 | AA62: 5 | AB62: 2 | AC62: 0 | AD62: 0 | AE62: 1 | AF62: 0 | AG62: 1
A63: 60 | B63: Šafařík Jan | U63: 1 | Z63: 4 | AA63: 5 | AB63: 2 | AC63: 0 | AD63: 0 | AE63: 1 | AF63: 0 | AG63: 1
A64: 61 | B64: Suchánek Tomáš | P64: 2 | Q64: 1 | R64: 2 | AA64: 5 | AB64: 3 | AC64: 0 | AD64: 0 | AE64: 0 | AF64: 2 | AG64: 1
A65: 62 | B65: Mokrousov Mykola | S65: 1 | T65: 1 | U65: 1 | V65: 2 | AA65: 5 | AB65: 4 | AC65: 0 | AD65: 0 | AE65: 0 | AF65: 1 | AG65: 3
A66: 63 | B66: Weber Pavel | U66: 1 | V66: 1 | W66: 1 | X66: 1 | Y66: 1 | AA66: 5 | AB66: 5 | AC66: 0 | AD66: 0 | AE66: 0 | AF66: 0 | AG66: 5
A67: 64 | B67: Štych Jiří | J67: 1 | K67: 1 | L67: 1 | M67: 1 | N67: 1 | AA67: 5 | AB67: 5 | AC67: 0 | AD67: 0 | AE67: 0 | AF67: 0 | AG67: 5
A68: 65 | B68: Louda Luboš | Q68: 1 | R68: 1 | S68: 1 | T68: 1 | W68: 1 | AA68: 5 | AB68: 5 | AC68: 0 | AD68: 0 | AE68: 0 | AF68: 0 | AG68: 5
A69: 66 | B69: Krauskopf Ivo | L69: 1 | M69: 1 | N69: 1 | O69: 1 | P69: 1 | AA69: 5 | AB69: 5 | AC69: 0 | AD69: 0 | AE69: 0 | AF69: 0 | AG69: 5
A70: 67 | B70: Uremovič Željko | I70: 1 | J70: 1 | K70: 1 | M70: 1 | N70: 1 | AA70: 5 | AB70: 5 | AC70: 0 | AD70: 0 | AE70: 0 | AF70: 0 | AG70: 5
A71: 68 | B71: Měcháček Michal | R71: 1 | S71: 1 | T71: 1 | U71: 1 | Y71: 1 | AA71: 5 | AB71: 5 | AC71: 0 | AD71: 0 | AE71: 0 | AF71: 0 | AG71: 5
A72: 69 | B72: Vacek Jiří | U72: 4 | AA72: 4 | AB72: 1 | AC72: 0 | AD72: 0 | AE72: 1 | AF72: 0 | AG72: 0
A73: 70 | B73: Vizingr Miloš | J73: 4 | AA73: 4 | AB73: 1 | AC73: 0 | AD73: 0 | AE73: 1 | AF73: 0 | AG73: 0
A74: 71 | B74: Phan Hong Tien | Z74: 4 | AA74: 4 | AB74: 1 | AC74: 0 | AD74: 0 | AE74: 1 | AF74: 0 | AG74: 0
A75: 72 | B75: Krastochvíl | D75: 4 | AA75: 4 | AB75: 1 | AC75: 0 | AD75: 0 | AE75: 1 | AF75: 0 | AG75: 0
A76: 73 | B76: Dupraz Serge | T76: 1 | U76: 1 | V76: 2 | AA76: 4 | AB76: 3 | AC76: 0 | AD76: 0 | AE76: 0 | AF76: 1 | AG76: 2
A77: 74 | B77: Illner Petr | K77: 1 | L77: 1 | M77: 1 | R77: 1 | AA77: 4 | AB77: 4 | AC77: 0 | AD77: 0 | AE77: 0 | AF77: 0 | AG77: 4
A78: 75 | B78: Michálek Petr | O78: 1 | P78: 1 | Q78: 1 | W78: 1 | AA78: 4 | AB78: 4 | AC78: 0 | AD78: 0 | AE78: 0 | AF78: 0 | AG78: 4
A79: 76 | B79: Skrbek Jiří | S79: 1 | T79: 1 | U79: 1 | V79: 1 | AA79: 4 | AB79: 4 | AC79: 0 | AD79: 0 | AE79: 0 | AF79: 0 | AG79: 4
A80: 77 | B80: Hrdina Jiří | M80: 1 | O80: 1 | P80: 1 | R80: 1 | AA80: 4 | AB80: 4 | AC80: 0 | AD80: 0 | AE80: 0 | AF80: 0 | AG80: 4
A81: 78 | B81: Kesnerová Valentina | I81: 1 | J81: 1 | K81: 1 | L81: 1 | AA81: 4 | AB81: 4 | AC81: 0 | AD81: 0 | AE81: 0 | AF81: 0 | AG81: 4
A82: 79 | B82: Panenka Antonín | H82: 1 | I82: 1 | J82: 1 | O82: 1 | AA82: 4 | AB82: 4 | AC82: 0 | AD82: 0 | AE82: 0 | AF82: 0 | AG82: 4
A83: 80 | B83: Šikula Jiří | K83: 2 | L83: 1 | AA83: 3 | AB83: 2 | AC83: 0 | AD83: 0 | AE83: 0 | AF83: 1 | AG83: 1
A84: 81 | B84: Zůna Jiří | Y84: 2 | Z84: 1 | AA84: 3 | AB84: 2 | AC84: 0 | AD84: 0 | AE84: 0 | AF84: 1 | AG84: 1
A85: 82 | B85: Náhlík Tomáš | L85: 2 | M85: 1 | AA85: 3 | AB85: 2 | AC85: 0 | AD85: 0 | AE85: 0 | AF85: 1 | AG85: 1
A86: 83 | B86: Čtrnáctý st. Martin | Y86: 2 | Z86: 1 | AA86: 3 | AB86: 2 | AC86: 0 | AD86: 0 | AE86: 0 | AF86: 1 | AG86: 1
A87: 84 | B87: Zelinka | C87: 2 | F87: 1 | AA87: 3 | AB87: 2 | AC87: 0 | AD87: 0 | AE87: 0 | AF87: 1 | AG87: 1
A88: 85 | B88: Kotršál František | U88: 2 | X88: 1 | AA88: 3 | AB88: 2 | AC88: 0 | AD88: 0 | AE88: 0 | AF88: 1 | AG88: 1
A89: 86 | B89: Egner Alexandr | O89: 1 | P89: 1 | R89: 1 | AA89: 3 | AB89: 3 | AC89: 0 | AD89: 0 | AE89: 0 | AF89: 0 | AG89: 3
A90: 87 | B90: Smutný Petr | P90: 1 | R90: 1 | T90: 1 | AA90: 3 | AB90: 3 | AC90: 0 | AD90: 0 | AE90: 0 | AF90: 0 | AG90: 3
A91: 88 | B91: Burda Martin | T91: 1 | V91: 1 | W91: 1 | AA91: 3 | AB91: 3 | AC91: 0 | AD91: 0 | AE91: 0 | AF91: 0 | AG91: 3
A92: 89 | B92: Tribula Roman | L92: 1 | M92: 1 | P92: 1 | AA92: 3 | AB92: 3 | AC92: 0 | AD92: 0 | AE92: 0 | AF92: 0 | AG92: 3
A93: 90 | B93: Mikeš Jaroslav | Q93: 1 | R93: 1 | S93: 1 | AA93: 3 | AB93: 3 | AC93: 0 | AD93: 0 | AE93: 0 | AF93: 0 | AG93: 3
A94: 91 | B94: Jelínek Bohuslav | E94: 1 | H94: 1 | J94: 1 | AA94: 3 | AB94: 3 | AC94: 0 | AD94: 0 | AE94: 0 | AF94: 0 | AG94: 3
A95: 92 | B95: Nikolič Srdan | X95: 1 | Y95: 1 | Z95: 1 | AA95: 3 | AB95: 3 | AC95: 0 | AD95: 0 | AE95: 0 | AF95: 0 | AG95: 3
A96: 93 | B96: Šíp Václav | D96: 1 | E96: 1 | H96: 1 | AA96: 3 | AB96: 3 | AC96: 0 | AD96: 0 | AE96: 0 | AF96: 0 | AG96: 3
A97: 94 | B97: Lieb Michal | H97: 1 | I97: 1 | J97: 1 | AA97: 3 | AB97: 3 | AC97: 0 | AD97: 0 | AE97: 0 | AF97: 0 | AG97: 3
A98: 95 | B98: Jadrný Roman | O98: 1 | P98: 1 | Q98: 1 | AA98: 3 | AB98: 3 | AC98: 0 | AD98: 0 | AE98: 0 | AF98: 0 | AG98: 3
A99: 96 | B99: Konvalinová Ludmila | T99: 1 | V99: 1 | W99: 1 | AA99: 3 | AB99: 3 | AC99: 0 | AD99: 0 | AE99: 0 | AF99: 0 | AG99: 3
A100: 97 | B100: Smolák J. | G100: 1 | H100: 1 | I100: 1 | AA100: 3 | AB100: 3 | AC100: 0 | AD100: 0 | AE100: 0 | AF100: 0 | AG100: 3
A101: 98 | B101: Hečko Karel | Q101: 1 | R101: 1 | S101: 1 | AA101: 3 | AB101: 3 | AC101: 0 | AD101: 0 | AE101: 0 | AF101: 0 | AG101: 3
...

Sheet 10-ball
B2: ŽEBŘÍČEK 10-BALL | C2: Body pro MR v poolových disciplínách - senioři 1999 - 2023 | P2: POČET ODEHRANÝCH TURNAJŮ
B3: Jméno | C3: 2011 | D3: 2012 | E3: 2013 | F3: 2014 | G3: 2015 | H3: 2016 | I3: 2017 | J3: 2018 | K3: 2019 | L3: 2021 | M3: 2022 | N3: 2023 | O3: Body | P3: Turnaje | Q3: *1* | R3: *2* | S3: *3*4* | T3: *5-8* | U3: další
A4: 1 | B4: Janata Jan | C4: 16 | D4: 16 | E4: 16 | G4: 2 | H4: 8 | O4: 58 | P4: 5 | Q4: 3 | R4: 1 | S4: 0 | T4: 1 | U4: 0
A5: 2 | B5: Vladyka Robin | C5: 8 | D5: 1 | E5: 4 | F5: 1 | G5: 4 | H5: 1 | I5: 1 | J5: 16 | K5: 1 | L5: 1 | M5: 8 | N5: 4 | O5: 50 | P5: 12 | Q5: 1 | R5: 2 | S5: 3 | T5: 0 | U5: 6
A6: 3 | B6: Halamka Pavel | C6: 4 | D6: 2 | E6: 1 | F6: 1 | G6: 1 | H6: 1 | I6: 1 | J6: 1 | K6: 2 | L6: 16 | M6: 4 | N6: 1 | O6: 35 | P6: 12 | Q6: 1 | R6: 0 | S6: 2 | T6: 2 | U6: 7
A7: 4 | B7: Marič Márijo | C7: 4 | D7: 2 | E7: 2 | F7: 8 | H7: 1 | I7: 4 | J7: 8 | K7: 2 | M7: 1 | N7: 2 | O7: 34 | P7: 10 | Q7: 0 | R7: 2 | S7: 2 | T7: 4 | U7: 2
A8: 5 | B8: Dorobant Slavomír | D8: 8 | E8: 4 | G8: 16 | H8: 2 | O8: 30 | P8: 4 | Q8: 1 | R8: 1 | S8: 1 | T8: 1 | U8: 0
A9: 6 | B9: Vančura Tomáš | G9: 1 | H9: 1 | J9: 1 | K9: 8 | L9: 1 | M9: 2 | N9: 16 | O9: 30 | P9: 7 | Q9: 1 | R9: 1 | S9: 0 | T9: 1 | U9: 4
A10: 7 | B10: Kavan Petr | C10: 1 | D10: 2 | E10: 2 | F10: 16 | G10: 2 | J10: 4 | O10: 27 | P10: 6 | Q10: 1 | R10: 0 | S10: 1 | T10: 3 | U10: 1
A11: 8 | B11: Zeman Oto | D11: 4 | E11: 2 | F11: 2 | G11: 1 | H11: 1 | I11: 1 | J11: 4 | L11: 2 | N11: 8 | O11: 25 | P11: 9 | Q11: 0 | R11: 1 | S11: 2 | T11: 3 | U11: 3
A12: 9 | B12: Mrňák Jan | G12: 1 | H12: 2 | I12: 2 | J12: 2 | K12: 16 | O12: 23 | P12: 5 | Q12: 1 | R12: 0 | S12: 0 | T12: 3 | U12: 1
A13: 10 | B13: Williams Heath | L13: 4 | M13: 16 | O13: 20 | P13: 2 | Q13: 1 | R13: 0 | S13: 1 | T13: 0 | U13: 0
A14: 11 | B14: Kokoška Petr | C14: 2 | I14: 16 | O14: 18 | P14: 2 | Q14: 1 | R14: 0 | S14: 0 | T14: 1 | U14: 0
A15: 12 | B15: Nohynek Dušan | H15: 16 | O15: 16 | P15: 1 | Q15: 1 | R15: 0 | S15: 0 | T15: 0 | U15: 0
A16: 13 | B16: Rush Andrew | G16: 1 | H16: 4 | I16: 8 | J16: 2 | O16: 15 | P16: 4 | Q16: 0 | R16: 1 | S16: 1 | T16: 1 | U16: 1
A17: 14 | B17: Urban Vladimír | C17: 1 | D17: 1 | E17: 1 | F17: 2 | G17: 1 | H17: 1 | I17: 1 | J17: 1 | K17: 4 | L17: 1 | O17: 14 | P17: 10 | Q17: 0 | R17: 0 | S17: 1 | T17: 1 | U17: 8
A18: 15 | B18: Smutný Petr | F18: 1 | G18: 8 | H18: 1 | I18: 1 | J18: 2 | O18: 13 | P18: 5 | Q18: 0 | R18: 1 | S18: 0 | T18: 1 | U18: 3
A19: 16 | B19: Aust Jiří | E19: 8 | F19: 4 | O19: 12 | P19: 2 | Q19: 0 | R19: 1 | S19: 1 | T19: 0 | U19: 0
A20: 17 | B20: Dončuk Jan | C20: 1 | D20: 1 | E20: 1 | F20: 1 | G20: 1 | H20: 1 | I20: 1 | J20: 1 | K20: 1 | L20: 1 | M20: 1 | N20: 1 | O20: 12 | P20: 12 | Q20: 0 | R20: 0 | S20: 0 | T20: 0 | U20: 12
A21: 18 | B21: Javůrek Jaroslav | C21: 1 | D21: 1 | E21: 1 | F21: 1 | G21: 1 | H21: 1 | I21: 1 | J21: 1 | K21: 1 | L21: 1 | M21: 1 | N21: 1 | O21: 12 | P21: 12 | Q21: 0 | R21: 0 | S21: 0 | T21: 0 | U21: 12
A22: 19 | B22: Hořeňovský Jaroslav | C22: 1 | D22: 1 | E22: 1 | F22: 1 | G22: 1 | H22: 1 | I22: 1 | J22: 1 | K22: 1 | L22: 1 | M22: 1 | N22: 1 | O22: 12 | P22: 12 | Q22: 0 | R22: 0 | S22: 0 | T22: 0 | U22: 12
A23: 20 | B23: Škrhák Vladimír | C23: 1 | D23: 1 | E23: 1 | F23: 1 | G23: 1 | H23: 1 | I23: 1 | J23: 1 | K23: 1 | L23: 1 | M23: 1 | N23: 1 | O23: 12 | P23: 12 | Q23: 0 | R23: 0 | S23: 0 | T23: 0 | U23: 12
A24: 21 | B24: Jaborník Michal | C24: 1 | E24: 1 | F24: 1 | G24: 1 | H24: 1 | J24: 1 | K24: 1 | N24: 4 | O24: 11 | P24: 8 | Q24: 0 | R24: 0 | S24: 1 | T24: 0 | U24: 7
A25: 22 | B25: Žalmanová Ilona | C25: 1 | D25: 1 | E25: 1 | F25: 2 | G25: 1 | H25: 1 | I25: 1 | K25: 1 | L25: 1 | N25: 1 | O25: 11 | P25: 10 | Q25: 0 | R25: 0 | S25: 0 | T25: 1 | U25: 9
A26: 23 | B26: Kotěra Jan | L26: 4 | M26: 4 | N26: 2 | O26: 10 | P26: 3 | Q26: 0 | R26: 0 | S26: 2 | T26: 1 | U26: 0
A27: 24 | B27: Beleš Pavol | D27: 1 | E27: 1 | F27: 1 | G27: 1 | H27: 1 | I27: 1 | J27: 1 | K27: 1 | M27: 1 | N27: 1 | O27: 10 | P27: 10 | Q27: 0 | R27: 0 | S27: 0 | T27: 0 | U27: 10
A28: 25 | B28: Kníže Martin | I28: 1 | J28: 1 | K28: 2 | L28: 1 | M28: 2 | N28: 2 | O28: 9 | P28: 6 | Q28: 0 | R28: 0 | S28: 0 | T28: 3 | U28: 3
A29: 26 | B29: Zuklín Petr | C29: 1 | D29: 1 | E29: 1 | H29: 1 | I29: 1 | J29: 1 | K29: 1 | N29: 2 | O29: 9 | P29: 8 | Q29: 0 | R29: 0 | S29: 0 | T29: 1 | U29: 7
A30: 27 | B30: Pilný Pavel | L30: 8 | O30: 8 | P30: 1 | Q30: 0 | R30: 1 | S30: 0 | T30: 0 | U30: 0
A31: 28 | B31: Kraušner Miroslav | G31: 4 | H31: 4 | O31: 8 | P31: 2 | Q31: 0 | R31: 0 | S31: 2 | T31: 0 | U31: 0
A32: 29 | B32: Walach Kristian | C32: 1 | E32: 1 | F32: 4 | G32: 1 | H32: 1 | O32: 8 | P32: 5 | Q32: 0 | R32: 0 | S32: 1 | T32: 0 | U32: 4
A33: 30 | B33: Urbánek Tomáš | H33: 2 | I33: 2 | J33: 1 | K33: 1 | L33: 2 | O33: 8 | P33: 5 | Q33: 0 | R33: 0 | S33: 0 | T33: 3 | U33: 2
A34: 31 | B34: Hochman Jindřich | D34: 1 | F34: 1 | G34: 1 | H34: 1 | I34: 1 | J34: 1 | K34: 1 | L34: 1 | O34: 8 | P34: 8 | Q34: 0 | R34: 0 | S34: 0 | T34: 0 | U34: 8
A35: 32 | B35: Novotný Tomáš | C35: 1 | D35: 1 | E35: 1 | F35: 1 | G35: 1 | H35: 1 | I35: 1 | J35: 1 | O35: 8 | P35: 8 | Q35: 0 | R35: 0 | S35: 0 | T35: 0 | U35: 8
A36: 33 | B36: Jelínek Petr | H36: 1 | I36: 2 | K36: 1 | L36: 2 | M36: 1 | O36: 7 | P36: 5 | Q36: 0 | R36: 0 | S36: 0 | T36: 2 | U36: 3
A37: 34 | B37: Pavlas Josef | F37: 1 | I37: 1 | J37: 1 | K37: 2 | L37: 1 | N37: 1 | O37: 7 | P37: 6 | Q37: 0 | R37: 0 | S37: 0 | T37: 1 | U37: 5
A38: 35 | B38: Frejka Jiří | F38: 1 | G38: 1 | H38: 1 | I38: 1 | J38: 1 | K38: 1 | L38: 1 | O38: 7 | P38: 7 | Q38: 0 | R38: 0 | S38: 0 | T38: 0 | U38: 7
A39: 36 | B39: Weber Pavel | I39: 1 | J39: 1 | K39: 4 | O39: 6 | P39: 3 | Q39: 0 | R39: 0 | S39: 1 | T39: 0 | U39: 2
A40: 37 | B40: Měcháček Michal | F40: 1 | G40: 2 | H40: 2 | M40: 1 | O40: 6 | P40: 4 | Q40: 0 | R40: 0 | S40: 0 | T40: 2 | U40: 2
A41: 38 | B41: Dupraz Serge | H41: 1 | J41: 1 | K41: 1 | L41: 2 | M41: 1 | O41: 6 | P41: 5 | Q41: 0 | R41: 0 | S41: 0 | T41: 1 | U41: 4
A42: 39 | B42: Žemlička Josef | C42: 1 | D42: 1 | E42: 1 | F42: 2 | G42: 1 | O42: 6 | P42: 5 | Q42: 0 | R42: 0 | S42: 0 | T42: 1 | U42: 4
A43: 40 | B43: Lener Jaroslav | G43: 2 | H43: 1 | I43: 1 | J43: 1 | K43: 1 | O43: 6 | P43: 5 | Q43: 0 | R43: 0 | S43: 0 | T43: 1 | U43: 4
A44: 41 | B44: Bílek Rudolf | C44: 1 | D44: 1 | E44: 1 | F44: 1 | G44: 1 | J44: 1 | O44: 6 | P44: 6 | Q44: 0 | R44: 0 | S44: 0 | T44: 0 | U44: 6
A45: 42 | B45: Božovský Robert | E45: 1 | F45: 1 | H45: 1 | I45: 1 | J45: 1 | L45: 1 | O45: 6 | P45: 6 | Q45: 0 | R45: 0 | S45: 0 | T45: 0 | U45: 6
A46: 43 | B46: Jadrný Roman | C46: 1 | D46: 1 | E46: 1 | F46: 1 | G46: 1 | O46: 5 | P46: 5 | Q46: 0 | R46: 0 | S46: 0 | T46: 0 | U46: 5
A47: 44 | B47: Suchánek Jan | D47: 4 | O47: 4 | P47: 1 | Q47: 0 | R47: 0 | S47: 1 | T47: 0 | U47: 0
A48: 45 | B48: Šafařík Jan | I48: 4 | O48: 4 | P48: 1 | Q48: 0 | R48: 0 | S48: 1 | T48: 0 | U48: 0
A49: 46 | B49: Kočí Ivan | D49: 1 | F49: 1 | G49: 1 | K49: 1 | O49: 4 | P49: 4 | Q49: 0 | R49: 0 | S49: 0 | T49: 0 | U49: 4
A50: 47 | B50: Škodný Josef | G50: 1 | H50: 1 | I50: 1 | J50: 1 | O50: 4 | P50: 4 | Q50: 0 | R50: 0 | S50: 0 | T50: 0 | U50: 4
A51: 48 | B51: Mokrousov Mykola | G51: 1 | H51: 1 | I51: 1 | J51: 1 | O51: 4 | P51: 4 | Q51: 0 | R51: 0 | S51: 0 | T51: 0 | U51: 4
A52: 49 | B52: Skrbek Jiří | G52: 1 | H52: 1 | I52: 1 | J52: 1 | O52: 4 | P52: 4 | Q52: 0 | R52: 0 | S52: 0 | T52: 0 | U52: 4
A53: 50 | B53: Doležal Pavel | H53: 1 | I53: 1 | J53: 1 | L53: 1 | O53: 4 | P53: 4 | Q53: 0 | R53: 0 | S53: 0 | T53: 0 | U53: 4
A54: 51 | B54: Krauskopf Ivo | C54: 1 | D54: 1 | E54: 1 | G54: 1 | O54: 4 | P54: 4 | Q54: 0 | R54: 0 | S54: 0 | T54: 0 | U54: 4
A55: 52 | B55: Hetflejš Jan | H55: 1 | I55: 1 | J55: 1 | K55: 1 | O55: 4 | P55: 4 | Q55: 0 | R55: 0 | S55: 0 | T55: 0 | U55: 4
A56: 53 | B56: Diviš Pavel | D56: 1 | E56: 1 | F56: 1 | G56: 1 | O56: 4 | P56: 4 | Q56: 0 | R56: 0 | S56: 0 | T56: 0 | U56: 4
A57: 54 | B57: Kadlec Pavel | F57: 1 | G57: 1 | I57: 1 | J57: 1 | O57: 4 | P57: 4 | Q57: 0 | R57: 0 | S57: 0 | T57: 0 | U57: 4
A58: 55 | B58: Michálek Petr | C58: 1 | D58: 1 | E58: 1 | F58: 1 | O58: 4 | P58: 4 | Q58: 0 | R58: 0 | S58: 0 | T58: 0 | U58: 4
A59: 56 | B59: Paťcha Robert | I59: 1 | K59: 1 | L59: 1 | N59: 1 | O59: 4 | P59: 4 | Q59: 0 | R59: 0 | S59: 0 | T59: 0 | U59: 4
A60: 57 | B60: Zůna Jiří | M60: 2 | N60: 1 | O60: 3 | P60: 2 | Q60: 0 | R60: 0 | S60: 0 | T60: 1 | U60: 1
A61: 58 | B61: Hamáček Jaroslav | G61: 1 | H61: 1 | I61: 1 | O61: 3 | P61: 3 | Q61: 0 | R61: 0 | S61: 0 | T61: 0 | U61: 3
A62: 59 | B62: Brancuský Petr | H62: 1 | I62: 1 | K62: 1 | O62: 3 | P62: 3 | Q62: 0 | R62: 0 | S62: 0 | T62: 0 | U62: 3
A63: 60 | B63: Egner Alexandr | F63: 1 | G63: 1 | H63: 1 | O63: 3 | P63: 3 | Q63: 0 | R63: 0 | S63: 0 | T63: 0 | U63: 3
A64: 61 | B64: Mičkal Libor | C64: 1 | D64: 1 | H64: 1 | O64: 3 | P64: 3 | Q64: 0 | R64: 0 | S64: 0 | T64: 0 | U64: 3
A65: 62 | B65: Komárek Vít | G65: 1 | H65: 1 | I65: 1 | O65: 3 | P65: 3 | Q65: 0 | R65: 0 | S65: 0 | T65: 0 | U65: 3
A66: 63 | B66: Vlk Pavel | I66: 1 | K66: 1 | M66: 1 | O66: 3 | P66: 3 | Q66: 0 | R66: 0 | S66: 0 | T66: 0 | U66: 3
A67: 64 | B67: Konvalinová Ludmila | I67: 1 | J67: 1 | K67: 1 | O67: 3 | P67: 3 | Q67: 0 | R67: 0 | S67: 0 | T67: 0 | U67: 3
A68: 65 | B68: Kotršál František | I68: 1 | L68: 1 | N68: 1 | O68: 3 | P68: 3 | Q68: 0 | R68: 0 | S68: 0 | T68: 0 | U68: 3
A69: 66 | B69: Švaňa Milan | C69: 2 | O69: 2 | P69: 1 | Q69: 0 | R69: 0 | S69: 0 | T69: 1 | U69: 0
A70: 67 | B70: Rendla Jakub | M70: 2 | O70: 2 | P70: 1 | Q70: 0 | R70: 0 | S70: 0 | T70: 1 | U70: 0
A71: 68 | B71: Růčka Radek | J71: 2 | O71: 2 | P71: 1 | Q71: 0 | R71: 0 | S71: 0 | T71: 1 | U71: 0
A72: 69 | B72: Hájek Vlastimil | C72: 2 | O72: 2 | P72: 1 | Q72: 0 | R72: 0 | S72: 0 | T72: 1 | U72: 0
A73: 70 | B73: Náhlík Tomáš | D73: 2 | O73: 2 | P73: 1 | Q73: 0 | R73: 0 | S73: 0 | T73: 1 | U73: 0
A74: 71 | B74: Vacek Jiří | I74: 2 | O74: 2 | P74: 1 | Q74: 0 | R74: 0 | S74: 0 | T74: 1 | U74: 0
A75: 72 | B75: Schmidt Mark | E75: 2 | O75: 2 | P75: 1 | Q75: 0 | R75: 0 | S75: 0 | T75: 1 | U75: 0
A76: 73 | B76: Lottring Richard | C76: 2 | O76: 2 | P76: 1 | Q76: 0 | R76: 0 | S76: 0 | T76: 1 | U76: 0
A77: 74 | B77: Louda Luboš | F77: 1 | G77: 1 | O77: 2 | P77: 2 | Q77: 0 | R77: 0 | S77: 0 | T77: 0 | U77: 2
A78: 75 | B78: Vajner David | F78: 1 | G78: 1 | O78: 2 | P78: 2 | Q78: 0 | R78: 0 | S78: 0 | T78: 0 | U78: 2
A79: 76 | B79: Mikeš Jaroslav | F79: 1 | G79: 1 | O79: 2 | P79: 2 | Q79: 0 | R79: 0 | S79: 0 | T79: 0 | U79: 2
A80: 77 | B80: Divišová Markéta | E80: 1 | F80: 1 | O80: 2 | P80: 2 | Q80: 0 | R80: 0 | S80: 0 | T80: 0 | U80: 2
A81: 78 | B81: Jech Pavel | E81: 1 | H81: 1 | O81: 2 | P81: 2 | Q81: 0 | R81: 0 | S81: 0 | T81: 0 | U81: 2
A82: 79 | B82: Suchánek Tomáš | E82: 1 | F82: 1 | O82: 2 | P82: 2 | Q82: 0 | R82: 0 | S82: 0 | T82: 0 | U82: 2
A83: 80 | B83: Hruška Petr | M83: 1 | N83: 1 | O83: 2 | P83: 2 | Q83: 0 | R83: 0 | S83: 0 | T83: 0 | U83: 2
A84: 81 | B84: Bene Robert | H84: 1 | I84: 1 | O84: 2 | P84: 2 | Q84: 0 | R84: 0 | S84: 0 | T84: 0 | U84: 2
A85: 82 | B85: Hečko Karel | F85: 1 | G85: 1 | O85: 2 | P85: 2 | Q85: 0 | R85: 0 | S85: 0 | T85: 0 | U85: 2
A86: 83 | B86: Čtrnáctý st. Martin | M86: 1 | N86: 1 | O86: 2 | P86: 2 | Q86: 0 | R86: 0 | S86: 0 | T86: 0 | U86: 2
A87: 84 | B87: Hrach Josef | K87: 1 | O87: 1 | P87: 1 | Q87: 0 | R87: 0 | S87: 0 | T87: 0 | U87: 1
A88: 85 | B88: Korn Jiří | C88: 1 | O88: 1 | P88: 1 | Q88: 0 | R88: 0 | S88: 0 | T88: 0 | U88: 1
A89: 86 | B89: Žalman Miloš | C89: 1 | O89: 1 | P89: 1 | Q89: 0 | R89: 0 | S89: 0 | T89: 0 | U89: 1
A90: 87 | B90: Tuan Petr | K90: 1 | O90: 1 | P90: 1 | Q90: 0 | R90: 0 | S90: 0 | T90: 0 | U90: 1
A91: 88 | B91: Družbík Vladimír | M91: 1 | O91: 1 | P91: 1 | Q91: 0 | R91: 0 | S91: 0 | T91: 0 | U91: 1
A92: 89 | B92: Hegerová Martina | E92: 1 | O92: 1 | P92: 1 | Q92: 0 | R92: 0 | S92: 0 | T92: 0 | U92: 1
A93: 90 | B93: Hubrtová Miroslava | J93: 1 | O93: 1 | P93: 1 | Q93: 0 | R93: 0 | S93: 0 | T93: 0 | U93: 1
A94: 91 | B94: Hercík Karel | C94: 1 | O94: 1 | P94: 1 | Q94: 0 | R94: 0 | S94: 0 | T94: 0 | U94: 1
A95: 92 | B95: Téma Libor | D95: 1 | O95: 1 | P95: 1 | Q95: 0 | R95: 0 | S95: 0 | T95: 0 | U95: 1
A96: 93 | B96: Uremovič Željko | H96: 1 | O96: 1 | P96: 1 | Q96: 0 | R96: 0 | S96: 0 | T96: 0 | U96: 1
A97: 94 | B97: Vrzák František | E97: 1 | O97: 1 | P97: 1 | Q97: 0 | R97: 0 | S97: 0 | T97: 0 | U97: 1
A98: 95 | B98: Kratochvíl Josef | M98: 1 | O98: 1 | P98: 1 | Q98: 0 | R98: 0 | S98: 0 | T98: 0 | U98: 1
A99: 96 | B99: Nikolič Srdan | M99: 1 | O99: 1 | P99: 1 | Q99: 0 | R99: 0 | S99: 0 | T99: 0 | U99: 1
A100: 97 | B100: Poskočilová Eva | C100: 1 | O100: 1 | P100: 1 | Q100: 0 | R100: 0 | S100: 0 | T100: 0 | U100: 1
A101: 98 | B101: Balan Arivukkannan | M101: 1 | O101: 1 | P101: 1 | Q101: 0 | R101: 0 | S101: 0 | T101: 0 | U101: 1
...

Sheet 14.1
B2: ŽEBŘÍČEK 14.1 | C2: Bodové hodnocení pro MR v poolových disciplínách - senioři 1999 - 2023 | AB2: POČET ODEHRANÝCH TURNAJŮ
B3: Jméno | C3: 1999 | D3: 2000 | E3: 2001 | F3: 2002 | G3: 2003 | H3: 2004 | I3: 2005 | J3: 2006 | K3: 2007 | L3: 2008 | M3: 2009 | N3: 2010 | O3: 2011 | P3: 2012 | Q3: 2013 | R3: 2014 | S3: 2015 | T3: 2016 | U3: 2017 | V3: 2018 | W3: 2019 | X3: 2021 | Y3: 2022 | Z3: 2023 | AA3: Body | AB3: Turnaje | AC3: *1* | AD3: *2* | AE3: *3-4* | AF3: *5-8* | AG3: * 9 +*
A4: 1 | B4: Halamka Pavel | C4: 16 | D4: 16 | E4: 16 | F4: 16 | G4: 16 | H4: 16 | I4: 16 | J4: 16 | K4: 16 | L4: 16 | M4: 8 | N4: 2 | O4: 8 | P4: 8 | Q4: 4 | R4: 2 | S4: 2 | T4: 1 | U4: 8 | V4: 1 | W4: 2 | X4: 2 | Y4: 2 | Z4: 8 | AA4: 218 | AB4: 24 | AC4: 10 | AD4: 5 | AE4: 1 | AF4: 6 | AG4: 2
A5: 2 | B5: Dorobant Slavomír | Q5: 16 | R5: 16 | S5: 8 | T5: 16 | X5: 16 | Y5: 16 | Z5: 16 | AA5: 104 | AB5: 7 | AC5: 6 | AD5: 1 | AE5: 0 | AF5: 0 | AG5: 0
A6: 3 | B6: Marič Márijo | L6: 4 | M6: 16 | N6: 8 | O6: 4 | R6: 4 | T6: 2 | U6: 2 | V6: 16 | W6: 16 | Y6: 2 | Z6: 4 | AA6: 78 | AB6: 11 | AC6: 3 | AD6: 1 | AE6: 4 | AF6: 3 | AG6: 0
A7: 4 | B7: Stojka Milan | C7: 8 | D7: 8 | E7: 8 | F7: 4 | G7: 8 | H7: 4 | I7: 8 | J7: 2 | K7: 1 | L7: 1 | M7: 2 | AA7: 54 | AB7: 11 | AC7: 0 | AD7: 5 | AE7: 2 | AF7: 2 | AG7: 2
A8: 5 | B8: Zeman Oto | L8: 2 | M8: 4 | P8: 4 | Q8: 2 | R8: 4 | S8: 2 | T8: 1 | U8: 16 | V8: 4 | W8: 4 | X8: 4 | Y8: 2 | Z8: 2 | AA8: 51 | AB8: 13 | AC8: 1 | AD8: 0 | AE8: 6 | AF8: 5 | AG8: 1
A9: 6 | B9: Kavan Petr | N9: 4 | O9: 4 | P9: 16 | Q9: 2 | R9: 8 | T9: 2 | V9: 1 | AA9: 37 | AB9: 7 | AC9: 1 | AD9: 1 | AE9: 2 | AF9: 2 | AG9: 1
A10: 7 | B10: Janata Jan | O10: 16 | P10: 2 | Q10: 4 | S10: 2 | T10: 4 | AA10: 28 | AB10: 5 | AC10: 1 | AD10: 0 | AE10: 2 | AF10: 2 | AG10: 0
A11: 8 | B11: Švaňa Milan | C11: 2 | D11: 4 | E11: 4 | F11: 2 | G11: 2 | H11: 4 | I11: 1 | J11: 1 | K11: 1 | L11: 1 | M11: 1 | N11: 1 | O11: 2 | AA11: 26 | AB11: 13 | AC11: 0 | AD11: 0 | AE11: 3 | AF11: 4 | AG11: 6
A12: 9 | B12: Kočí Ivan | C12: 4 | D12: 2 | E12: 4 | F12: 4 | G12: 4 | J12: 1 | L12: 1 | M12: 1 | N12: 1 | O12: 1 | P12: 1 | T12: 1 | V12: 1 | AA12: 26 | AB12: 13 | AC12: 0 | AD12: 0 | AE12: 4 | AF12: 1 | AG12: 8
A13: 10 | B13: Pavlas Josef | D13: 1 | E13: 1 | F13: 8 | G13: 1 | H13: 1 | I13: 2 | J13: 1 | K13: 1 | L13: 1 | M13: 1 | O13: 1 | R13: 1 | U13: 1 | W13: 1 | X13: 2 | Z13: 2 | AA13: 26 | AB13: 16 | AC13: 0 | AD13: 1 | AE13: 0 | AF13: 3 | AG13: 12
A14: 11 | B14: Bílek Rudolf | D14: 2 | E14: 2 | F14: 1 | G14: 2 | H14: 2 | I14: 2 | J14: 2 | K14: 4 | L14: 1 | M14: 1 | N14: 1 | O14: 1 | P14: 1 | Q14: 1 | R14: 1 | T14: 1 | V14: 1 | AA14: 26 | AB14: 17 | AC14: 0 | AD14: 0 | AE14: 1 | AF14: 6 | AG14: 10
A15: 12 | B15: Kadlec Bohdan | H15: 8 | I15: 4 | J15: 8 | K15: 2 | L15: 1 | M15: 2 | AA15: 25 | AB15: 6 | AC15: 0 | AD15: 2 | AE15: 1 | AF15: 2 | AG15: 1
A16: 13 | B16: Vančura Tomáš | S16: 4 | T16: 1 | U16: 2 | W16: 4 | X16: 8 | Y16: 4 | Z16: 2 | AA16: 25 | AB16: 7 | AC16: 0 | AD16: 1 | AE16: 3 | AF16: 2 | AG16: 1
A17: 14 | B17: Rush Andrew | S17: 16 | T17: 2 | U17: 4 | AA17: 22 | AB17: 3 | AC17: 1 | AD17: 0 | AE17: 1 | AF17: 1 | AG17: 0
A18: 15 | B18: Vladyka Robin | O18: 2 | Q18: 1 | R18: 1 | S18: 1 | T18: 1 | U18: 4 | V18: 2 | W18: 1 | X18: 4 | Y18: 1 | Z18: 4 | AA18: 22 | AB18: 11 | AC18: 0 | AD18: 0 | AE18: 3 | AF18: 2 | AG18: 6
A19: 16 | B19: Urban Vladimír | E19: 2 | F19: 1 | H19: 1 | I19: 1 | J19: 1 | K19: 2 | L19: 1 | M19: 1 | N19: 2 | O19: 1 | P19: 1 | Q19: 1 | R19: 1 | S19: 2 | T19: 1 | U19: 1 | Y19: 1 | AA19: 21 | AB19: 17 | AC19: 0 | AD19: 0 | AE19: 0 | AF19: 4 | AG19: 13
A20: 17 | B20: Suchánek Jan | N20: 16 | P20: 4 | AA20: 20 | AB20: 2 | AC20: 1 | AD20: 0 | AE20: 1 | AF20: 0 | AG20: 0
A21: 18 | B21: Kokoška Petr | J21: 4 | K21: 8 | L21: 8 | AA21: 20 | AB21: 3 | AC21: 0 | AD21: 2 | AE21: 1 | AF21: 0 | AG21: 0
A22: 19 | B22: Kratochvíl Josef | E22: 2 | F22: 1 | G22: 2 | H22: 1 | I22: 1 | J22: 1 | K22: 4 | L22: 2 | M22: 1 | N22: 1 | O22: 1 | AA22: 17 | AB22: 11 | AC22: 0 | AD22: 0 | AE22: 1 | AF22: 3 | AG22: 7
A23: 20 | B23: Škrhák Vladimír | E23: 1 | F23: 1 | G23: 1 | H23: 2 | I23: 1 | J23: 4 | K23: 2 | L23: 2 | M23: 1 | N23: 1 | O23: 1 | AA23: 17 | AB23: 11 | AC23: 0 | AD23: 0 | AE23: 1 | AF23: 3 | AG23: 7
A24: 21 | B24: Walach Kristian | C24: 4 | D24: 4 | H24: 1 | K24: 1 | L24: 1 | M24: 1 | N24: 1 | Q24: 2 | AA24: 15 | AB24: 8 | AC24: 0 | AD24: 0 | AE24: 2 | AF24: 1 | AG24: 5
A25: 22 | B25: Bauer Zdeněk | C25: 2 | D25: 2 | E25: 2 | F25: 1 | G25: 1 | H25: 2 | I25: 2 | J25: 1 | K25: 1 | L25: 1 | AA25: 15 | AB25: 10 | AC25: 0 | AD25: 0 | AE25: 0 | AF25: 5 | AG25: 5
A26: 23 | B26: Žemlička Josef | G26: 4 | H26: 1 | I26: 1 | J26: 1 | K26: 1 | L26: 1 | M26: 1 | O26: 1 | P26: 1 | Q26: 1 | S26: 1 | AA26: 14 | AB26: 11 | AC26: 0 | AD26: 0 | AE26: 1 | AF26: 0 | AG26: 10
A27: 24 | B27: Tichý Jaroslav | F27: 2 | G27: 2 | H27: 2 | I27: 4 | J27: 2 | K27: 1 | AA27: 13 | AB27: 6 | AC27: 0 | AD27: 0 | AE27: 1 | AF27: 4 | AG27: 1
A28: 25 | B28: Růčka Radek | V28: 4 | W28: 8 | AA28: 12 | AB28: 2 | AC28: 0 | AD28: 1 | AE28: 1 | AF28: 0 | AG28: 0
A29: 26 | B29: Kraušner Miroslav | S29: 4 | T29: 8 | AA29: 12 | AB29: 2 | AC29: 0 | AD29: 1 | AE29: 1 | AF29: 0 | AG29: 0
A30: 27 | B30: Mrňák Jan | T30: 2 | U30: 2 | V30: 8 | AA30: 12 | AB30: 3 | AC30: 0 | AD30: 1 | AE30: 0 | AF30: 2 | AG30: 0
A31: 28 | B31: Žalmanová Ilona | H31: 1 | I31: 1 | J31: 1 | K31: 1 | L31: 1 | M31: 1 | N31: 1 | O31: 1 | P31: 1 | Q31: 1 | T31: 1 | U31: 1 | AA31: 12 | AB31: 12 | AC31: 0 | AD31: 0 | AE31: 0 | AF31: 0 | AG31: 12
A32: 29 | B32: Uremovič Željko | H32: 1 | I32: 1 | J32: 1 | K32: 2 | M32: 4 | N32: 1 | T32: 1 | AA32: 11 | AB32: 7 | AC32: 0 | AD32: 0 | AE32: 1 | AF32: 1 | AG32: 5
A33: 30 | B33: Korn Jiří | C33: 2 | D33: 2 | F33: 1 | G33: 1 | H33: 1 | I33: 2 | N33: 1 | O33: 1 | AA33: 11 | AB33: 8 | AC33: 0 | AD33: 0 | AE33: 0 | AF33: 3 | AG33: 5
A34: 31 | B34: Aust Jiří | Q34: 8 | R34: 2 | AA34: 10 | AB34: 2 | AC34: 0 | AD34: 1 | AE34: 0 | AF34: 1 | AG34: 0
A35: 32 | B35: Pertl Antonín | F35: 2 | G35: 1 | H35: 1 | I35: 1 | J35: 1 | K35: 1 | L35: 1 | M35: 1 | N35: 1 | AA35: 10 | AB35: 9 | AC35: 0 | AD35: 0 | AE35: 0 | AF35: 1 | AG35: 8
A36: 33 | B36: Hořeňovský Jaroslav | O36: 1 | P36: 1 | Q36: 1 | R36: 1 | S36: 1 | T36: 1 | U36: 1 | V36: 1 | W36: 1 | Z36: 1 | AA36: 10 | AB36: 10 | AC36: 0 | AD36: 0 | AE36: 0 | AF36: 0 | AG36: 10
A37: 34 | B37: Mičkal Libor | L37: 1 | M37: 2 | N37: 2 | O37: 1 | P37: 2 | Q37: 1 | AA37: 9 | AB37: 6 | AC37: 0 | AD37: 0 | AE37: 0 | AF37: 3 | AG37: 3
A38: 35 | B38: Klatovský Jiří | C38: 2 | D38: 1 | G38: 1 | H38: 1 | I38: 1 | J38: 1 | K38: 1 | L38: 1 | AA38: 9 | AB38: 8 | AC38: 0 | AD38: 0 | AE38: 0 | AF38: 1 | AG38: 7
A39: 36 | B39: Dončuk Jan | O39: 1 | P39: 1 | Q39: 1 | S39: 1 | T39: 1 | U39: 1 | V39: 1 | W39: 1 | Z39: 1 | AA39: 9 | AB39: 9 | AC39: 0 | AD39: 0 | AE39: 0 | AF39: 0 | AG39: 9
A40: 37 | B40: Williams Heath | Y40: 8 | AA40: 8 | AB40: 1 | AC40: 0 | AD40: 1 | AE40: 0 | AF40: 0 | AG40: 0
A41: 38 | B41: Žaludek Karel | L41: 4 | M41: 1 | N41: 1 | O41: 2 | AA41: 8 | AB41: 4 | AC41: 0 | AD41: 0 | AE41: 1 | AF41: 1 | AG41: 2
A42: 39 | B42: Krauskopf Ivo | L42: 1 | M42: 1 | N42: 1 | O42: 1 | P42: 2 | Q42: 1 | R42: 1 | AA42: 8 | AB42: 7 | AC42: 0 | AD42: 0 | AE42: 0 | AF42: 1 | AG42: 6
A43: 40 | B43: Javůrek Jaroslav | O43: 1 | P43: 1 | Q43: 1 | S43: 1 | T43: 1 | V43: 1 | W43: 1 | Z43: 1 | AA43: 8 | AB43: 8 | AC43: 0 | AD43: 0 | AE43: 0 | AF43: 0 | AG43: 8
A44: 41 | B44: Lottring Richard | M44: 1 | N44: 4 | O44: 2 | AA44: 7 | AB44: 3 | AC44: 0 | AD44: 0 | AE44: 1 | AF44: 1 | AG44: 1
A45: 42 | B45: Pavlasová Miloslava | D45: 1 | H45: 1 | J45: 1 | K45: 1 | L45: 1 | M45: 1 | O45: 1 | AA45: 7 | AB45: 7 | AC45: 0 | AD45: 0 | AE45: 0 | AF45: 0 | AG45: 7
A46: 43 | B46: Frejka Jiří | R46: 1 | S46: 1 | T46: 1 | U46: 1 | V46: 1 | W46: 1 | Y46: 1 | AA46: 7 | AB46: 7 | AC46: 0 | AD46: 0 | AE46: 0 | AF46: 0 | AG46: 7
A47: 44 | B47: Hercík Karel | H47: 1 | I47: 1 | J47: 1 | K47: 1 | L47: 1 | M47: 1 | O47: 1 | AA47: 7 | AB47: 7 | AC47: 0 | AD47: 0 | AE47: 0 | AF47: 0 | AG47: 7
A48: 45 | B48: Hochman Jindřich | L48: 1 | M48: 1 | O48: 1 | P48: 1 | Q48: 1 | R48: 1 | U48: 1 | AA48: 7 | AB48: 7 | AC48: 0 | AD48: 0 | AE48: 0 | AF48: 0 | AG48: 7
A49: 46 | B49: Žalman Miloš | H49: 1 | I49: 1 | J49: 1 | K49: 1 | L49: 1 | M49: 1 | O49: 1 | AA49: 7 | AB49: 7 | AC49: 0 | AD49: 0 | AE49: 0 | AF49: 0 | AG49: 7
A50: 47 | B50: Burda Martin | U50: 2 | V50: 2 | W50: 2 | AA50: 6 | AB50: 3 | AC50: 0 | AD50: 0 | AE50: 0 | AF50: 3 | AG50: 0
A51: 48 | B51: Kníže Martin | U51: 1 | V51: 2 | W51: 1 | X51: 2 | AA51: 6 | AB51: 4 | AC51: 0 | AD51: 0 | AE51: 0 | AF51: 2 | AG51: 2
A52: 49 | B52: Jaborník Michal | M52: 1 | N52: 1 | O52: 1 | Q52: 1 | Y52: 2 | AA52: 6 | AB52: 5 | AC52: 0 | AD52: 0 | AE52: 0 | AF52: 1 | AG52: 4
A53: 50 | B53: Valentin František | D53: 1 | H53: 1 | I53: 1 | J53: 2 | K53: 1 | AA53: 6 | AB53: 5 | AC53: 0 | AD53: 0 | AE53: 0 | AF53: 1 | AG53: 4
A54: 51 | B54: Zůna Jiří | Y54: 4 | Z54: 1 | AA54: 5 | AB54: 2 | AC54: 0 | AD54: 0 | AE54: 1 | AF54: 0 | AG54: 1
A55: 52 | B55: Mokrousov Mykola | S55: 1 | T55: 1 | U55: 1 | V55: 2 | AA55: 5 | AB55: 4 | AC55: 0 | AD55: 0 | AE55: 0 | AF55: 1 | AG55: 3
A56: 53 | B56: Kesnerová Valentina | E56: 1 | I56: 1 | J56: 1 | K56: 1 | L56: 1 | AA56: 5 | AB56: 5 | AC56: 0 | AD56: 0 | AE56: 0 | AF56: 0 | AG56: 5
A57: 54 | B57: Hájek Vlastimil | F57: 1 | H57: 1 | I57: 1 | J57: 1 | K57: 1 | AA57: 5 | AB57: 5 | AC57: 0 | AD57: 0 | AE57: 0 | AF57: 0 | AG57: 5
A58: 55 | B58: Zuklín Petr | K58: 1 | L58: 1 | O58: 1 | Q58: 1 | U58: 1 | AA58: 5 | AB58: 5 | AC58: 0 | AD58: 0 | AE58: 0 | AF58: 0 | AG58: 5
A59: 56 | B59: Měcháček Michal | R59: 1 | S59: 1 | T59: 1 | U59: 1 | Y59: 1 | AA59: 5 | AB59: 5 | AC59: 0 | AD59: 0 | AE59: 0 | AF59: 0 | AG59: 5
A60: 57 | B60: Nohynek Dušan | T60: 4 | AA60: 4 | AB60: 1 | AC60: 0 | AD60: 0 | AE60: 1 | AF60: 0 | AG60: 0
A61: 58 | B61: Mašek Petr | L61: 2 | M61: 2 | AA61: 4 | AB61: 2 | AC61: 0 | AD61: 0 | AE61: 0 | AF61: 2 | AG61: 0
A62: 59 | B62: Náhlík Tomáš | L62: 1 | M62: 1 | P62: 2 | AA62: 4 | AB62: 3 | AC62: 0 | AD62: 0 | AE62: 0 | AF62: 1 | AG62: 2
A63: 60 | B63: Kadlec Pavel | R63: 1 | S63: 1 | W63: 2 | AA63: 4 | AB63: 3 | AC63: 0 | AD63: 0 | AE63: 0 | AF63: 1 | AG63: 2
A64: 61 | B64: Kováč Radovan | U64: 1 | Z64: 2 | AA64: 3 | AB64: 2 | AC64: 0 | AD64: 0 | AE64: 0 | AF64: 1 | AG64: 1
A65: 62 | B65: Suchánek Tomáš | Q65: 1 | R65: 2 | AA65: 3 | AB65: 2 | AC65: 0 | AD65: 0 | AE65: 0 | AF65: 1 | AG65: 1
A66: 63 | B66: Illner Petr | K66: 1 | M66: 1 | N66: 1 | AA66: 3 | AB66: 3 | AC66: 0 | AD66: 0 | AE66: 0 | AF66: 0 | AG66: 3
A67: 64 | B67: Téma Libor | O67: 1 | P67: 1 | Q67: 1 | AA67: 3 | AB67: 3 | AC67: 0 | AD67: 0 | AE67: 0 | AF67: 0 | AG67: 3
A68: 65 | B68: Balský Karel | D68: 1 | H68: 1 | M68: 1 | AA68: 3 | AB68: 3 | AC68: 0 | AD68: 0 | AE68: 0 | AF68: 0 | AG68: 3
A69: 66 | B69: Severa Martin | D69: 1 | E69: 1 | K69: 1 | AA69: 3 | AB69: 3 | AC69: 0 | AD69: 0 | AE69: 0 | AF69: 0 | AG69: 3
A70: 67 | B70: Liebová Martina | L70: 1 | M70: 1 | N70: 1 | AA70: 3 | AB70: 3 | AC70: 0 | AD70: 0 | AE70: 0 | AF70: 0 | AG70: 3
A71: 68 | B71: Brancuský Petr | T71: 1 | U71: 1 | V71: 1 | AA71: 3 | AB71: 3 | AC71: 0 | AD71: 0 | AE71: 0 | AF71: 0 | AG71: 3
A72: 69 | B72: Jelínek Bohuslav | E72: 1 | H72: 1 | J72: 1 | AA72: 3 | AB72: 3 | AC72: 0 | AD72: 0 | AE72: 0 | AF72: 0 | AG72: 3
A73: 70 | B73: Mlynařík J. | F73: 1 | G73: 1 | H73: 1 | AA73: 3 | AB73: 3 | AC73: 0 | AD73: 0 | AE73: 0 | AF73: 0 | AG73: 3
A74: 71 | B74: Sládek Ludvík | L74: 1 | N74: 1 | P74: 1 | AA74: 3 | AB74: 3 | AC74: 0 | AD74: 0 | AE74: 0 | AF74: 0 | AG74: 3
A75: 72 | B75: Weber Pavel | W75: 2 | AA75: 2 | AB75: 1 | AC75: 0 | AD75: 0 | AE75: 0 | AF75: 1 | AG75: 0
A76: 73 | B76: Vajner David | R76: 2 | AA76: 2 | AB76: 1 | AC76: 0 | AD76: 0 | AE76: 0 | AF76: 1 | AG76: 0
A77: 74 | B77: Nikolič Srdan | X77: 2 | AA77: 2 | AB77: 1 | AC77: 0 | AD77: 0 | AE77: 0 | AF77: 1 | AG77: 0
A78: 75 | B78: Stehlík Jiří | N78: 2 | AA78: 2 | AB78: 1 | AC78: 0 | AD78: 0 | AE78: 0 | AF78: 1 | AG78: 0
A79: 76 | B79: Zelinka | F79: 2 | AA79: 2 | AB79: 1 | AC79: 0 | AD79: 0 | AE79: 0 | AF79: 1 | AG79: 0
A80: 77 | B80: Schmidt Mark | Q80: 2 | AA80: 2 | AB80: 1 | AC80: 0 | AD80: 0 | AE80: 0 | AF80: 1 | AG80: 0
A81: 78 | B81: Michálek Petr | P81: 1 | Q81: 1 | AA81: 2 | AB81: 2 | AC81: 0 | AD81: 0 | AE81: 0 | AF81: 0 | AG81: 2
A82: 79 | B82: Dupraz Serge | T82: 1 | V82: 1 | AA82: 2 | AB82: 2 | AC82: 0 | AD82: 0 | AE82: 0 | AF82: 0 | AG82: 2
A83: 80 | B83: Diviš Pavel | P83: 1 | Q83: 1 | AA83: 2 | AB83: 2 | AC83: 0 | AD83: 0 | AE83: 0 | AF83: 0 | AG83: 2
A84: 81 | B84: Hrubec Miroslav | E84: 1 | I84: 1 | AA84: 2 | AB84: 2 | AC84: 0 | AD84: 0 | AE84: 0 | AF84: 0 | AG84: 2
A85: 82 | B85: Štych Jiří | J85: 1 | M85: 1 | AA85: 2 | AB85: 2 | AC85: 0 | AD85: 0 | AE85: 0 | AF85: 0 | AG85: 2
A86: 83 | B86: Hubrtová Miroslava | D86: 1 | V86: 1 | AA86: 2 | AB86: 2 | AC86: 0 | AD86: 0 | AE86: 0 | AF86: 0 | AG86: 2
A87: 84 | B87: Sedliská Marie | D87: 1 | H87: 1 | AA87: 2 | AB87: 2 | AC87: 0 | AD87: 0 | AE87: 0 | AF87: 0 | AG87: 2
A88: 85 | B88: Božovský Robert | O88: 1 | Q88: 1 | AA88: 2 | AB88: 2 | AC88: 0 | AD88: 0 | AE88: 0 | AF88: 0 | AG88: 2
A89: 86 | B89: Paťcha Robert | Y89: 1 | Z89: 1 | AA89: 2 | AB89: 2 | AC89: 0 | AD89: 0 | AE89: 0 | AF89: 0 | AG89: 2
A90: 87 | B90: Mikeš Jaroslav | S90: 1 | T90: 1 | AA90: 2 | AB90: 2 | AC90: 0 | AD90: 0 | AE90: 0 | AF90: 0 | AG90: 2
A91: 88 | B91: Louda Luboš | Q91: 1 | AA91: 1 | AB91: 1 | AC91: 0 | AD91: 0 | AE91: 0 | AF91: 0 | AG91: 1
A92: 89 | B92: Škodný Josef | V92: 1 | AA92: 1 | AB92: 1 | AC92: 0 | AD92: 0 | AE92: 0 | AF92: 0 | AG92: 1
A93: 90 | B93: Poskočilová Eva | O93: 1 | AA93: 1 | AB93: 1 | AC93: 0 | AD93: 0 | AE93: 0 | AF93: 0 | AG93: 1
A94: 91 | B94: Karásek Roman | J94: 1 | AA94: 1 | AB94: 1 | AC94: 0 | AD94: 0 | AE94: 0 | AF94: 0 | AG94: 1
A95: 92 | B95: Vondrášek Josef | S95: 1 | AA95: 1 | AB95: 1 | AC95: 0 | AD95: 0 | AE95: 0 | AF95: 0 | AG95: 1
A96: 93 | B96: Hefner J. | H96: 1 | AA96: 1 | AB96: 1 | AC96: 0 | AD96: 0 | AE96: 0 | AF96: 0 | AG96: 1
A97: 94 | B97: Kohut | E97: 1 | AA97: 1 | AB97: 1 | AC97: 0 | AD97: 0 | AE97: 0 | AF97: 0 | AG97: 1
A98: 95 | B98: Skrbek Jiří | U98: 1 | AA98: 1 | AB98: 1 | AC98: 0 | AD98: 0 | AE98: 0 | AF98: 0 | AG98: 1
A99: 96 | B99: Zilvar Luboš | H99: 1 | AA99: 1 | AB99: 1 | AC99: 0 | AD99: 0 | AE99: 0 | AF99: 0 | AG99: 1
A100: 97 | B100: Nguyen | I100: 1 | AA100: 1 | AB100: 1 | AC100: 0 | AD100: 0 | AE100: 0 | AF100: 0 | AG100: 1
A101: 98 | B101: Michal Kryštof | X101: 1 | AA101: 1 | AB101: 1 | AC101: 0 | AD101: 0 | AE101: 0 | AF101: 0 | AG101: 1
...
