Workbook

Sheet Titulek

Sheet Po rocích
A1: Řazení: Ročník / Disciplína / Umístění | E1: Jméno | F1: Klub | G1: Umístění | H1: Ročník | I1: Disciplina | J1: Body
A2: ROČNÍK 1995 | C2: 8-ball | E2: Pavlovič Dušan | F2: Neto České Budějovice | G2: 1 | H2: 1995 | I2: 8 | J2: 16
E3: Nechoďdomů Radek | F3: Neto České Budějovice | G3: 2 | H3: 1995 | I3: 8 | J3: 8
E4: Gajda Petr | F4: Ostrava | G4: 3 | H4: 1995 | I4: 8 | J4: 4
E5: Vodička Jiří | F5: Billard Centrum Praha | G5: 4 | H5: 1995 | I5: 8 | J5: 4
E6: Frank René | F6: Brand's Billiard Praha | G6: 5 | H6: 1995 | I6: 8 | J6: 2
E7: Kurdský Vladimír | G7: 6 | H7: 1995 | I7: 8 | J7: 2
E8: Voráček Petr | F8: Neto České Budějovice | G8: 7 | H8: 1995 | I8: 8 | J8: 2
E9: Kohout Štěpán | F9: Biliar klub Ekvita Kladno | G9: 8 | H9: 1995 | I9: 8 | J9: 2
E10: Mízner Jiří | G10: 9 | H10: 1995 | I10: 8 | J10: 1
E11: Ritter Martin | G11: 10 | H11: 1995 | I11: 8 | J11: 1
E12: Škrhák vladimír | F12: Brno | G12: 11 | H12: 1995 | I12: 8 | J12: 1
E13: Zabloudil Štěpán | F13: Billard Centrum Praha | G13: 12 | H13: 1995 | I13: 8 | J13: 1
E14: Brejtr Ivo | F14: TJ Náchod | G14: 13 | H14: 1995 | I14: 8 | J14: 1
E15: Vystrčil Aleš | F15: Billiard Club Brno | G15: 14 | H15: 1995 | I15: 8 | J15: 1
E16: Kočička Petr | F16: TJ Náchod | G16: 15 | H16: 1995 | I16: 8 | J16: 1
E17: Zákora Tomáš | F17: Billard Centrum Praha | G17: 16 | H17: 1995 | I17: 8 | J17: 1
A18: ROČNÍK 1996 | C18: 9-ball | E18: Frank René | F18: Brand's Billiard Praha | G18: 1 | H18: 1996 | I18: 9 | J18: 16
E19: Voráček Petr | F19: Neto České Budějovice | G19: 2 | H19: 1996 | I19: 9 | J19: 8
E20: Dirn Marcel | F20: Jambo club Praha | G20: 3 | H20: 1996 | I20: 9 | J20: 4
E21: Zabloudil Štěpán | F21: Billard Centrum Praha | G21: 4 | H21: 1996 | I21: 9 | J21: 4
E22: Krucký Vladimír | F22: Brand's Billiard Praha | G22: 5 | H22: 1996 | I22: 9 | J22: 2
E23: Vystrčil Aleš | F23: Billiard Club Brno | G23: 6 | H23: 1996 | I23: 9 | J23: 2
E24: Pecinovský Martin | F24: Praha | G24: 7 | H24: 1996 | I24: 9 | J24: 2
E25: Škrhák Vladimír | F25: Brno | G25: 8 | H25: 1996 | I25: 9 | J25: 2
E26: Janata Jan | F26: Billard Centrum Praha | G26: 9 | H26: 1996 | I26: 9 | J26: 1
E27: Čunát Josef | F27: Neto České Budějovice | G27: 10 | H27: 1996 | I27: 9 | J27: 1
E28: Kotyza Václav | F28: Neto České Budějovice | G28: 11 | H28: 1996 | I28: 9 | J28: 1
E29: Pavlovič Dušan | F29: Neto České Budějovice | G29: 12 | H29: 1996 | I29: 9 | J29: 1
E30: Kučera Jan | F30: Jambo club Praha | G30: 13 | H30: 1996 | I30: 9 | J30: 1
... E33: Nejedlo František | F33: Neto České Budějovice | G33: 16 | H33: 1996 | I33: 9 | J33: 1
A34: ROČNÍK 1997 | C34: 8-ball | E34: Frank René | F34: Brand's Billiard Praha | G34: 1 | H34: 1997 | I34: 8 | J34: 16
E35: Janata Jan | F35: Billard Centrum Praha | G35: 2 | H35: 1997 | I35: 8 | J35: 8
E36: Zabloudil Štěpán | F36: Balabuška Praha | G36: 3 | H36: 1997 | I36: 8 | J36: 4
E37: Křenek Lukáš | F37: Neto České Budějovice | G37: 4 | H37: 1997 | I37: 8 | J37: 4
A38: ROČNÍK 1997 | C38: 9-ball | E38: Křenek Lukáš | F38: Neto České Budějovice | G38: 1 | H38: 1997 | I38: 9 | J38: 16
E39: Janata Jan | F39: Billard Centrum Praha | G39: 2 | H39: 1997 | I39: 9 | J39: 8
E40: Zabloudil Štěpán | F40: Balabuška Praha | G40: 3 | H40: 1997 | I40: 9 | J40: 4
E41: Remeň Miloslav | F41: Balabuška Praha | G41: 4 | H41: 1997 | I41: 9 | J41: 4
E42: Škvor Jan | F42: BC Řipská Praha | G42: 5 | H42: 1997 | I42: 9 | J42: 2
E43: Viliš Martin | F43: Billard Centrum Praha | G43: 6 | H43: 1997 | I43: 9 | J43: 2
E44: Zákora Tomáš | F44: Billard Centrum Praha | G44: 7 | H44: 1997 | I44: 9 | J44: 2
E45: Svoboda Josef | F45: Brand's Billiard Praha | G45: 8 | H45: 1997 | I45: 9 | J45: 2
E46: Voráček Petr | F46: Neto České Budějovice | G46: 9 | H46: 1997 | I46: 9 | J46: 1
E47: Rebonja Smako | F47: Balabuška Praha | G47: 10 | H47: 1997 | I47: 9 | J47: 1
E48: Tomeček Marek | F48: Balabuška Praha | G48: 11 | H48: 1997 | I48: 9 | J48: 1
E49: Nejedlo František | F49: Neto České Budějovice | G49: 12 | H49: 1997 | I49: 9 | J49: 1
E50: Szarkezi Nikola | F50: Ostrava | G50: 13 | H50: 1997 | I50: 9 | J50: 1
... E53: Frank René | F53: Brand's Billiard Praha | G53: 16 | H53: 1997 | I53: 9 | J53: 1
A54: ROČNÍK 1997 | C54: 14.1 | E54: Janata Jan | F54: Billard Centrum Praha | G54: 1 | H54: 1997 | I54: 14 | J54: 16
E55: Zabloudil Štěpán | F55: Balabuška Praha | G55: 2 | H55: 1997 | I55: 14 | J55: 8
E56: Frank René | F56: Brand's Billiard Praha | G56: 3 | H56: 1997 | I56: 14 | J56: 4
E57: Remeň Miloslav | F57: Balabuška Praha | G57: 4 | H57: 1997 | I57: 14 | J57: 4
A58: ROČNÍK 1998 | C58: 8-ball | E58: Gajda Petr | F58: Balabuška Praha | G58: 1 | H58: 1998 | I58: 8 | J58: 16
E59: Křenek Lukáš | F59: Balabuška Praha | G59: 2 | H59: 1998 | I59: 8 | J59: 8
E60: Dirn Marcel | F60: Balabuška Praha | G60: 3 | H60: 1998 | I60: 8 | J60: 4
E61: Janata Jan | F61: Balabuška Praha | G61: 4 | H61: 1998 | I61: 8 | J61: 4
E62: Frank René | F62: Bar Bar Beroun | G62: 5 | H62: 1998 | I62: 8 | J62: 2
E63: Šána Petr | F63: BC Greenball Lanškroun | G63: 6 | H63: 1998 | I63: 8 | J63: 2
E64: Kopunec Miroslav | F64: DELTA Billiard Brno | G64: 7 | H64: 1998 | I64: 8 | J64: 2
E65: Mika Radek | F65: Balabuška Praha | G65: 8 | H65: 1998 | I65: 8 | J65: 2
E66: Radoš Karel | F66: Ládví Praha | G66: 9 | H66: 1998 | I66: 8 | J66: 1
E67: Jordán | G67: 10 | H67: 1998 | I67: 8 | J67: 1
E68: Bernášek Lukáš | F68: Balabuška Praha | G68: 11 | H68: 1998 | I68: 8 | J68: 1
E69: Ratkovič Radovan | F69: Balabuška Praha | G69: 12 | H69: 1998 | I69: 8 | J69: 1
E70: Voráček Petr | F70: Balabuška Praha | G70: 13 | H70: 1998 | I70: 8 | J70: 1
E71: Snopko | F71: Balabuška Praha | G71: 14 | H71: 1998 | I71: 8 | J71: 1
E72: Rebonja Smako | F72: Balabuška Praha | G72: 15 | H72: 1998 | I72: 8 | J72: 1
E73: Škvor Jan | F73: Řipská Praha | G73: 16 | H73: 1998 | I73: 8 | J73: 1
A74: ROČNÍK 1998 | C74: 9-ball | E74: Křenek Lukáš | F74: Balabuška Praha | G74: 1 | H74: 1998 | I74: 9 | J74: 16
E75: Frank René | F75: Bar Bar Beroun | G75: 2 | H75: 1998 | I75: 9 | J75: 8
E76: Škvor Jan | F76: Řipská Praha | G76: 3 | H76: 1998 | I76: 9 | J76: 4
E77: Janata Jan | F77: Balabuška Praha | G77: 4 | H77: 1998 | I77: 9 | J77: 4
E78: Mika Radek | F78: Club Billiard Řipská Praha | G78: 5 | H78: 1998 | I78: 9 | J78: 2
E79: Ratkovič Radovan | F79: Balabuška Praha | G79: 6 | H79: 1998 | I79: 9 | J79: 2
E80: Dirn Marcel | F80: Balabuška Praha | G80: 7 | H80: 1998 | I80: 9 | J80: 2
E81: Voráček Petr | F81: Balabuška Praha | G81: 8 | H81: 1998 | I81: 9 | J81: 2
E82: Nejedlo František | F82: BC NETO České Budějovice | G82: 9 | H82: 1998 | I82: 9 | J82: 1
E83: Radoš Karel | F83: Ládví Praha | G83: 10 | H83: 1998 | I83: 9 | J83: 1
E84: Szarkezy Nikola | F84: Ostrava | G84: 11 | H84: 1998 | I84: 9 | J84: 1
E85: Gajda Petr | F85: Balabuška Praha | G85: 12 | H85: 1998 | I85: 9 | J85: 1
E86: Viliš Martin | F86: Billard Centrum Praha | G86: 13 | H86: 1998 | I86: 9 | J86: 1
... E89: Lottring Richard | F89: Balabuška Praha | G89: 16 | H89: 1998 | I89: 9 | J89: 1
A90: ROČNÍK 1998 | C90: 14.1 | E90: Ratkovič Radovan | F90: Balabuška Praha | G90: 1 | H90: 1998 | I90: 14 | J90: 16
E91: Frank René | F91: Bar Bar Beroun | G91: 2 | H91: 1998 | I91: 14 | J91: 8
E92: Dirn Marcel | F92: Balabuška Praha | G92: 3 | H92: 1998 | I92: 14 | J92: 4
E93: Voráček Petr | F93: Balabuška Praha | G93: 4 | H93: 1998 | I93: 14 | J93: 4
E94: Zámorský Ladislav | F94: Biliar klub Ekvita Kladno | G94: 5 | H94: 1998 | I94: 14 | J94: 2
E95: Gajda Petr | F95: Balabuška Praha | G95: 6 | H95: 1998 | I95: 14 | J95: 2
E96: Janata Jan | F96: Balabuška Praha | G96: 7 | H96: 1998 | I96: 14 | J96: 2
E97: Křenek Lukáš | F97: Balabuška Praha | G97: 8 | H97: 1998 | I97: 14 | J97: 2
A98: ROČNÍK 1999 | C98: 8-ball | E98: Křenek Lukáš | F98: Balabuška Praha | G98: 1 | H98: 1999 | I98: 8 | J98: 16
E99: Frank René | F99: Bar Bar Beroun | G99: 2 | H99: 1999 | I99: 8 | J99: 8
E100: Dirn Marcel | F100: Balabuška Praha | G100: 3 | H100: 1999 | I100: 8 | J100: 4
E101: Gavenčiak Michal | F101: Harlequ'in Roudnice | G101: 4 | H101: 1999 | I101: 8 | J101: 4
E102: Voráček Petr | F102: Balabuška Praha | G102: 5 | H102: 1999 | I102: 8 | J102: 2
E103: Gajda Petr | F103: Balabuška Praha | G103: 6 | H103: 1999 | I103: 8 | J103: 2
E104: Janata Jan | F104: Balabuška Praha | G104: 7 | H104: 1999 | I104: 8 | J104: 2
E105: Langer Tomáš | F105: Zlín | G105: 8 | H105: 1999 | I105: 8 | J105: 2
E106: Kadlec Bohdan | F106: Bar Bar Beroun | G106: 9 | H106: 1999 | I106: 8 | J106: 1
...

Sheet Po disciplínách
A1: Řazení: Disciplína / Ročník / Umístění | E1: Jméno | F1: Klub | G1: Umístění | H1: Ročník | I1: Disciplina | J1: Body
E2: Pavlovič Dušan | F2: Neto České Budějovice | G2: 1 | H2: 1995 | I2: 8 | J2: 16
E3: Nechoďdomů Radek | F3: Neto České Budějovice | G3: 2 | H3: 1995 | I3: 8 | J3: 8
E4: Gajda Petr | F4: Ostrava | G4: 3 | H4: 1995 | I4: 8 | J4: 4
E5: Vodička Jiří | F5: Billard Centrum Praha | G5: 4 | H5: 1995 | I5: 8 | J5: 4
E6: Frank René | F6: Brand's Billiard Praha | G6: 5 | H6: 1995 | I6: 8 | J6: 2
E7: Kurdský Vladimír | G7: 6 | H7: 1995 | I7: 8 | J7: 2
E8: Voráček Petr | F8: Neto České Budějovice | G8: 7 | H8: 1995 | I8: 8 | J8: 2
E9: Kohout Štěpán | F9: Biliar klub Ekvita Kladno | G9: 8 | H9: 1995 | I9: 8 | J9: 2
E10: Mízner Jiří | G10: 9 | H10: 1995 | I10: 8 | J10: 1
E11: Ritter Martin | G11: 10 | H11: 1995 | I11: 8 | J11: 1
E12: Škrhák vladimír | F12: Brno | G12: 11 | H12: 1995 | I12: 8 | J12: 1
E13: Zabloudil Štěpán | F13: Billard Centrum Praha | G13: 12 | H13: 1995 | I13: 8 | J13: 1
E14: Brejtr Ivo | F14: TJ Náchod | G14: 13 | H14: 1995 | I14: 8 | J14: 1
E15: Vystrčil Aleš | F15: Billiard Club Brno | G15: 14 | H15: 1995 | I15: 8 | J15: 1
E16: Kočička Petr | F16: TJ Náchod | G16: 15 | H16: 1995 | I16: 8 | J16: 1
E17: Zákora Tomáš | F17: Billard Centrum Praha | G17: 16 | H17: 1995 | I17: 8 | J17: 1
E18: Frank René | F18: Brand's Billiard Praha | G18: 1 | H18: 1997 | I18: 8 | J18: 16
E19: Janata Jan | F19: Billard Centrum Praha | G19: 2 | H19: 1997 | I19: 8 | J19: 8
E20: Zabloudil Štěpán | F20: Balabuška Praha | G20: 3 | H20: 1997 | I20: 8 | J20: 4
E21: Křenek Lukáš | F21: Neto České Budějovice | G21: 4 | H21: 1997 | I21: 8 | J21: 4
E22: Gajda Petr | F22: Balabuška Praha | G22: 1 | H22: 1998 | I22: 8 | J22: 16
E23: Křenek Lukáš | F23: Balabuška Praha | G23: 2 | H23: 1998 | I23: 8 | J23: 8
... E30: Radoš Karel | F30: Ládví Praha | G30: 9 | H30: 1998 | I30: 8 | J30: 1
E31: Jordán | G31: 10 | H31: 1998 | I31: 8 | J31: 1
E32: Bernášek Lukáš | F32: Balabuška Praha | G32: 11 | H32: 1998 | I32: 8 | J32: 1
E33: Ratkovič Radovan | F33: Balabuška Praha | G33: 12 | H33: 1998 | I33: 8 | J33: 1
E34: Voráček Petr | F34: Balabuška Praha | G34: 13 | H34: 1998 | I34: 8 | J34: 1
E35: Snopko | F35: Balabuška Praha | G35: 14 | H35: 1998 | I35: 8 | J35: 1
E36: Rebonja Smako | F36: Balabuška Praha | G36: 15 | H36: 1998 | I36: 8 | J36: 1
E37: Škvor Jan | F37: Řipská Praha | G37: 16 | H37: 1998 | I37: 8 | J37: 1
E38: Křenek Lukáš | F38: Balabuška Praha | G38: 1 | H38: 1999 | I38: 8 | J38: 16
E39: Frank René | F39: Bar Bar Beroun | G39: 2 | H39: 1999 | I39: 8 | J39: 8
E40: Dirn Marcel | F40: Balabuška Praha | G40: 3 | H40: 1999 | I40: 8 | J40: 4
E41: Gavenčiak Michal | F41: Harlequ'in Roudnice | G41: 4 | H41: 1999 | I41: 8 | J41: 4
E42: Voráček Petr | F42: Balabuška Praha | G42: 5 | H42: 1999 | I42: 8 | J42: 2
E43: Gajda Petr | F43: Balabuška Praha | G43: 6 | H43: 1999 | I43: 8 | J43: 2
... E2024: Kulas René | F2024: Řipská Billiard club | G2024: 32 | H2024: 2023 | I2024: 14 | J2024: 1

Sheet Po jménech
A1: Řazení: Jméno / Umístění / Ročník | E1: Jméno | F1: Klub | G1: Umístění | H1: Ročník | I1: Disciplina | J1: Body | M1: Jméno | N1: 8-ball | O1: 9-ball | P1: 10-ball | Q1: 14.1 | R1: Součet | S1: *1* | T1: *2* | U1: *3-4* | V1: *5-8* | W1: * 9 +* | Y1: Bodování
E2: Akenhead James | F2: Řipská Billiard club | G2: 2 | H2: 2019 | I2: 10 | J2: 8 | L2: 1 | M2: Hajdovský Marek | N2: 86 | O2: 80 | P2: 97 | Q2: 149 | R2: 412 | S2: 240 | T2: 64 | U2: 56 | V2: 38 | W2: 14 | Y2: místo | Z2: body
A3: OSOBNÍ SEZNAMY | E3: Akenhead James | F3: Řipská Billiard club | G3: 2 | H3: 2021 | I3: 14 | J3: 8 | L3: 2 | M3: Žalman David | N3: 106 | O3: 100 | P3: 44 | Q3: 77 | R3: 327 | S3: 128 | T3: 72 | U3: 72 | V3: 40 | W3: 15 | Y3: zlato | Z3: 16
A4: DOSAŽENÝCH VÝSLEDKŮ | E4: Akenhead James | F4: Řipská Billiard club | G4: 5 | H4: 2018 | I4: 8 | J4: 2 | L4: 3 | M4: Křenek Lukáš | N4: 106 | O4: 113 | Q4: 88 | R4: 307 | S4: 240 | T4: 48 | U4: 12 | V4: 6 | W4: 1 | Y4: stříbro | Z4: 8
E5: Akenhead James | F5: Řipská Billiard club | G5: 6 | H5: 2018 | I5: 14 | J5: 2 | L5: 4 | M5: Urban Petr | N5: 76 | O5: 75 | P5: 73 | Q5: 83 | R5: 307 | S5: 144 | T5: 96 | U5: 40 | V5: 12 | W5: 15 | Y5: bronz | Z5: 4
E6: Akenhead James | F6: Řipská Billiard club | G6: 8 | H6: 2017 | I6: 14 | J6: 2 | L6: 5 | M6: Gavenčiak Michal | N6: 87 | O6: 76 | P6: 34 | Q6: 86 | R6: 283 | S6: 208 | T6: 56 | U6: 12 | V6: 6 | W6: 1 | Y6: 5. - 8. | Z6: 2
E7: Akenhead James | F7: Řipská Billiard club | G7: 8 | H7: 2022 | I7: 8 | J7: 2 | L7: 6 | M7: Meisner Jan | N7: 47 | O7: 67 | P7: 58 | Q7: 72 | R7: 244 | S7: 128 | T7: 64 | U7: 20 | V7: 16 | W7: 16 | Y7: účast | Z7: 1
E8: Akenhead James | F8: Řipská Billiard club | G8: 11 | H8: 2019 | I8: 9 | J8: 1 | L8: 7 | M8: Janata Jan | N8: 45 | O8: 81 | P8: 17 | Q8: 81 | R8: 224 | S8: 64 | T8: 48 | U8: 68 | V8: 30 | W8: 14
E9: Akenhead James | F9: Řipská Billiard club | G9: 12 | H9: 2017 | I9: 9 | J9: 1 | L9: 8 | M9: Halamka Dominik | N9: 71 | O9: 42 | P9: 17 | Q9: 56 | R9: 186 | S9: 80 | T9: 48 | U9: 28 | V9: 24 | W9: 6
E10: Akenhead James | F10: Řipská Billiard club | G10: 12 | H10: 2017 | I10: 10 | J10: 1 | L10: 9 | M10: Houdek Adam | N10: 53 | O10: 51 | P10: 10 | Q10: 25 | R10: 139 | S10: 64 | T10: 8 | U10: 24 | V10: 30 | W10: 13
E11: Akenhead James | F11: Řipská Billiard club | G11: 12 | H11: 2020 | I11: 9 | J11: 1 | L11: 10 | M11: Gajda Petr | N11: 42 | O11: 19 | Q11: 30 | R11: 91 | S11: 16 | T11: 24 | U11: 20 | V11: 26 | W11: 5
E12: Akenhead James | F12: Řipská Billiard club | G12: 12 | H12: 2022 | I12: 10 | J12: 1 | L12: 11 | M12: Zeman Pavel | N12: 46 | O12: 25 | P12: 7 | Q12: 11 | R12: 89 | S12: 16 | T12: 16 | U12: 28 | V12: 18 | W12: 11
E13: Akenhead James | F13: Řipská Billiard club | G13: 13 | H13: 2018 | I13: 10 | J13: 1 | L13: 12 | M13: Suchánek Jan | N13: 19 | O13: 24 | P13: 22 | Q13: 14 | R13: 79 | S13: 16 | U13: 28 | V13: 24 | W13: 11
E14: Akenhead James | F14: Řipská Billiard club | G14: 13 | H14: 2023 | I14: 9 | J14: 1 | L14: 13 | M14: Tichý Jaroslav | N14: 13 | O14: 31 | P14: 21 | Q14: 13 | R14: 78 | S14: 16 | U14: 28 | V14: 10 | W14: 24
E15: Akenhead James | F15: Řipská Billiard club | G15: 15 | H15: 2023 | I15: 14 | J15: 1 | L15: 14 | M15: Frank René | N15: 29 | O15: 30 | Q15: 18 | R15: 77 | S15: 32 | T15: 24 | U15: 12 | V15: 6 | W15: 3
E16: Akenhead James | F16: Řipská Billiard club | G16: 16 | H16: 2018 | I16: 9 | J16: 1 | L16: 15 | M16: Bernášek Lukáš | N16: 6 | O16: 42 | P16: 10 | Q16: 11 | R16: 69 | U16: 24 | V16: 26 | W16: 19
E17: Akenhead James | F17: Řipská Billiard club | G17: 23 | H17: 2023 | I17: 10 | J17: 1 | L17: 16 | M17: Dirn Marcel | N17: 23 | O17: 26 | Q17: 16 | R17: 65 | T17: 16 | U17: 32 | V17: 10 | W17: 7
E18: Akenhead James | F18: Řipská Billiard club | G18: 25 | H18: 2022 | I18: 9 | J18: 1 | L18: 17 | M18: Erös Dávid | N18: 25 | O18: 8 | P18: 10 | Q18: 19 | R18: 62 | T18: 24 | U18: 12 | V18: 12 | W18: 14
E19: Akenhead James | F19: Řipská Billiard club | G19: 27 | H19: 2019 | I19: 14 | J19: 1 | L19: 18 | M19: Washburn Calvin | N19: 13 | O19: 11 | P19: 12 | Q19: 14 | R19: 50 | U19: 20 | V19: 18 | W19: 12
E20: Akenhead James | F20: Řipská Billiard club | G20: 28 | H20: 2021 | I20: 9 | J20: 1 | L20: 19 | M20: Balaštík Pavel | N20: 15 | O20: 14 | P20: 7 | Q20: 11 | R20: 47 | U20: 12 | V20: 12 | W20: 23
E21: Akenhead James | F21: Řipská Billiard club | G21: 28 | H21: 2023 | I21: 8 | J21: 1 | L21: 20 | M21: Moroz Mykola | N21: 18 | O21: 24 | P21: 2 | Q21: 2 | R21: 46 | S21: 32 | T21: 8 | V21: 4 | W21: 2
E22: Al-Tamimi Zaid | F22: Řipská Praha | G22: 15 | H22: 2011 | I22: 10 | J22: 1 | L22: 21 | M22: Čermín Tomáš | N22: 10 | O22: 19 | P22: 7 | Q22: 7 | R22: 43 | T22: 8 | U22: 8 | V22: 14 | W22: 13
E23: Al-Tamimi Zaid | F23: Řipská Praha | G23: 16 | H23: 2010 | I23: 9 | J23: 1 | L23: 22 | M23: Stuna Jakub | N23: 6 | O23: 10 | P23: 22 | Q23: 4 | R23: 42 | S23: 16 | U23: 8 | V23: 8 | W23: 10
E24: Al-Tamimi Zaid | F24: Řipská Praha | G24: 17 | H24: 2011 | I24: 8 | J24: 1 | L24: 23 | M24: Dorobant Slavomír | N24: 20 | O24: 15 | Q24: 6 | R24: 41 | T24: 24 | U24: 4 | V24: 6 | W24: 7
E25: Al-Tamimi Zaid | F25: SK Billard Centrum Praha | G25: 21 | H25: 2014 | I25: 10 | J25: 1 | L25: 24 | M25: Voráček Petr | N25: 9 | O25: 14 | Q25: 16 | R25: 39 | T25: 16 | U25: 12 | V25: 8 | W25: 3
E26: Aust Jiří | F26: RendaRoudnicen/L. | G26: 5 | H26: 2012 | I26: 10 | J26: 2 | L26: 25 | M26: Zhou Longdi | N26: 10 | O26: 13 | P26: 8 | Q26: 8 | R26: 39 | U26: 8 | V26: 10 | W26: 21
E27: Aust Jiří | F27: Harlequ´in Roudnice n.L. | G27: 8 | H27: 2001 | I27: 8 | J27: 2 | L27: 26 | M27: Vladyka Robin | N27: 9 | O27: 10 | P27: 11 | Q27: 8 | R27: 38 | V27: 4 | W27: 34
E28: Aust Jiří | F28: Harlequ´in Roudnice n.L. | G28: 9 | H28: 2010 | I28: 10 | J28: 1 | L28: 27 | M28: Akenhead James | N28: 5 | O28: 7 | P28: 12 | Q28: 14 | R28: 38 | T28: 16 | V28: 8 | W28: 14
E29: Aust Jiří | F29: Harlequ´in Roudnice n.L. | G29: 10 | H29: 2001 | I29: 8 | J29: 1 | L29: 28 | M29: Kraušner Miroslav | N29: 10 | O29: 11 | P29: 3 | Q29: 14 | R29: 38 | U29: 4 | V29: 22 | W29: 12
E30: Aust Jiří | F30: Harlequ´in Roudnice n.L. | G30: 10 | H30: 2002 | I30: 9 | J30: 1 | L30: 29 | M30: Nechvíle Josef | N30: 11 | O30: 15 | P30: 8 | Q30: 3 | R30: 37 | T30: 8 | U30: 4 | V30: 12 | W30: 13
E31: Aust Jiří | F31: Harlequ´in Roudnice n.L. | G31: 11 | H31: 2002 | I31: 8 | J31: 1 | L31: 30 | M31: Jelínek Jakub | N31: 8 | O31: 11 | Q31: 18 | R31: 37 | T31: 8 | U31: 12 | V31: 14 | W31: 3
E32: Aust Jiří | F32: Ceramic Roudnice n.L. | G32: 16 | H32: 1999 | I32: 8 | J32: 1 | L32: 31 | M32: Halamka Pavel | N32: 11 | O32: 7 | P32: 9 | Q32: 9 | R32: 36 | V32: 8 | W32: 28
E33: Aust Jiří | F33: RendaRoudnicen/L. | G33: 16 | H33: 2012 | I33: 8 | J33: 1 | L33: 32 | M33: Duna Zoltán | N33: 11 | O33: 8 | P33: 9 | Q33: 6 | R33: 34 | U33: 4 | V33: 8 | W33: 22
E34: Aust Jiří | F34: Harlequ´in Roudnice n.L. | G34: 19 | H34: 2010 | I34: 8 | J34: 1 | L34: 33 | M34: Zajíček Jiří | N34: 20 | O34: 8 | Q34: 4 | R34: 32 | S34: 16 | U34: 8 | V34: 8
E35: Aust Jiří | F35: Harlequin Roudnice n/L. | G35: 19 | H35: 2011 | I35: 8 | J35: 1 | L35: 34 | M35: Hofman Jiří | N35: 1 | O35: 26 | P35: 3 | Q35: 2 | R35: 32 | S35: 16 | U35: 4 | V35: 4 | W35: 8
E36: Aust Jiří | F36: Harlequ´in Roudnice n/L. | G36: 22 | H36: 2011 | I36: 9 | J36: 1 | L36: 35 | M36: Zeman Oto | N36: 14 | O36: 4 | Q36: 12 | R36: 30 | U36: 16 | V36: 4 | W36: 10
E37: Bačik Michal | F37: Casablanca Tábor | G37: 6 | H37: 2011 | I37: 10 | J37: 2 | L37: 36 | M37: Bröschel Jan | N37: 11 | O37: 10 | P37: 3 | Q37: 5 | R37: 29 | U37: 4 | V37: 14 | W37: 11
E38: Bačik Michal | F38: Casablanca Tábor | G38: 15 | H38: 2010 | I38: 9 | J38: 1 | L38: 37 | M38: Tužil Pavel | N38: 5 | O38: 8 | P38: 11 | Q38: 4 | R38: 28 | U38: 8 | V38: 6 | W38: 14
E39: Bačik Michal | F39: CasablancaTábor | G39: 18 | H39: 2012 | I39: 10 | J39: 1 | L39: 38 | M39: Škvor Jan | N39: 17 | O39: 9 | Q39: 2 | R39: 28 | T39: 8 | U39: 4 | V39: 10 | W39: 6
E40: Bačik Michal | F40: Casablanca Tábor | G40: 20 | H40: 2011 | I40: 9 | J40: 1 | L40: 39 | M40: Mihok Michal | N40: 4 | O40: 7 | P40: 12 | Q40: 5 | R40: 28 | U40: 4 | V40: 12 | W40: 12
E41: Bačik Michal | F41: Casablanca Tábor | G41: 21 | H41: 2010 | I41: 10 | J41: 1 | L41: 40 | M41: Dorobant Miroslav | N41: 6 | O41: 17 | P41: 1 | Q41: 3 | R41: 27 | U41: 12 | V41: 4 | W41: 11
E42: Balan Arivukkannan | F42: SK Delta Billiard Brno | G42: 9 | H42: 2019 | I42: 10 | J42: 1 | L42: 41 | M42: Praus Tomáš | N42: 11 | O42: 7 | P42: 3 | Q42: 6 | R42: 27 | U42: 4 | V42: 4 | W42: 19
E43: Balan Arivukkannan | F43: SK Delta Billiard Brno | G43: 9 | H43: 2022 | I43: 9 | J43: 1 | L43: 42 | M43: Hajšman Ladislav | N43: 5 | O43: 13 | P43: 4 | Q43: 5 | R43: 27 | T43: 8 | U43: 8 | V43: 6 | W43: 5
E44: Balan Arivukkannan | F44: Delta Billiard Brno | G44: 13 | H44: 2010 | I44: 10 | J44: 1 | L44: 43 | M44: Horák Michal | N44: 5 | O44: 7 | P44: 9 | Q44: 4 | R44: 25 | V44: 4 | W44: 21
E45: Balan Arivukkannan | F45: SK Delta Billiard Brno | G45: 13 | H45: 2020 | I45: 9 | J45: 1 | L45: 44 | M45: Vančura Tomáš | N45: 9 | O45: 6 | P45: 4 | Q45: 6 | R45: 25 | V45: 2 | W45: 23
E46: Balan Arivukkannan | F46: SK Delta Billiard Brno | G46: 16 | H46: 2022 | I46: 10 | J46: 1 | L46: 45 | M46: Onderek Tomáš | N46: 5 | O46: 18 | P46: 2 | R46: 25 | S46: 16 | V46: 4 | W46: 5
E47: Balan Arivukkannan | F47: SK Delta Billiard Brno | G47: 19 | H47: 2018 | I47: 10 | J47: 1 | L47: 46 | M47: Kavan Petr | N47: 11 | O47: 4 | P47: 4 | Q47: 4 | R47: 23 | V47: 8 | W47: 15
E48: Balan Arivukkannan | F48: SK Delta Billiard Brno | G48: 21 | H48: 2017 | I48: 10 | J48: 1 | L48: 47 | M48: Zabloudil Štěpán | N48: 6 | O48: 9 | Q48: 8 | R48: 23 | T48: 8 | U48: 12 | W48: 3
E49: Balan Arivukkannan | F49: SK Delta Billiard Brno | G49: 26 | H49: 2016 | I49: 10 | J49: 1 | L49: 48 | M49: Marič Márijo | N49: 5 | O49: 5 | P49: 5 | Q49: 8 | R49: 23 | V49: 6 | W49: 17
E50: Balan Arivukkannan | F50: SK Delta Billiard Brno | G50: 26 | H50: 2021 | I50: 9 | J50: 1 | L50: 49 | M50: Mrázek David | N50: 12 | O50: 4 | P50: 4 | Q50: 3 | R50: 23 | T50: 8 | U50: 4 | V50: 4 | W50: 7
E51: Balan Arivukkannan | F51: SK Delta Billiard Brno | G51: 28 | H51: 2022 | I51: 8 | J51: 1 | L51: 50 | M51: Velíšek Josef | N51: 3 | O51: 5 | P51: 5 | Q51: 9 | R51: 22 | V51: 4 | W51: 18
E52: Balaštík Pavel | F52: BC Harlequin Praha | G52: 3 | H52: 2015 | I52: 9 | J52: 4 | L52: 51 | M52: Kulas René | N52: 6 | O52: 5 | P52: 4 | Q52: 5 | R52: 20 | V52: 4 | W52: 16
E53: Balaštík Pavel | F53: BC Harlequin Praha | G53: 4 | H53: 2015 | I53: 8 | J53: 4 | L53: 52 | M53: Stettinger Georg | N53: 3 | O53: 3 | P53: 3 | Q53: 10 | R53: 19 | T53: 8 | V53: 4 | W53: 7
E54: Balaštík Pavel | F54: BC Harlequin Praha | G54: 4 | H54: 2018 | I54: 8 | J54: 4 | L54: 53 | M54: Kůs Erik | N54: 6 | O54: 5 | P54: 6 | Q54: 2 | R54: 19 | V54: 2 | W54: 17
E55: Balaštík Pavel | F55: BC Harlequin Praha | G55: 5 | H55: 2018 | I55: 9 | J55: 2 | L55: 54 | M55: Ratkovič Radovan | N55: 1 | O55: 2 | Q55: 16 | R55: 19 | S55: 16 | V55: 2 | W55: 1
E56: Balaštík Pavel | F56: BC Harlequin Praha | G56: 5 | H56: 2019 | I56: 10 | J56: 2 | L56: 55 | M56: Strádal Jan | N56: 6 | O56: 4 | P56: 3 | Q56: 5 | R56: 18 | V56: 2 | W56: 16
E57: Balaštík Pavel | F57: BC Harlequin Praha | G57: 6 | H57: 2015 | I57: 14 | J57: 2 | L57: 56 | M57: Daněk Vojtěch | N57: 2 | O57: 1 | P57: 12 | Q57: 2 | R57: 17 | T57: 8 | V57: 6 | W57: 3
E58: Balaštík Pavel | F58: BC Harlequin Praha | G58: 6 | H58: 2017 | I58: 14 | J58: 2 | L58: 57 | M58: Pavlovič Dušan | N58: 16 | O58: 1 | R58: 17 | S58: 16 | W58: 1
E59: Balaštík Pavel | F59: BC Harlequin Praha | G59: 7 | H59: 2018 | I59: 14 | J59: 2 | L59: 58 | M59: Jelínek Petr | N59: 5 | O59: 3 | P59: 6 | Q59: 2 | R59: 16 | V59: 2 | W59: 14
E60: Balaštík Pavel | F60: Harlequ´inPraha | G60: 8 | H60: 2012 | I60: 8 | J60: 2 | L60: 59 | M60: Vobořil Zdeněk | N60: 4 | O60: 4 | P60: 5 | Q60: 3 | R60: 16 | U60: 4 | V60: 2 | W60: 10
E61: Balaštík Pavel | F61: BC Harlequin Praha | G61: 10 | H61: 2014 | I61: 10 | J61: 1 | L61: 60 | M61: Bohůnek Jindřich | N61: 4 | O61: 4 | P61: 1 | Q61: 6 | R61: 15 | U61: 4 | V61: 6 | W61: 5
E62: Balaštík Pavel | F62: BC Harlequ´in Praha | G62: 11 | H62: 2011 | I62: 14 | J62: 1 | L62: 61 | M62: Janošťák Aleš | N62: 6 | O62: 3 | P62: 5 | Q62: 1 | R62: 15 | U62: 4 | W62: 11
E63: Balaštík Pavel | F63: Harlequ´inPraha | G63: 11 | H63: 2012 | I63: 9 | J63: 1 | L63: 62 | M63: Galuška Martin | N63: 1 | O63: 4 | P63: 9 | R63: 14 | U63: 4 | V63: 2 | W63: 8
E64: Balaštík Pavel | F64: Harlequ´inPraha | G64: 12 | H64: 2012 | I64: 14 | J64: 1 | L64: 63 | M64: Lebduška Filip | N64: 6 | O64: 4 | P64: 1 | Q64: 3 | R64: 14 | V64: 4 | W64: 10
E65: Balaštík Pavel | F65: Harlequ´inPraha | G65: 13 | H65: 2013 | I65: 10 | J65: 1 | L65: 64 | M65: Trojáček Martin | N65: 9 | O65: 5 | R65: 14 | U65: 4 | V65: 4 | W65: 6
E66: Balaštík Pavel | F66: BC Harlequ´in Praha | G66: 14 | H66: 2011 | I66: 9 | J66: 1 | L66: 65 | M66: Ugrin Milan | N66: 5 | O66: 3 | P66: 1 | Q66: 4 | R66: 13 | W66: 13
E67: Balaštík Pavel | F67: BC Harlequin Praha | G67: 14 | H67: 2018 | I67: 10 | J67: 1 | L67: 66 | M67: Aust Jiří | N67: 8 | O67: 2 | P67: 3 | R67: 13 | V67: 4 | W67: 9
E68: Balaštík Pavel | F68: Harlequ´inPraha | G68: 15 | H68: 2012 | I68: 10 | J68: 1 | L68: 67 | M68: Markovic Damjan | N68: 2 | O68: 2 | P68: 3 | Q68: 6 | R68: 13 | U68: 4 | W68: 9
E69: Balaštík Pavel | F69: BC Harlequin Praha | G69: 15 | H69: 2017 | I69: 8 | J69: 1 | L69: 68 | M69: Trhlík Adam | N69: 2 | O69: 6 | P69: 2 | Q69: 3 | R69: 13 | U69: 4 | V69: 2 | W69: 7
E70: Balaštík Pavel | F70: Harlequ´inPraha | G70: 16 | H70: 2013 | I70: 8 | J70: 1 | L70: 69 | M70: Vacek Jiří | N70: 2 | O70: 5 | P70: 3 | Q70: 2 | R70: 12 | W70: 12
E71: Balaštík Pavel | F71: Harlequ´inPraha | G71: 16 | H71: 2013 | I71: 9 | J71: 1 | L71: 70 | M71: Moravec Lukáš | N71: 4 | O71: 4 | P71: 2 | Q71: 2 | R71: 12 | W71: 12
E72: Balaštík Pavel | F72: BC Harlequin Praha | G72: 16 | H72: 2014 | I72: 14 | J72: 1 | L72: 71 | M72: Vondráček Petr | N72: 5 | O72: 4 | P72: 1 | Q72: 1 | R72: 11 | W72: 11
E73: Balaštík Pavel | F73: BC Harlequin Praha | G73: 16 | H73: 2016 | I73: 14 | J73: 1 | L73: 72 | M73: Nohynek Dušan | N73: 7 | O73: 4 | R73: 11 | U73: 4 | V73: 2 | W73: 5
E74: Balaštík Pavel | F74: BC Harlequin Praha | G74: 16 | H74: 2019 | I74: 14 | J74: 1 | L74: 73 | M74: Majerčík Radko | N74: 2 | O74: 4 | P74: 3 | Q74: 2 | R74: 11 | V74: 2 | W74: 9
E75: Balaštík Pavel | F75: BC Harlequin Praha | G75: 18 | H75: 2015 | I75: 10 | J75: 1 | L75: 74 | M75: Mika Radek | N75: 3 | O75: 7 | R75: 10 | U75: 4 | V75: 4 | W75: 2
E76: Balaštík Pavel | F76: BC Harlequin Praha | G76: 18 | H76: 2019 | I76: 8 | J76: 1 | L76: 75 | M76: Jovchevski Martin | N76: 3 | O76: 2 | P76: 2 | Q76: 3 | R76: 10 | V76: 2 | W76: 8
E77: Balaštík Pavel | F77: BC Harlequin Praha | G77: 21 | H77: 2019 | I77: 9 | J77: 1 | L77: 76 | M77: Balan Arivukkannan | N77: 1 | O77: 3 | P77: 6 | R77: 10 | W77: 10
E78: Balaštík Pavel | F78: BC Harlequin Praha | G78: 22 | H78: 2014 | I78: 9 | J78: 1 | L78: 77 | M78: Šindelář Pavel | N78: 4 | O78: 3 | P78: 2 | R78: 9 | W78: 9
E79: Balaštík Pavel | F79: BC Harlequ´in Praha | G79: 23 | H79: 2011 | I79: 8 | J79: 1 | L79: 78 | M79: Kopecký Tomáš | N79: 4 | O79: 4 | Q79: 1 | R79: 9 | W79: 9
E80: Balaštík Pavel | F80: BC Harlequ´in Praha | G80: 24 | H80: 2010 | I80: 9 | J80: 1 | L80: 79 | M80: Frei Petr | N80: 1 | O80: 8 | R80: 9 | T80: 8 | W80: 1
E81: Balaštík Pavel | F81: BC Harlequin Praha | G81: 27 | H81: 2016 | I81: 8 | J81: 1 | L81: 80 | M81: Brancuský Petr | N81: 3 | O81: 2 | P81: 2 | Q81: 2 | R81: 9 | W81: 9
E82: Balaštík Pavel | F82: BC Harlequin Praha | G82: 28 | H82: 2017 | I82: 9 | J82: 1 | L82: 81 | M82: Hajn Pavel | N82: 2 | O82: 3 | P82: 3 | Q82: 1 | R82: 9 | W82: 9
E83: Balaštík Pavel | F83: BC Harlequin Praha | G83: 31 | H83: 2016 | I83: 9 | J83: 1 | L83: 82 | M83: Ramp Bert | N83: 2 | O83: 3 | P83: 3 | Q83: 1 | R83: 9 | V83: 2 | W83: 7
E84: Balay Miloš | F84: SK Delta Billiard Brno | G84: 21 | H84: 2018 | I84: 10 | J84: 1 | L84: 83 | M84: Samorodov Alexander | N84: 6 | O84: 2 | Q84: 1 | R84: 9 | V84: 2 | W84: 7
E85: Barcal Zdeněk | F85: Balabuška Karlovy Vary | G85: 12 | H85: 2001 | I85: 9 | J85: 1 | L85: 84 | M85: Šafařík Jan | N85: 8 | R85: 8 | U85: 4 | W85: 4
E86: Bartoš Jan | F86: MPC Pardubice z.s. | G86: 32 | H86: 2018 | I86: 14 | J86: 1 | L86: 85 | M86: Příhoda Jiří | N86: 2 | O86: 6 | R86: 8 | V86: 4 | W86: 4
E87: Bene Robert | F87: BC Harlequin Praha | G87: 28 | H87: 2016 | I87: 9 | J87: 1 | L87: 86 | M87: Pospíšil Ondřej | N87: 1 | O87: 2 | P87: 2 | Q87: 3 | R87: 8 | W87: 8
E88: Bernášek Lukáš | F88: Balabuška Praha | G88: 3 | H88: 2001 | I88: 9 | J88: 4 | L88: 87 | M88: Měcháček Michal | N88: 2 | O88: 1 | P88: 3 | Q88: 2 | R88: 8 | W88: 8
E89: Bernášek Lukáš | F89: BC Balabuška Praha | G89: 3 | H89: 2011 | I89: 9 | J89: 4 | L89: 88 | M89: Remeň Miloslav | O89: 4 | Q89: 4 | R89: 8 | U89: 8
E90: Bernášek Lukáš | F90: Balabuška Praha | G90: 4 | H90: 2007 | I90: 9 | J90: 4 | L90: 89 | M90: Mirakhmedov Roman | N90: 3 | O90: 1 | P90: 3 | Q90: 1 | R90: 8 | V90: 2 | W90: 6
E91: Bernášek Lukáš | F91: BC Balabuška Praha | G91: 4 | H91: 2014 | I91: 9 | J91: 4 | L91: 90 | M91: Nechoďdomů Radek | N91: 8 | R91: 8 | T91: 8
E92: Bernášek Lukáš | F92: Billiard Club Balabuška, z.s. | G92: 4 | H92: 2019 | I92: 9 | J92: 4 | L92: 91 | M92: Skopal Tadeáš | N92: 2 | O92: 2 | Q92: 4 | R92: 8 | V92: 2 | W92: 6
E93: Bernášek Lukáš | F93: Billiard Club Balabuška, z.s. | G93: 4 | H93: 2022 | I93: 14 | J93: 4 | L93: 92 | M93: Hubrtová Veronika | N93: 1 | O93: 3 | P93: 2 | Q93: 1 | R93: 7 | V93: 2 | W93: 5
E94: Bernášek Lukáš | F94: Balabuška Praha | G94: 5 | H94: 2001 | I94: 14 | J94: 2 | L94: 93 | M94: Šperl Milan | N94: 4 | O94: 2 | Q94: 1 | R94: 7 | V94: 2 | W94: 5
E95: Bernášek Lukáš | F95: Balabuška Praha | G95: 5 | H95: 2002 | I95: 14 | J95: 2 | L95: 94 | M95: Rendla Jakub | O95: 2 | P95: 4 | Q95: 1 | R95: 7 | W95: 7
E96: Bernášek Lukáš | F96: Balabuška Praha | G96: 5 | H96: 2009 | I96: 9 | J96: 2 | L96: 95 | M96: Kapitančik Marcel | N96: 3 | O96: 1 | P96: 1 | Q96: 2 | R96: 7 | W96: 7
E97: Bernášek Lukáš | F97: Balabuška Praha | G97: 5 | H97: 2010 | I97: 10 | J97: 2 | L97: 96 | M97: Vlk Matouš | N97: 2 | O97: 1 | P97: 3 | Q97: 1 | R97: 7 | W97: 7
E98: Bernášek Lukáš | F98: Billiard Club Balabuška, z.s. | G98: 5 | H98: 2019 | I98: 8 | J98: 2 | L98: 97 | M98: Kníže Martin | N98: 1 | O98: 2 | P98: 1 | Q98: 3 | R98: 7 | W98: 7
E99: Bernášek Lukáš | F99: Balabuška Praha | G99: 6 | H99: 2002 | I99: 9 | J99: 2 | L99: 98 | M99: Kurz Tom | N99: 2 | O99: 1 | P99: 1 | Q99: 3 | R99: 7 | V99: 2 | W99: 5
E100: Bernášek Lukáš | F100: BC Balabuška Praha | G100: 6 | H100: 2016 | I100: 9 | J100: 2 | L100: 99 | M100: Fang Hai Jiang | N100: 1 | O100: 4 | Q100: 2 | R100: 7 | V100: 4 | W100: 3
...

Sheet Medaile
E1: Jméno | F1: Klub | G1: Umístění | H1: Ročník | I1: Disciplina | J1: Body | O1: Jméno | P1: *1* | Q1: *2* | R1: *3*4* | S1: Celkem
B2: VÝČET | E2: Akenhead James | F2: Řipská Billiard club | G2: 2 | H2: 2019 | I2: 10 | J2: 8 | L2: POŘADÍ PODLE | N2: 1 | O2: Hajdovský Marek | P2: 15 | Q2: 8 | R2: 14 | S2: 37
B3: MEDAILOVÝCH | E3: Akenhead James | F3: Řipská Billiard club | G3: 2 | H3: 2021 | I3: 14 | J3: 8 | L3: MEDAILOVÝCH | N3: 2 | O3: Křenek Lukáš | P3: 15 | Q3: 6 | R3: 3 | S3: 24
B4: UMÍSTĚNÍ | E4: Balaštík Pavel | F4: BC Harlequin Praha | G4: 3 | H4: 2015 | I4: 9 | J4: 4 | L4: UMÍSTĚNÍ | N4: 3 | O4: Gavenčiak Michal | P4: 13 | Q4: 7 | R4: 3 | S4: 23
E5: Balaštík Pavel | F5: BC Harlequin Praha | G5: 4 | H5: 2015 | I5: 8 | J5: 4 | N5: 4 | O5: Urban Petr | P5: 9 | Q5: 12 | R5: 10 | S5: 31
E6: Balaštík Pavel | F6: BC Harlequin Praha | G6: 4 | H6: 2018 | I6: 8 | J6: 4 | N6: 5 | O6: Žalman David | P6: 8 | Q6: 9 | R6: 18 | S6: 35
E7: Bernášek Lukáš | F7: Balabuška Praha | G7: 3 | H7: 2001 | I7: 9 | J7: 4 | N7: 6 | O7: Meisner Jan | P7: 8 | Q7: 8 | R7: 5 | S7: 21
E8: Bernášek Lukáš | F8: BC Balabuška Praha | G8: 3 | H8: 2011 | I8: 9 | J8: 4 | N8: 7 | O8: Halamka Dominik | P8: 5 | Q8: 6 | R8: 7 | S8: 18
E9: Bernášek Lukáš | F9: Balabuška Praha | G9: 4 | H9: 2007 | I9: 9 | J9: 4 | N9: 8 | O9: Janata Jan | P9: 4 | Q9: 6 | R9: 17 | S9: 27
E10: Bernášek Lukáš | F10: BC Balabuška Praha | G10: 4 | H10: 2014 | I10: 9 | J10: 4 | N10: 9 | O10: Houdek Adam | P10: 4 | Q10: 1 | R10: 6 | S10: 11
E11: Bernášek Lukáš | F11: Billiard Club Balabuška, z.s. | G11: 4 | H11: 2019 | I11: 9 | J11: 4 | N11: 10 | O11: Frank René | P11: 2 | Q11: 3 | R11: 3 | S11: 8
E12: Bernášek Lukáš | F12: Billiard Club Balabuška, z.s. | G12: 4 | H12: 2022 | I12: 14 | J12: 4 | N12: 11 | O12: Moroz Mykola | P12: 2 | Q12: 1 | S12: 3
E13: Bohůnek Jindřich | F13: DeltaBilliardBrno | G13: 4 | H13: 2013 | I13: 14 | J13: 4 | N13: 12 | O13: Gajda Petr | P13: 1 | Q13: 3 | R13: 5 | S13: 9
E14: Bröschel Jan | F14: Řipská Billiard club | G14: 4 | H14: 2017 | I14: 8 | J14: 4 | N14: 13 | O14: Zeman Pavel | P14: 1 | Q14: 2 | R14: 7 | S14: 10
E15: Čermín Tomáš | F15: Harlequ´inPraha | G15: 2 | H15: 2013 | I15: 9 | J15: 8 | N15: 14 | O15: Suchánek Jan | P15: 1 | R15: 7 | S15: 8
E16: Čermín Tomáš | F16: Harlequ´inPraha | G16: 4 | H16: 2012 | I16: 9 | J16: 4 | N16: 15 | O16: Tichý Jaroslav | P16: 1 | R16: 7 | S16: 8
E17: Čermín Tomáš | F17: Harlequ´inPraha | G17: 4 | H17: 2012 | I17: 10 | J17: 4 | N17: 16 | O17: Stuna Jakub | P17: 1 | R17: 2 | S17: 3
E18: Daněk Vojtěch | F18: BillardCentrumPraha | G18: 2 | H18: 2012 | I18: 10 | J18: 8 | N18: 17 | O18: Zajíček Jiří | P18: 1 | R18: 2 | S18: 3
E19: Dirn Marcel | F19: Balabuška Praha | G19: 2 | H19: 2001 | I19: 8 | J19: 8 | N19: 18 | O19: Hofman Jiří | P19: 1 | R19: 1 | S19: 2
E20: Dirn Marcel | F20: Balabuška Praha | G20: 2 | H20: 2001 | I20: 9 | J20: 8 | N20: 19 | O20: Onderek Tomáš | P20: 1 | S20: 1
E21: Dirn Marcel | F21: Jambo club Praha | G21: 3 | H21: 1996 | I21: 9 | J21: 4 | N21: 20 | O21: Pavlovič Dušan | P21: 1 | S21: 1
E22: Dirn Marcel | F22: Balabuška Praha | G22: 3 | H22: 1998 | I22: 8 | J22: 4 | N22: 21 | O22: Ratkovič Radovan | P22: 1 | S22: 1
E23: Dirn Marcel | F23: Balabuška Praha | G23: 3 | H23: 1998 | I23: 14 | J23: 4 | N23: 22 | O23: Erös Dávid | Q23: 3 | R23: 3 | S23: 6
E24: Dirn Marcel | F24: Balabuška Praha | G24: 3 | H24: 1999 | I24: 8 | J24: 4 | N24: 23 | O24: Dorobant Slavomír | Q24: 3 | R24: 1 | S24: 4
E25: Dirn Marcel | F25: Balabuška Praha | G25: 3 | H25: 2000 | I25: 9 | J25: 4 | N25: 24 | O25: Dirn Marcel | Q25: 2 | R25: 8 | S25: 10
E26: Dirn Marcel | F26: Balabuška Praha | G26: 3 | H26: 2000 | I26: 14 | J26: 4 | N26: 25 | O26: Voráček Petr | Q26: 2 | R26: 3 | S26: 5
E27: Dirn Marcel | F27: Balabuška Praha | G27: 3 | H27: 2002 | I27: 9 | J27: 4 | N27: 26 | O27: Akenhead James | Q27: 2 | S27: 2
E28: Dirn Marcel | F28: Balabuška Praha | G28: 4 | H28: 2002 | I28: 8 | J28: 4 | N28: 27 | O28: Jelínek Jakub | Q28: 1 | R28: 3 | S28: 4
E29: Dorobant Miroslav | F29: Řipská Billiard club | G29: 3 | H29: 2019 | I29: 9 | J29: 4 | N29: 28 | O29: Zabloudil Štěpán | Q29: 1 | R29: 3 | S29: 4
E30: Dorobant Miroslav | F30: BCKralupy | G30: 4 | H30: 2013 | I30: 9 | J30: 4 | N30: 29 | O30: Čermín Tomáš | Q30: 1 | R30: 2 | S30: 3
E31: Dorobant Miroslav | F31: Řipská Billiard club | G31: 4 | H31: 2021 | I31: 8 | J31: 4 | N31: 30 | O31: Hajšman Ladislav | Q31: 1 | R31: 2 | S31: 3
E32: Dorobant Slavomír | F32: BC Mladá Boleslav | G32: 2 | H32: 2008 | I32: 9 | J32: 8 | N32: 31 | O32: Mrázek David | Q32: 1 | R32: 1 | S32: 2
E33: Dorobant Slavomír | F33: BC Mnichovo Hradiště | G33: 2 | H33: 2014 | I33: 8 | J33: 8 | N33: 32 | O33: Nechvíle Josef | Q33: 1 | R33: 1 | S33: 2
E34: Dorobant Slavomír | F34: Řipská Billiard club | G34: 2 | H34: 2023 | I34: 8 | J34: 8 | N34: 33 | O34: Škvor Jan | Q34: 1 | R34: 1 | S34: 2
E35: Dorobant Slavomír | F35: BC Mnichovo Hradiště | G35: 4 | H35: 2016 | I35: 9 | J35: 4 | N35: 34 | O35: Daněk Vojtěch | Q35: 1 | S35: 1
E36: Duna Zoltán | F36: Billiardový klub Bio-Systém Plzeň z.s. | G36: 4 | H36: 2019 | I36: 8 | J36: 4 | N36: 35 | O36: Frei Petr | Q36: 1 | S36: 1
E37: Erös Dávid | F37: Club Billiard Řipská Praha | G37: 2 | H37: 2014 | I37: 14 | J37: 8 | N37: 36 | O37: Nechoďdomů Radek | Q37: 1 | S37: 1
E38: Erös Dávid | F38: Club Billiard Řipská Praha | G38: 2 | H38: 2016 | I38: 8 | J38: 8 | N38: 37 | O38: Stettinger Georg | Q38: 1 | S38: 1
E39: Erös Dávid | F39: Řipská Billiard club | G39: 2 | H39: 2017 | I39: 8 | J39: 8 | N39: 38 | O39: Bernášek Lukáš | R39: 6 | S39: 6
E40: Erös Dávid | F40: Club Billiard Řipská Praha | G40: 3 | H40: 2014 | I40: 10 | J40: 4 | N40: 39 | O40: Washburn Calvin | R40: 5 | S40: 5
E41: Erös Dávid | F41: Řipská Billiard club | G41: 3 | H41: 2020 | I41: 8 | J41: 4 | N41: 40 | O41: Zeman Oto | R41: 4 | S41: 4
E42: Erös Dávid | F42: Club Billiard Řipská Praha | G42: 4 | H42: 2015 | I42: 14 | J42: 4 | N42: 41 | O42: Balaštík Pavel | R42: 3 | S42: 3
E43: Frank René | F43: Brand's Billiard Praha | G43: 1 | H43: 1996 | I43: 9 | J43: 16 | N43: 42 | O43: Dorobant Miroslav | R43: 3 | S43: 3
E44: Frank René | F44: Brand's Billiard Praha | G44: 1 | H44: 1997 | I44: 8 | J44: 16 | N44: 43 | O44: Remeň Miloslav | R44: 2 | S44: 2
E45: Frank René | F45: Bar Bar Beroun | G45: 2 | H45: 1998 | I45: 9 | J45: 8 | N45: 44 | O45: Tužil Pavel | R45: 2 | S45: 2
E46: Frank René | F46: Bar Bar Beroun | G46: 2 | H46: 1998 | I46: 14 | J46: 8 | N46: 45 | O46: Zhou Longdi | R46: 2 | S46: 2
E47: Frank René | F47: Bar Bar Beroun | G47: 2 | H47: 1999 | I47: 8 | J47: 8 | N47: 46 | O47: Bohůnek Jindřich | R47: 1 | S47: 1
E48: Frank René | F48: Brand's Billiard Praha | G48: 3 | H48: 1997 | I48: 14 | J48: 4 | N48: 47 | O48: Bröschel Jan | R48: 1 | S48: 1
E49: Frank René | F49: Bar Bar Beroun | G49: 4 | H49: 1999 | I49: 9 | J49: 4 | N49: 48 | O49: Duna Zoltán | R49: 1 | S49: 1
E50: Frank René | F50: Bar Bar Beroun | G50: 4 | H50: 1999 | I50: 14 | J50: 4 | N50: 49 | O50: Galuška Martin | R50: 1 | S50: 1
... E64: Gavenčiak Michal | F64: Balabuška Praha | G64: 1 | H64: 2002 | I64: 14 | J64: 16 | N64: 63 | O64: Vodička Jiří | R64: 1 | S64: 1
E65: Gavenčiak Michal | F65: Balabuška Praha | G65: 1 | H65: 2003 | I65: 14 | J65: 16
E66: Gavenčiak Michal | F66: Balabuška Praha | G66: 1 | H66: 2004 | I66: 8 | J66: 16
E67: Gavenčiak Michal | F67: Balabuška Praha | G67: 1 | H67: 2004 | I67: 9 | J67: 16
E68: Gavenčiak Michal | F68: BC Balabuška K.Vary | G68: 1 | H68: 2004 | I68: 14 | J68: 16
E69: Gavenčiak Michal | F69: Balabuška Praha | G69: 1 | H69: 2009 | I69: 8 | J69: 16
E70: Gavenčiak Michal | F70: Bio Systém Plzeň | G70: 1 | H70: 2010 | I70: 8 | J70: 16
E71: Gavenčiak Michal | F71: Bio Systém Plzeň | G71: 1 | H71: 2010 | I71: 10 | J71: 16
E72: Gavenčiak Michal | F72: Billiard Club Příchovice, z.s. | G72: 1 | H72: 2014 | I72: 14 | J72: 16
E73: Gavenčiak Michal | F73: Billiard Stars | G73: 1 | H73: 2018 | I73: 9 | J73: 16
E74: Gavenčiak Michal | F74: Billiard Stars | G74: 1 | H74: 2018 | I74: 10 | J74: 16
E75: Gavenčiak Michal | F75: Balabuška Praha | G75: 2 | H75: 2000 | I75: 9 | J75: 8
E76: Gavenčiak Michal | F76: Balabuška Praha | G76: 2 | H76: 2000 | I76: 14 | J76: 8
... E381: Žalman David | F381: BC Hradec Králové | G381: 4 | H381: 2010 | I381: 10 | J381: 4

Sheet Bodování
B1: Disciplina | C1: (Vše)
E2: VÝVOJ BODOVÝCH ZISKŮ Z MISTROVSTVÍ REPUBLIKY V POOLOVÝCH DISCIPLÍNÁCH
B3: Bodový zisk | C3: Rok
B4: Jméno | C4: 1995 | D4: 1996 | E4: 1997 | F4: 1998 | G4: 1999 | H4: 2000 | I4: 2001 | J4: 2002 | K4: 2003 | L4: 2004 | M4: 2005 | N4: 2006 | O4: 2007 | P4: 2008 | Q4: 2009 | R4: 2010 | S4: 2011 | T4: 2012 | U4: 2013 | V4: 2014 | W4: 2015 | X4: 2016 | Y4: 2017 | Z4: 2018 | AA4: 2019 | AB4: 2020 | AC4: 2021 | AD4: 2022 | AE4: 2023 | AF4: Celkem
B5: Hajdovský Marek | I5: 1 | J5: 2 | K5: 5 | L5: 9 | M5: 10 | N5: 5 | O5: 12 | P5: 28 | Q5: 18 | R5: 5 | S5: 28 | T5: 64 | U5: 22 | V5: 52 | W5: 49 | X5: 34 | Y5: 11 | Z5: 10 | AA5: 9 | AB5: 2 | AC5: 7 | AD5: 1 | AE5: 28 | AF5: 412
B6: Žalman David | J6: 2 | L6: 6 | M6: 4 | N6: 24 | O6: 10 | P6: 28 | Q6: 13 | R6: 13 | S6: 28 | T6: 3 | U6: 21 | V6: 9 | W6: 8 | X6: 8 | Y6: 8 | Z6: 18 | AA6: 33 | AB6: 3 | AC6: 30 | AD6: 34 | AE6: 24 | AF6: 327
B7: Křenek Lukáš | E7: 20 | F7: 26 | G7: 40 | H7: 40 | I7: 33 | J7: 36 | K7: 26 | L7: 12 | M7: 48 | R7: 26 | AF7: 307
B8: Urban Petr | P8: 2 | R8: 4 | S8: 2 | T8: 18 | U8: 28 | V8: 6 | W8: 17 | X8: 12 | Y8: 34 | Z8: 36 | AA8: 8 | AB8: 20 | AC8: 52 | AD8: 56 | AE8: 12 | AF8: 307
B9: Gavenčiak Michal | G9: 22 | H9: 32 | I9: 10 | J9: 32 | K9: 16 | L9: 48 | Q9: 16 | R9: 32 | V9: 24 | Z9: 41 | AC9: 10 | AF9: 283
B10: Meisner Jan | R10: 1 | S10: 4 | T10: 6 | V10: 13 | W10: 34 | X10: 41 | Y10: 29 | Z10: 19 | AA10: 56 | AB10: 1 | AC10: 15 | AD10: 13 | AE10: 12 | AF10: 244
B11: Janata Jan | D11: 1 | E11: 32 | F11: 10 | G11: 8 | H11: 6 | I11: 28 | J11: 10 | K11: 21 | L11: 9 | M11: 12 | N11: 6 | O11: 5 | P11: 4 | Q11: 19 | R11: 20 | S11: 17 | T11: 7 | U11: 6 | V11: 3 | AF11: 224
B12: Halamka Dominik | G12: 1 | H12: 4 | I12: 7 | J12: 1 | K12: 13 | L12: 8 | M12: 18 | N12: 11 | O12: 48 | P12: 20 | Q12: 10 | R12: 15 | S12: 30 | AF12: 186
B13: Houdek Adam | K13: 1 | N13: 1 | O13: 14 | P13: 5 | Q13: 22 | R13: 22 | S13: 4 | T13: 10 | U13: 6 | V13: 9 | X13: 19 | Y13: 20 | Z13: 4 | AA13: 2 | AF13: 139
B14: Gajda Petr | C14: 4 | F14: 19 | G14: 8 | H14: 5 | I14: 7 | J14: 12 | K14: 8 | L14: 7 | M14: 12 | O14: 8 | S14: 1 | AF14: 91
B15: Zeman Pavel | H15: 1 | I15: 1 | J15: 2 | K15: 10 | L15: 4 | N15: 3 | O15: 3 | P15: 8 | Q15: 6 | R15: 10 | S15: 23 | T15: 13 | U15: 2 | V15: 3 | AF15: 89
B16: Suchánek Jan | P16: 2 | Q16: 8 | R16: 4 | S16: 11 | T16: 9 | U16: 23 | V16: 1 | W16: 6 | X16: 6 | Y16: 9 | AF16: 79
B17: Tichý Jaroslav | R17: 1 | S17: 5 | T17: 7 | U17: 6 | X17: 2 | Y17: 3 | Z17: 7 | AA17: 7 | AB17: 17 | AC17: 4 | AD17: 8 | AE17: 11 | AF17: 78
B18: Frank René | C18: 2 | D18: 16 | E18: 21 | F18: 18 | G18: 16 | H18: 4 | AF18: 77
B19: Bernášek Lukáš | F19: 1 | G19: 2 | I19: 6 | J19: 4 | K19: 2 | L19: 1 | N19: 1 | O19: 4 | P19: 1 | Q19: 2 | R19: 3 | S19: 6 | T19: 4 | U19: 2 | V19: 6 | W19: 1 | X19: 4 | Z19: 2 | AA19: 7 | AC19: 2 | AD19: 6 | AE19: 2 | AF19: 69
B20: Dirn Marcel | D20: 4 | F20: 10 | G20: 7 | H20: 9 | I20: 18 | J20: 10 | K20: 4 | L20: 1 | M20: 2 | AF20: 65
B21: Erös Dávid | R21: 2 | S21: 2 | T21: 2 | U21: 4 | V21: 14 | W21: 9 | X21: 11 | Y21: 12 | Z21: 2 | AB21: 4 | AF21: 62
B22: Washburn Calvin | W22: 3 | X22: 6 | Y22: 6 | Z22: 1 | AA22: 5 | AB22: 2 | AC22: 6 | AD22: 11 | AE22: 10 | AF22: 50
B23: Balaštík Pavel | R23: 1 | S23: 3 | T23: 5 | U23: 3 | V23: 3 | W23: 11 | X23: 3 | Y23: 4 | Z23: 9 | AA23: 5 | AF23: 47
B24: Moroz Mykola | AD24: 13 | AE24: 33 | AF24: 46
B25: Čermín Tomáš | N25: 1 | O25: 3 | P25: 3 | Q25: 5 | R25: 5 | S25: 4 | T25: 11 | U25: 11 | AF25: 43
B26: Stuna Jakub | W26: 3 | X26: 3 | Y26: 23 | Z26: 8 | AE26: 5 | AF26: 42
B27: Dorobant Slavomír | O27: 1 | P27: 9 | Q27: 1 | V27: 12 | X27: 7 | AD27: 1 | AE27: 10 | AF27: 41
B28: Voráček Petr | C28: 2 | D28: 8 | E28: 1 | F28: 7 | G28: 12 | H28: 9 | AF28: 39
B29: Zhou Longdi | Q29: 2 | R29: 6 | S29: 4 | T29: 2 | U29: 1 | Y29: 5 | Z29: 4 | AA29: 7 | AB29: 2 | AD29: 5 | AE29: 1 | AF29: 39
B30: Vladyka Robin | R30: 1 | S30: 1 | T30: 1 | U30: 2 | V30: 4 | W30: 3 | X30: 4 | Y30: 4 | Z30: 4 | AA30: 2 | AB30: 1 | AC30: 5 | AD30: 5 | AE30: 1 | AF30: 38
B31: Akenhead James | Y31: 4 | Z31: 6 | AA31: 10 | AB31: 1 | AC31: 9 | AD31: 4 | AE31: 4 | AF31: 38
B32: Kraušner Miroslav | L32: 1 | M32: 2 | N32: 5 | O32: 4 | P32: 7 | Q32: 5 | R32: 7 | S32: 1 | V32: 5 | Z32: 1 | AF32: 38
B33: Nechvíle Josef | U33: 1 | V33: 5 | W33: 12 | X33: 6 | Y33: 3 | Z33: 4 | AA33: 6 | AF33: 37
B34: Jelínek Jakub | J34: 2 | K34: 10 | L34: 6 | M34: 8 | N34: 11 | AF34: 37
B35: Halamka Pavel | P35: 2 | Q35: 1 | R35: 4 | S35: 2 | T35: 2 | U35: 5 | W35: 5 | X35: 1 | Y35: 3 | Z35: 2 | AA35: 2 | AB35: 1 | AC35: 4 | AD35: 1 | AE35: 1 | AF35: 36
B36: Duna Zoltán | W36: 2 | X36: 3 | Y36: 5 | Z36: 4 | AA36: 8 | AB36: 3 | AC36: 4 | AD36: 3 | AE36: 2 | AF36: 34
B37: Zajíček Jiří | M37: 4 | N37: 20 | O37: 8 | AF37: 32
B38: Hofman Jiří | K38: 5 | L38: 1 | M38: 2 | N38: 16 | S38: 2 | T38: 2 | V38: 2 | W38: 2 | AF38: 32
B39: Zeman Oto | H39: 1 | I39: 1 | J39: 4 | M39: 4 | N39: 9 | O39: 2 | P39: 7 | X39: 1 | Y39: 1 | AF39: 30
B40: Bröschel Jan | O40: 2 | P40: 3 | Q40: 1 | R40: 1 | S40: 3 | T40: 4 | U40: 3 | V40: 5 | W40: 2 | Y40: 4 | Z40: 1 | AF40: 29
B41: Tužil Pavel | W41: 4 | X41: 5 | Y41: 4 | Z41: 4 | AA41: 5 | AC41: 6 | AF41: 28
B42: Škvor Jan | F42: 5 | G42: 1 | H42: 3 | I42: 5 | J42: 1 | K42: 2 | L42: 11 | AF42: 28
B43: Mihok Michal | W43: 4 | X43: 1 | Y43: 2 | Z43: 6 | AA43: 2 | AB43: 1 | AC43: 5 | AD43: 6 | AE43: 1 | AF43: 28
B44: Dorobant Miroslav | N44: 2 | O44: 2 | U44: 4 | V44: 2 | W44: 1 | Y44: 1 | Z44: 3 | AA44: 7 | AC44: 5 | AF44: 27
B45: Praus Tomáš | V45: 2 | Y45: 2 | Z45: 4 | AA45: 1 | AB45: 5 | AC45: 4 | AD45: 4 | AE45: 5 | AF45: 27
B46: Hajšman Ladislav | AB46: 10 | AC46: 11 | AD46: 3 | AE46: 3 | AF46: 27
B47: Horák Michal | U47: 2 | X47: 2 | Y47: 1 | Z47: 4 | AA47: 3 | AB47: 1 | AC47: 3 | AD47: 4 | AE47: 5 | AF47: 25
B48: Vančura Tomáš | P48: 1 | Q48: 1 | W48: 3 | X48: 3 | Y48: 2 | Z48: 3 | AA48: 2 | AB48: 2 | AC48: 5 | AD48: 1 | AE48: 2 | AF48: 25
B49: Onderek Tomáš | I49: 2 | R49: 1 | S49: 1 | T49: 4 | U49: 17 | AF49: 25
B50: Kavan Petr | R50: 3 | S50: 5 | T50: 4 | U50: 4 | W50: 2 | X50: 3 | Y50: 1 | Z50: 1 | AF50: 23
B51: Zabloudil Štěpán | C51: 1 | D51: 4 | E51: 16 | H51: 1 | N51: 1 | AF51: 23
B52: Marič Márijo | W52: 1 | X52: 2 | Y52: 3 | Z52: 2 | AB52: 2 | AC52: 6 | AD52: 3 | AE52: 4 | AF52: 23
B53: Mrázek David | Z53: 1 | AA53: 9 | AB53: 9 | AC53: 2 | AE53: 2 | AF53: 23
B54: Velíšek Josef | V54: 3 | W54: 2 | X54: 2 | Y54: 4 | Z54: 4 | AA54: 4 | AC54: 1 | AD54: 2 | AF54: 22
B55: Kulas René | Y55: 2 | Z55: 2 | AA55: 3 | AB55: 3 | AC55: 1 | AD55: 5 | AE55: 4 | AF55: 20
B56: Stettinger Georg | AC56: 5 | AD56: 4 | AE56: 10 | AF56: 19
B57: Kůs Erik | V57: 3 | W57: 5 | X57: 3 | Y57: 2 | Z57: 1 | AA57: 2 | AB57: 2 | AC57: 1 | AF57: 19
B58: Ratkovič Radovan | F58: 19 | AF58: 19
B59: Strádal Jan | V59: 2 | X59: 1 | Z59: 2 | AA59: 2 | AB59: 1 | AC59: 3 | AD59: 3 | AE59: 4 | AF59: 18
B60: Daněk Vojtěch | R60: 2 | S60: 2 | T60: 9 | AE60: 4 | AF60: 17
B61: Pavlovič Dušan | C61: 16 | D61: 1 | AF61: 17
B62: Jelínek Petr | T62: 1 | U62: 1 | V62: 4 | W62: 4 | X62: 2 | Y62: 1 | AB62: 1 | AC62: 1 | AE62: 1 | AF62: 16
B63: Vobořil Zdeněk | Q63: 1 | S63: 4 | T63: 2 | X63: 7 | Y63: 2 | AF63: 16
B64: Bohůnek Jindřich | S64: 1 | T64: 3 | U64: 5 | Z64: 6 | AF64: 15
B65: Janošťák Aleš | W65: 1 | Z65: 4 | AA65: 1 | AB65: 2 | AC65: 1 | AD65: 6 | AF65: 15
B66: Galuška Martin | V66: 4 | W66: 2 | X66: 3 | Y66: 1 | AA66: 1 | AC66: 2 | AD66: 1 | AF66: 14
B67: Lebduška Filip | W67: 1 | Y67: 2 | AA67: 3 | AB67: 4 | AC67: 4 | AF67: 14
B68: Trojáček Martin | H68: 4 | I68: 3 | J68: 1 | K68: 3 | L68: 1 | M68: 2 | AF68: 14
B69: Ugrin Milan | Z69: 2 | AA69: 2 | AB69: 1 | AC69: 4 | AD69: 2 | AE69: 2 | AF69: 13
B70: Aust Jiří | G70: 1 | I70: 3 | J70: 2 | R70: 2 | S70: 2 | T70: 3 | AF70: 13
B71: Markovic Damjan | AC71: 2 | AD71: 4 | AE71: 7 | AF71: 13
B72: Trhlík Adam | AA72: 2 | AB72: 5 | AC72: 5 | AD72: 1 | AF72: 13
B73: Vacek Jiří | G73: 1 | U73: 1 | W73: 1 | X73: 4 | Y73: 4 | AA73: 1 | AF73: 12
B74: Moravec Lukáš | Y74: 2 | AB74: 1 | AC74: 4 | AD74: 4 | AE74: 1 | AF74: 12
B75: Vondráček Petr | U75: 1 | W75: 1 | Y75: 1 | AA75: 4 | AB75: 2 | AD75: 1 | AE75: 1 | AF75: 11
B76: Nohynek Dušan | K76: 1 | L76: 3 | V76: 5 | X76: 2 | AF76: 11
B77: Majerčík Radko | R77: 1 | S77: 1 | T77: 1 | U77: 4 | V77: 4 | AF77: 11
B78: Mika Radek | F78: 4 | G78: 1 | H78: 4 | I78: 1 | AF78: 10
B79: Jovchevski Martin | AC79: 1 | AD79: 4 | AE79: 5 | AF79: 10
B80: Balan Arivukkannan | R80: 1 | X80: 1 | Y80: 1 | Z80: 1 | AA80: 1 | AB80: 1 | AC80: 1 | AD80: 3 | AF80: 10
B81: Šindelář Pavel | S81: 2 | T81: 1 | U81: 1 | V81: 3 | W81: 2 | AF81: 9
B82: Kopecký Tomáš | K82: 2 | L82: 1 | M82: 2 | X82: 1 | Z82: 2 | AA82: 1 | AF82: 9
B83: Frei Petr | L83: 1 | N83: 8 | AF83: 9
B84: Brancuský Petr | X84: 2 | Y84: 4 | Z84: 3 | AF84: 9
B85: Hajn Pavel | V85: 3 | X85: 2 | Y85: 1 | AD85: 2 | AE85: 1 | AF85: 9
B86: Ramp Bert | V86: 2 | W86: 2 | X86: 1 | Y86: 1 | AB86: 3 | AF86: 9
B87: Samorodov Alexander | X87: 2 | Y87: 2 | Z87: 2 | AA87: 1 | AB87: 2 | AF87: 9
B88: Šafařík Jan | J88: 1 | K88: 1 | N88: 1 | W88: 4 | X88: 1 | AF88: 8
B89: Příhoda Jiří | H89: 1 | J89: 2 | K89: 2 | L89: 1 | O89: 1 | AE89: 1 | AF89: 8
B90: Pospíšil Ondřej | V90: 4 | W90: 3 | X90: 1 | AF90: 8
B91: Měcháček Michal | V91: 3 | W91: 2 | X91: 2 | Z91: 1 | AF91: 8
B92: Remeň Miloslav | E92: 8 | AF92: 8
B93: Mirakhmedov Roman | W93: 2 | X93: 3 | Y93: 2 | AD93: 1 | AF93: 8
B94: Nechoďdomů Radek | C94: 8 | AF94: 8
B95: Skopal Tadeáš | R95: 1 | S95: 2 | T95: 1 | U95: 2 | AC95: 1 | AD95: 1 | AF95: 8
B96: Hubrtová Veronika | AA96: 2 | AB96: 2 | AC96: 1 | AE96: 2 | AF96: 7
B97: Šperl Milan | K97: 1 | M97: 2 | N97: 3 | V97: 1 | AF97: 7
B98: Rendla Jakub | W98: 1 | AA98: 3 | AB98: 1 | AC98: 1 | AE98: 1 | AF98: 7
B99: Kapitančik Marcel | Z99: 1 | AA99: 1 | AB99: 2 | AC99: 1 | AD99: 2 | AF99: 7
B100: Vlk Matouš | AA100: 1 | AC100: 1 | AD100: 3 | AE100: 2 | AF100: 7
...

Sheet Komentář
B2: Data na listu Bodování jsou uspořádána v kontingenční tabulce, která nabízí řadu pohledů na jejich obsah.
B3: - Řádky tabulky uvádějí historický seznam hráčů, kteří se na MR v průběhu let představili.
B4: - Sloupce tabulky uvádějí ročníky, v nichž se jednotlivá MR konala.
B5: - Každé pole tabulky uvádí celkový počet bodů, které daný hráč v daném roce na turnajích MR získal.
B6: - Závěrečný sloupec uvádí celkový součet bodů, které hráč na turnajích MR získal.
B8: Bodový zisk z turnaje MR odpovídá dosaženému pořadí hráče v turnaji.
B9: Za 1.místo se uděluje 16 bodů, za 2.místo je 8 bodů. Za účast v semifinále jsou 4 body.
B10: Za účast ve čtvrtfinále jsou 2 body, za umístění na dalších nístech je 1 bod.
B12: Uživatelsky lze volně upravovat zobrazený obsah tabulky pomocí nezávislých tří tlačítek:
B13: - Disciplína ▼: umožňuje zobrazit body buď za všechny disciplíny, nebo za vybranou z nich
B14: - Rok ▼: umožňuje potlačit zobrazení vybraných ročníků a zúžit tím zobrazenou tabulku
B15: - Jméno ▼: umožňuje potlačit zobrazení vybraných jmen a zkrátit tím zobrazenou tabulku
... B36: v případě potřeby lze list bez problémů odemknout. Doporučuji ale následně zase list zamknout!

Sheet Komplet
B2: ÚPLNÝ ŽEBŘÍČEK | C2: Bodové hodnocení pro MR v poolových disciplínách - jednotlivci 1995 - 2023 | AG2: POČET ODEHRANÝCH TURNAJŮ
B3: Jméno | C3: 1995 | D3: 1996 | E3: 1997 | F3: 1998 | G3: 1999 | H3: 2000 | I3: 2001 | J3: 2002 | K3: 2003 | L3: 2004 | M3: 2005 | N3: 2006 | O3: 2007 | P3: 2008 | Q3: 2009 | R3: 2010 | S3: 2011 | T3: 2012 | U3: 2013 | V3: 2014 | W3: 2015 | X3: 2016 | Y3: 2017 | Z3: 2018 | AA3: 2019 | AB3: 2020 | AC3: 2021 | AD3: 2022 | AE3: 2023 | AF3: Celkem | AG3: Turnaje | AH3: *1* | AI3: *2* | AJ3: *3-4* | AK3: *5-8* | AL3: * 9 +*
A4: 1 | B4: Hajdovský Marek | I4: 1 | J4: 2 | K4: 5 | L4: 9 | M4: 10 | N4: 5 | O4: 12 | P4: 28 | Q4: 18 | R4: 5 | S4: 28 | T4: 64 | U4: 22 | V4: 52 | W4: 49 | X4: 34 | Y4: 11 | Z4: 10 | AA4: 9 | AB4: 2 | AC4: 7 | AD4: 1 | AE4: 28 | AF4: 412 | AG4: =COUNTIFS('Po jménech'!$E$2:$E$2024,$B4) -> 70 | AH4: =COUNTIFS('Po jménech'!$E$2:$E$2024,$B4,'Po jménech'!$J$2:$J$2024,16) -> 15 | AI4: =COUNTIFS('Po jménech'!$E$2:$E$2024,$B4,'Po jménech'!$J$2:$J$2024,8) -> 8 | AJ4: =COUNTIFS('Po jménech'!$E$2:$E$2024,$B4,'Po jménech'!$J$2:$J$2024,4) -> 14 | AK4: =COUNTIFS('Po jménech'!$E$2:$E$2024,$B4,'Po jménech'!$J$2:$J$2024,2) -> 19 | AL4: =COUNTIFS('Po jménech'!$E$2:$E$2024,$B4,'Po jménech'!$J$2:$J$2024,1) -> 14
A5: 2 | B5: Žalman David | J5: 2 | L5: 6 | M5: 4 | N5: 24 | O5: 10 | P5: 28 | Q5: 13 | R5: 13 | S5: 28 | T5: 3 | U5: 21 | V5: 9 | W5: 8 | X5: 8 | Y5: 8 | Z5: 18 | AA5: 33 | AB5: 3 | AC5: 30 | AD5: 34 | AE5: 24 | AF5: 327 | AG5: =COUNTIFS('Po jménech'!$E$2:$E$2024,$B5) -> 70 | AH5: =COUNTIFS('Po jménech'!$E$2:$E$2024,$B5,'Po jménech'!$J$2:$J$2024,16) -> 8 | AI5: =COUNTIFS('Po jménech'!$E$2:$E$2024,$B5,'Po jménech'!$J$2:$J$2024,8) -> 9 | AJ5: =COUNTIFS('Po jménech'!$E$2:$E$2024,$B5,'Po jménech'!$J$2:$J$2024,4) -> 18 | AK5: =COUNTIFS('Po jménech'!$E$2:$E$2024,$B5,'Po jménech'!$J$2:$J$2024,2) -> 20 | AL5: =COUNTIFS('Po jménech'!$E$2:$E$2024,$B5,'Po jménech'!$J$2:$J$2024,1) -> 15
A6: 3 | B6: Křenek Lukáš | E6: 20 | F6: 26 | G6: 40 | H6: 40 | I6: 33 | J6: 36 | K6: 26 | L6: 12 | M6: 48 | R6: 26 | AF6: 307 | AG6: =COUNTIFS('Po jménech'!$E$2:$E$2024,$B6) -> 28 | AH6: =COUNTIFS('Po jménech'!$E$2:$E$2024,$B6,'Po jménech'!$J$2:$J$2024,16) -> 15 | AI6: =COUNTIFS('Po jménech'!$E$2:$E$2024,$B6,'Po jménech'!$J$2:$J$2024,8) -> 6 | AJ6: =COUNTIFS('Po jménech'!$E$2:$E$2024,$B6,'Po jménech'!$J$2:$J$2024,4) -> 3 | AK6: =COUNTIFS('Po jménech'!$E$2:$E$2024,$B6,'Po jménech'!$J$2:$J$2024,2) -> 3 | AL6: =COUNTIFS('Po jménech'!$E$2:$E$2024,$B6,'Po jménech'!$J$2:$J$2024,1) -> 1
A7: 4 | B7: Urban Petr | P7: 2 | R7: 4 | S7: 2 | T7: 18 | U7: 28 | V7: 6 | W7: 17 | X7: 12 | Y7: 34 | Z7: 36 | AA7: 8 | AB7: 20 | AC7: 52 | AD7: 56 | AE7: 12 | AF7: 307 | AG7: =COUNTIFS('Po jménech'!$E$2:$E$2024,$B7) -> 52 | AH7: =COUNTIFS('Po jménech'!$E$2:$E$2024,$B7,'Po jménech'!$J$2:$J$2024,16) -> 9 | AI7: =COUNTIFS('Po jménech'!$E$2:$E$2024,$B7,'Po jménech'!$J$2:$J$2024,8) -> 12 | AJ7: =COUNTIFS('Po jménech'!$E$2:$E$2024,$B7,'Po jménech'!$J$2:$J$2024,4) -> 10 | AK7: =COUNTIFS('Po jménech'!$E$2:$E$2024,$B7,'Po jménech'!$J$2:$J$2024,2) -> 6 | AL7: =COUNTIFS('Po jménech'!$E$2:$E$2024,$B7,'Po jménech'!$J$2:$J$2024,1) -> 15
A8: 5 | B8: Gavenčiak Michal | G8: 22 | H8: 32 | I8: 10 | J8: 32 | K8: 16 | L8: 48 | Q8: 16 | R8: 32 | V8: 24 | Z8: 41 | AC8: 10 | AF8: 283 | AG8: =COUNTIFS('Po jménech'!$E$2:$E$2024,$B8) -> 27 | AH8: =COUNTIFS('Po jménech'!$E$2:$E$2024,$B8,'Po jménech'!$J$2:$J$2024,16) -> 13 | AI8: =COUNTIFS('Po jménech'!$E$2:$E$2024,$B8,'Po jménech'!$J$2:$J$2024,8) -> 7 | AJ8: =COUNTIFS('Po jménech'!$E$2:$E$2024,$B8,'Po jménech'!$J$2:$J$2024,4) -> 3 | AK8: =COUNTIFS('Po jménech'!$E$2:$E$2024,$B8,'Po jménech'!$J$2:$J$2024,2) -> 3 | AL8: =COUNTIFS('Po jménech'!$E$2:$E$2024,$B8,'Po jménech'!$J$2:$J$2024,1) -> 1
A9: 6 | B9: Meisner Jan | R9: 1 | S9: 4 | T9: 6 | V9: 13 | W9: 34 | X9: 41 | Y9: 29 | Z9: 19 | AA9: 56 | AB9: 1 | AC9: 15 | AD9: 13 | AE9: 12 | AF9: 244 | AG9: =COUNTIFS('Po jménech'!$E$2:$E$2024,$B9) -> 45 | AH9: =COUNTIFS('Po jménech'!$E$2:$E$2024,$B9,'Po jménech'!$J$2:$J$2024,16) -> 8 | AI9: =COUNTIFS('Po jménech'!$E$2:$E$2024,$B9,'Po jménech'!$J$2:$J$2024,8) -> 8 | AJ9: =COUNTIFS('Po jménech'!$E$2:$E$2024,$B9,'Po jménech'!$J$2:$J$2024,4) -> 5 | AK9: =COUNTIFS('Po jménech'!$E$2:$E$2024,$B9,'Po jménech'!$J$2:$J$2024,2) -> 8 | AL9: =COUNTIFS('Po jménech'!$E$2:$E$2024,$B9,'Po jménech'!$J$2:$J$2024,1) -> 16
A10: 7 | B10: Janata Jan | D10: 1 | E10: 32 | F10: 10 | G10: 8 | H10: 6 | I10: 28 | J10: 10 | K10: 21 | L10: 9 | M10: 12 | N10: 6 | O10: 5 | P10: 4 | Q10: 19 | R10: 20 | S10: 17 | T10: 7 | U10: 6 | V10: 3 | AF10: 224 | AG10: =COUNTIFS('Po jménech'!$E$2:$E$2024,$B10) -> 56 | AH10: =COUNTIFS('Po jménech'!$E$2:$E$2024,$B10,'Po jménech'!$J$2:$J$2024,16) -> 4 | AI10: =COUNTIFS('Po jménech'!$E$2:$E$2024,$B10,'Po jménech'!$J$2:$J$2024,8) -> 6 | AJ10: =COUNTIFS('Po jménech'!$E$2:$E$2024,$B10,'Po jménech'!$J$2:$J$2024,4) -> 17 | AK10: =COUNTIFS('Po jménech'!$E$2:$E$2024,$B10,'Po jménech'!$J$2:$J$2024,2) -> 15 | AL10: =COUNTIFS('Po jménech'!$E$2:$E$2024,$B10,'Po jménech'!$J$2:$J$2024,1) -> 14
A11: 8 | B11: Halamka Dominik | G11: 1 | H11: 4 | I11: 7 | J11: 1 | K11: 13 | L11: 8 | M11: 18 | N11: 11 | O11: 48 | P11: 20 | Q11: 10 | R11: 15 | S11: 30 | AF11: 186 | AG11: =COUNTIFS('Po jménech'!$E$2:$E$2024,$B11) -> 36 | AH11: =COUNTIFS('Po jménech'!$E$2:$E$2024,$B11,'Po jménech'!$J$2:$J$2024,16) -> 5 | AI11: =COUNTIFS('Po jménech'!$E$2:$E$2024,$B11,'Po jménech'!$J$2:$J$2024,8) -> 6 | AJ11: =COUNTIFS('Po jménech'!$E$2:$E$2024,$B11,'Po jménech'!$J$2:$J$2024,4) -> 7 | AK11: =COUNTIFS('Po jménech'!$E$2:$E$2024,$B11,'Po jménech'!$J$2:$J$2024,2) -> 12 | AL11: =COUNTIFS('Po jménech'!$E$2:$E$2024,$B11,'Po jménech'!$J$2:$J$2024,1) -> 6
A12: 9 | B12: Houdek Adam | K12: 1 | N12: 1 | O12: 14 | P12: 5 | Q12: 22 | R12: 22 | S12: 4 | T12: 10 | U12: 6 | V12: 9 | X12: 19 | Y12: 20 | Z12: 4 | AA12: 2 | AF12: 139 | AG12: =COUNTIFS('Po jménech'!$E$2:$E$2024,$B12) -> 39 | AH12: =COUNTIFS('Po jménech'!$E$2:$E$2024,$B12,'Po jménech'!$J$2:$J$2024,16) -> 4 | AI12: =COUNTIFS('Po jménech'!$E$2:$E$2024,$B12,'Po jménech'!$J$2:$J$2024,8) -> 1 | AJ12: =COUNTIFS('Po jménech'!$E$2:$E$2024,$B12,'Po jménech'!$J$2:$J$2024,4) -> 6 | AK12: =COUNTIFS('Po jménech'!$E$2:$E$2024,$B12,'Po jménech'!$J$2:$J$2024,2) -> 15 | AL12: =COUNTIFS('Po jménech'!$E$2:$E$2024,$B12,'Po jménech'!$J$2:$J$2024,1) -> 13
A13: 10 | B13: Gajda Petr | C13: 4 | F13: 19 | G13: 8 | H13: 5 | I13: 7 | J13: 12 | K13: 8 | L13: 7 | M13: 12 | O13: 8 | S13: 1 | AF13: 91 | AG13: =COUNTIFS('Po jménech'!$E$2:$E$2024,$B13) -> 27 | AH13: =COUNTIFS('Po jménech'!$E$2:$E$2024,$B13,'Po jménech'!$J$2:$J$2024,16) -> 1 | AI13: =COUNTIFS('Po jménech'!$E$2:$E$2024,$B13,'Po jménech'!$J$2:$J$2024,8) -> 3 | AJ13: =COUNTIFS('Po jménech'!$E$2:$E$2024,$B13,'Po jménech'!$J$2:$J$2024,4) -> 5 | AK13: =COUNTIFS('Po jménech'!$E$2:$E$2024,$B13,'Po jménech'!$J$2:$J$2024,2) -> 13 | AL13: =COUNTIFS('Po jménech'!$E$2:$E$2024,$B13,'Po jménech'!$J$2:$J$2024,1) -> 5
A14: 11 | B14: Zeman Pavel | H14: 1 | I14: 1 | J14: 2 | K14: 10 | L14: 4 | N14: 3 | O14: 3 | P14: 8 | Q14: 6 | R14: 10 | S14: 23 | T14: 13 | U14: 2 | V14: 3 | AF14: 89 | AG14: =COUNTIFS('Po jménech'!$E$2:$E$2024,$B14) -> 30 | AH14: =COUNTIFS('Po jménech'!$E$2:$E$2024,$B14,'Po jménech'!$J$2:$J$2024,16) -> 1 | AI14: =COUNTIFS('Po jménech'!$E$2:$E$2024,$B14,'Po jménech'!$J$2:$J$2024,8) -> 2 | AJ14: =COUNTIFS('Po jménech'!$E$2:$E$2024,$B14,'Po jménech'!$J$2:$J$2024,4) -> 7 | AK14: =COUNTIFS('Po jménech'!$E$2:$E$2024,$B14,'Po jménech'!$J$2:$J$2024,2) -> 9 | AL14: =COUNTIFS('Po jménech'!$E$2:$E$2024,$B14,'Po jménech'!$J$2:$J$2024,1) -> 11
A15: 12 | B15: Suchánek Jan | P15: 2 | Q15: 8 | R15: 4 | S15: 11 | T15: 9 | U15: 23 | V15: 1 | W15: 6 | X15: 6 | Y15: 9 | AF15: 79 | AG15: =COUNTIFS('Po jménech'!$E$2:$E$2024,$B15) -> 31 | AH15: =COUNTIFS('Po jménech'!$E$2:$E$2024,$B15,'Po jménech'!$J$2:$J$2024,16) -> 1 | AI15: =COUNTIFS('Po jménech'!$E$2:$E$2024,$B15,'Po jménech'!$J$2:$J$2024,8) -> 0 | AJ15: =COUNTIFS('Po jménech'!$E$2:$E$2024,$B15,'Po jménech'!$J$2:$J$2024,4) -> 7 | AK15: =COUNTIFS('Po jménech'!$E$2:$E$2024,$B15,'Po jménech'!$J$2:$J$2024,2) -> 12 | AL15: =COUNTIFS('Po jménech'!$E$2:$E$2024,$B15,'Po jménech'!$J$2:$J$2024,1) -> 11
A16: 13 | B16: Tichý Jaroslav | R16: 1 | S16: 5 | T16: 7 | U16: 6 | X16: 2 | Y16: 3 | Z16: 7 | AA16: 7 | AB16: 17 | AC16: 4 | AD16: 8 | AE16: 11 | AF16: 78 | AG16: =COUNTIFS('Po jménech'!$E$2:$E$2024,$B16) -> 37 | AH16: =COUNTIFS('Po jménech'!$E$2:$E$2024,$B16,'Po jménech'!$J$2:$J$2024,16) -> 1 | AI16: =COUNTIFS('Po jménech'!$E$2:$E$2024,$B16,'Po jménech'!$J$2:$J$2024,8) -> 0 | AJ16: =COUNTIFS('Po jménech'!$E$2:$E$2024,$B16,'Po jménech'!$J$2:$J$2024,4) -> 7 | AK16: =COUNTIFS('Po jménech'!$E$2:$E$2024,$B16,'Po jménech'!$J$2:$J$2024,2) -> 5 | AL16: =COUNTIFS('Po jménech'!$E$2:$E$2024,$B16,'Po jménech'!$J$2:$J$2024,1) -> 24
A17: 14 | B17: Frank René | C17: 2 | D17: 16 | E17: 21 | F17: 18 | G17: 16 | H17: 4 | AF17: 77 | AG17: =COUNTIFS('Po jménech'!$E$2:$E$2024,$B17) -> 14 | AH17: =COUNTIFS('Po jménech'!$E$2:$E$2024,$B17,'Po jménech'!$J$2:$J$2024,16) -> 2 | AI17: =COUNTIFS('Po jménech'!$E$2:$E$2024,$B17,'Po jménech'!$J$2:$J$2024,8) -> 3 | AJ17: =COUNTIFS('Po jménech'!$E$2:$E$2024,$B17,'Po jménech'!$J$2:$J$2024,4) -> 3 | AK17: =COUNTIFS('Po jménech'!$E$2:$E$2024,$B17,'Po jménech'!$J$2:$J$2024,2) -> 3 | AL17: =COUNTIFS('Po jménech'!$E$2:$E$2024,$B17,'Po jménech'!$J$2:$J$2024,1) -> 3
A18: 15 | B18: Bernášek Lukáš | F18: 1 | G18: 2 | I18: 6 | J18: 4 | K18: 2 | L18: 1 | N18: 1 | O18: 4 | P18: 1 | Q18: 2 | R18: 3 | S18: 6 | T18: 4 | U18: 2 | V18: 6 | W18: 1 | X18: 4 | Z18: 2 | AA18: 7 | AC18: 2 | AD18: 6 | AE18: 2 | AF18: 69 | AG18: =COUNTIFS('Po jménech'!$E$2:$E$2024,$B18) -> 38 | AH18: =COUNTIFS('Po jménech'!$E$2:$E$2024,$B18,'Po jménech'!$J$2:$J$2024,16) -> 0 | AI18: =COUNTIFS('Po jménech'!$E$2:$E$2024,$B18,'Po jménech'!$J$2:$J$2024,8) -> 0 | AJ18: =COUNTIFS('Po jménech'!$E$2:$E$2024,$B18,'Po jménech'!$J$2:$J$2024,4) -> 6 | AK18: =COUNTIFS('Po jménech'!$E$2:$E$2024,$B18,'Po jménech'!$J$2:$J$2024,2) -> 13 | AL18: =COUNTIFS('Po jménech'!$E$2:$E$2024,$B18,'Po jménech'!$J$2:$J$2024,1) -> 19
A19: 16 | B19: Dirn Marcel | D19: 4 | F19: 10 | G19: 7 | H19: 9 | I19: 18 | J19: 10 | K19: 4 | L19: 1 | M19: 2 | AF19: 65 | AG19: =COUNTIFS('Po jménech'!$E$2:$E$2024,$B19) -> 22 | AH19: =COUNTIFS('Po jménech'!$E$2:$E$2024,$B19,'Po jménech'!$J$2:$J$2024,16) -> 0 | AI19: =COUNTIFS('Po jménech'!$E$2:$E$2024,$B19,'Po jménech'!$J$2:$J$2024,8) -> 2 | AJ19: =COUNTIFS('Po jménech'!$E$2:$E$2024,$B19,'Po jménech'!$J$2:$J$2024,4) -> 8 | AK19: =COUNTIFS('Po jménech'!$E$2:$E$2024,$B19,'Po jménech'!$J$2:$J$2024,2) -> 5 | AL19: =COUNTIFS('Po jménech'!$E$2:$E$2024,$B19,'Po jménech'!$J$2:$J$2024,1) -> 7
A20: 17 | B20: Erös Dávid | R20: 2 | S20: 2 | T20: 2 | U20: 4 | V20: 14 | W20: 9 | X20: 11 | Y20: 12 | Z20: 2 | AB20: 4 | AF20: 62 | AG20: =COUNTIFS('Po jménech'!$E$2:$E$2024,$B20) -> 26 | AH20: =COUNTIFS('Po jménech'!$E$2:$E$2024,$B20,'Po jménech'!$J$2:$J$2024,16) -> 0 | AI20: =COUNTIFS('Po jménech'!$E$2:$E$2024,$B20,'Po jménech'!$J$2:$J$2024,8) -> 3 | AJ20: =COUNTIFS('Po jménech'!$E$2:$E$2024,$B20,'Po jménech'!$J$2:$J$2024,4) -> 3 | AK20: =COUNTIFS('Po jménech'!$E$2:$E$2024,$B20,'Po jménech'!$J$2:$J$2024,2) -> 6 | AL20: =COUNTIFS('Po jménech'!$E$2:$E$2024,$B20,'Po jménech'!$J$2:$J$2024,1) -> 14
A21: 18 | B21: Washburn Calvin | W21: 3 | X21: 6 | Y21: 6 | Z21: 1 | AA21: 5 | AB21: 2 | AC21: 6 | AD21: 11 | AE21: 10 | AF21: 50 | AG21: =COUNTIFS('Po jménech'!$E$2:$E$2024,$B21) -> 26 | AH21: =COUNTIFS('Po jménech'!$E$2:$E$2024,$B21,'Po jménech'!$J$2:$J$2024,16) -> 0 | AI21: =COUNTIFS('Po jménech'!$E$2:$E$2024,$B21,'Po jménech'!$J$2:$J$2024,8) -> 0 | AJ21: =COUNTIFS('Po jménech'!$E$2:$E$2024,$B21,'Po jménech'!$J$2:$J$2024,4) -> 5 | AK21: =COUNTIFS('Po jménech'!$E$2:$E$2024,$B21,'Po jménech'!$J$2:$J$2024,2) -> 9 | AL21: =COUNTIFS('Po jménech'!$E$2:$E$2024,$B21,'Po jménech'!$J$2:$J$2024,1) -> 12
A22: 19 | B22: Balaštík Pavel | R22: 1 | S22: 3 | T22: 5 | U22: 3 | V22: 3 | W22: 11 | X22: 3 | Y22: 4 | Z22: 9 | AA22: 5 | AF22: 47 | AG22: =COUNTIFS('Po jménech'!$E$2:$E$2024,$B22) -> 32 | AH22: =COUNTIFS('Po jménech'!$E$2:$E$2024,$B22,'Po jménech'!$J$2:$J$2024,16) -> 0 | AI22: =COUNTIFS('Po jménech'!$E$2:$E$2024,$B22,'Po jménech'!$J$2:$J$2024,8) -> 0 | AJ22: =COUNTIFS('Po jménech'!$E$2:$E$2024,$B22,'Po jménech'!$J$2:$J$2024,4) -> 3 | AK22: =COUNTIFS('Po jménech'!$E$2:$E$2024,$B22,'Po jménech'!$J$2:$J$2024,2) -> 6 | AL22: =COUNTIFS('Po jménech'!$E$2:$E$2024,$B22,'Po jménech'!$J$2:$J$2024,1) -> 23
A23: 20 | B23: Moroz Mykola | AD23: 13 | AE23: 33 | AF23: 46 | AG23: =COUNTIFS('Po jménech'!$E$2:$E$2024,$B23) -> 7 | AH23: =COUNTIFS('Po jménech'!$E$2:$E$2024,$B23,'Po jménech'!$J$2:$J$2024,16) -> 2 | AI23: =COUNTIFS('Po jménech'!$E$2:$E$2024,$B23,'Po jménech'!$J$2:$J$2024,8) -> 1 | AJ23: =COUNTIFS('Po jménech'!$E$2:$E$2024,$B23,'Po jménech'!$J$2:$J$2024,4) -> 0 | AK23: =COUNTIFS('Po jménech'!$E$2:$E$2024,$B23,'Po jménech'!$J$2:$J$2024,2) -> 2 | AL23: =COUNTIFS('Po jménech'!$E$2:$E$2024,$B23,'Po jménech'!$J$2:$J$2024,1) -> 2
A24: 21 | B24: Čermín Tomáš | N24: 1 | O24: 3 | P24: 3 | Q24: 5 | R24: 5 | S24: 4 | T24: 11 | U24: 11 | AF24: 43 | AG24: =COUNTIFS('Po jménech'!$E$2:$E$2024,$B24) -> 23 | AH24: =COUNTIFS('Po jménech'!$E$2:$E$2024,$B24,'Po jménech'!$J$2:$J$2024,16) -> 0 | AI24: =COUNTIFS('Po jménech'!$E$2:$E$2024,$B24,'Po jménech'!$J$2:$J$2024,8) -> 1 | AJ24: =COUNTIFS('Po jménech'!$E$2:$E$2024,$B24,'Po jménech'!$J$2:$J$2024,4) -> 2 | AK24: =COUNTIFS('Po jménech'!$E$2:$E$2024,$B24,'Po jménech'!$J$2:$J$2024,2) -> 7 | AL24: =COUNTIFS('Po jménech'!$E$2:$E$2024,$B24,'Po jménech'!$J$2:$J$2024,1) -> 13
A25: 22 | B25: Stuna Jakub | W25: 3 | X25: 3 | Y25: 23 | Z25: 8 | AE25: 5 | AF25: 42 | AG25: =COUNTIFS('Po jménech'!$E$2:$E$2024,$B25) -> 17 | AH25: =COUNTIFS('Po jménech'!$E$2:$E$2024,$B25,'Po jménech'!$J$2:$J$2024,16) -> 1 | AI25: =COUNTIFS('Po jménech'!$E$2:$E$2024,$B25,'Po jménech'!$J$2:$J$2024,8) -> 0 | AJ25: =COUNTIFS('Po jménech'!$E$2:$E$2024,$B25,'Po jménech'!$J$2:$J$2024,4) -> 2 | AK25: =COUNTIFS('Po jménech'!$E$2:$E$2024,$B25,'Po jménech'!$J$2:$J$2024,2) -> 4 | AL25: =COUNTIFS('Po jménech'!$E$2:$E$2024,$B25,'Po jménech'!$J$2:$J$2024,1) -> 10
A26: 23 | B26: Dorobant Slavomír | O26: 1 | P26: 9 | Q26: 1 | V26: 12 | X26: 7 | AD26: 1 | AE26: 10 | AF26: 41 | AG26: =COUNTIFS('Po jménech'!$E$2:$E$2024,$B26) -> 14 | AH26: =COUNTIFS('Po jménech'!$E$2:$E$2024,$B26,'Po jménech'!$J$2:$J$2024,16) -> 0 | AI26: =COUNTIFS('Po jménech'!$E$2:$E$2024,$B26,'Po jménech'!$J$2:$J$2024,8) -> 3 | AJ26: =COUNTIFS('Po jménech'!$E$2:$E$2024,$B26,'Po jménech'!$J$2:$J$2024,4) -> 1 | AK26: =COUNTIFS('Po jménech'!$E$2:$E$2024,$B26,'Po jménech'!$J$2:$J$2024,2) -> 3 | AL26: =COUNTIFS('Po jménech'!$E$2:$E$2024,$B26,'Po jménech'!$J$2:$J$2024,1) -> 7
A27: 24 | B27: Voráček Petr | C27: 2 | D27: 8 | E27: 1 | F27: 7 | G27: 12 | H27: 9 | AF27: 39 | AG27: =COUNTIFS('Po jménech'!$E$2:$E$2024,$B27) -> 12 | AH27: =COUNTIFS('Po jménech'!$E$2:$E$2024,$B27,'Po jménech'!$J$2:$J$2024,16) -> 0 | AI27: =COUNTIFS('Po jménech'!$E$2:$E$2024,$B27,'Po jménech'!$J$2:$J$2024,8) -> 2 | AJ27: =COUNTIFS('Po jménech'!$E$2:$E$2024,$B27,'Po jménech'!$J$2:$J$2024,4) -> 3 | AK27: =COUNTIFS('Po jménech'!$E$2:$E$2024,$B27,'Po jménech'!$J$2:$J$2024,2) -> 4 | AL27: =COUNTIFS('Po jménech'!$E$2:$E$2024,$B27,'Po jménech'!$J$2:$J$2024,1) -> 3
A28: 25 | B28: Zhou Longdi | Q28: 2 | R28: 6 | S28: 4 | T28: 2 | U28: 1 | Y28: 5 | Z28: 4 | AA28: 7 | AB28: 2 | AD28: 5 | AE28: 1 | AF28: 39 | AG28: =COUNTIFS('Po jménech'!$E$2:$E$2024,$B28) -> 28 | AH28: =COUNTIFS('Po jménech'!$E$2:$E$2024,$B28,'Po jménech'!$J$2:$J$2024,16) -> 0 | AI28: =COUNTIFS('Po jménech'!$E$2:$E$2024,$B28,'Po jménech'!$J$2:$J$2024,8) -> 0 | AJ28: =COUNTIFS('Po jménech'!$E$2:$E$2024,$B28,'Po jménech'!$J$2:$J$2024,4) -> 2 | AK28: =COUNTIFS('Po jménech'!$E$2:$E$2024,$B28,'Po jménech'!$J$2:$J$2024,2) -> 5 | AL28: =COUNTIFS('Po jménech'!$E$2:$E$2024,$B28,'Po jménech'!$J$2:$J$2024,1) -> 21
A29: 26 | B29: Vladyka Robin | R29: 1 | S29: 1 | T29: 1 | U29: 2 | V29: 4 | W29: 3 | X29: 4 | Y29: 4 | Z29: 4 | AA29: 2 | AB29: 1 | AC29: 5 | AD29: 5 | AE29: 1 | AF29: 38 | AG29: =COUNTIFS('Po jménech'!$E$2:$E$2024,$B29) -> 36 | AH29: =COUNTIFS('Po jménech'!$E$2:$E$2024,$B29,'Po jménech'!$J$2:$J$2024,16) -> 0 | AI29: =COUNTIFS('Po jménech'!$E$2:$E$2024,$B29,'Po jménech'!$J$2:$J$2024,8) -> 0 | AJ29: =COUNTIFS('Po jménech'!$E$2:$E$2024,$B29,'Po jménech'!$J$2:$J$2024,4) -> 0 | AK29: =COUNTIFS('Po jménech'!$E$2:$E$2024,$B29,'Po jménech'!$J$2:$J$2024,2) -> 2 | AL29: =COUNTIFS('Po jménech'!$E$2:$E$2024,$B29,'Po jménech'!$J$2:$J$2024,1) -> 34
A30: 27 | B30: Akenhead James | Y30: 4 | Z30: 6 | AA30: 10 | AB30: 1 | AC30: 9 | AD30: 4 | AE30: 4 | AF30: 38 | AG30: =COUNTIFS('Po jménech'!$E$2:$E$2024,$B30) -> 20 | AH30: =COUNTIFS('Po jménech'!$E$2:$E$2024,$B30,'Po jménech'!$J$2:$J$2024,16) -> 0 | AI30: =COUNTIFS('Po jménech'!$E$2:$E$2024,$B30,'Po jménech'!$J$2:$J$2024,8) -> 2 | AJ30: =COUNTIFS('Po jménech'!$E$2:$E$2024,$B30,'Po jménech'!$J$2:$J$2024,4) -> 0 | AK30: =COUNTIFS('Po jménech'!$E$2:$E$2024,$B30,'Po jménech'!$J$2:$J$2024,2) -> 4 | AL30: =COUNTIFS('Po jménech'!$E$2:$E$2024,$B30,'Po jménech'!$J$2:$J$2024,1) -> 14
A31: 28 | B31: Kraušner Miroslav | L31: 1 | M31: 2 | N31: 5 | O31: 4 | P31: 7 | Q31: 5 | R31: 7 | S31: 1 | V31: 5 | Z31: 1 | AF31: 38 | AG31: =COUNTIFS('Po jménech'!$E$2:$E$2024,$B31) -> 24 | AH31: =COUNTIFS('Po jménech'!$E$2:$E$2024,$B31,'Po jménech'!$J$2:$J$2024,16) -> 0 | AI31: =COUNTIFS('Po jménech'!$E$2:$E$2024,$B31,'Po jménech'!$J$2:$J$2024,8) -> 0 | AJ31: =COUNTIFS('Po jménech'!$E$2:$E$2024,$B31,'Po jménech'!$J$2:$J$2024,4) -> 1 | AK31: =COUNTIFS('Po jménech'!$E$2:$E$2024,$B31,'Po jménech'!$J$2:$J$2024,2) -> 11 | AL31: =COUNTIFS('Po jménech'!$E$2:$E$2024,$B31,'Po jménech'!$J$2:$J$2024,1) -> 12
A32: 29 | B32: Nechvíle Josef | U32: 1 | V32: 5 | W32: 12 | X32: 6 | Y32: 3 | Z32: 4 | AA32: 6 | AF32: 37 | AG32: =COUNTIFS('Po jménech'!$E$2:$E$2024,$B32) -> 21 | AH32: =COUNTIFS('Po jménech'!$E$2:$E$2024,$B32,'Po jménech'!$J$2:$J$2024,16) -> 0 | AI32: =COUNTIFS('Po jménech'!$E$2:$E$2024,$B32,'Po jménech'!$J$2:$J$2024,8) -> 1 | AJ32: =COUNTIFS('Po jménech'!$E$2:$E$2024,$B32,'Po jménech'!$J$2:$J$2024,4) -> 1 | AK32: =COUNTIFS('Po jménech'!$E$2:$E$2024,$B32,'Po jménech'!$J$2:$J$2024,2) -> 6 | AL32: =COUNTIFS('Po jménech'!$E$2:$E$2024,$B32,'Po jménech'!$J$2:$J$2024,1) -> 13
A33: 30 | B33: Jelínek Jakub | J33: 2 | K33: 10 | L33: 6 | M33: 8 | N33: 11 | AF33: 37 | AG33: =COUNTIFS('Po jménech'!$E$2:$E$2024,$B33) -> 14 | AH33: =COUNTIFS('Po jménech'!$E$2:$E$2024,$B33,'Po jménech'!$J$2:$J$2024,16) -> 0 | AI33: =COUNTIFS('Po jménech'!$E$2:$E$2024,$B33,'Po jménech'!$J$2:$J$2024,8) -> 1 | AJ33: =COUNTIFS('Po jménech'!$E$2:$E$2024,$B33,'Po jménech'!$J$2:$J$2024,4) -> 3 | AK33: =COUNTIFS('Po jménech'!$E$2:$E$2024,$B33,'Po jménech'!$J$2:$J$2024,2) -> 7 | AL33: =COUNTIFS('Po jménech'!$E$2:$E$2024,$B33,'Po jménech'!$J$2:$J$2024,1) -> 3
A34: 31 | B34: Halamka Pavel | P34: 2 | Q34: 1 | R34: 4 | S34: 2 | T34: 2 | U34: 5 | W34: 5 | X34: 1 | Y34: 3 | Z34: 2 | AA34: 2 | AB34: 1 | AC34: 4 | AD34: 1 | AE34: 1 | AF34: 36 | AG34: =COUNTIFS('Po jménech'!$E$2:$E$2024,$B34) -> 32 | AH34: =COUNTIFS('Po jménech'!$E$2:$E$2024,$B34,'Po jménech'!$J$2:$J$2024,16) -> 0 | AI34: =COUNTIFS('Po jménech'!$E$2:$E$2024,$B34,'Po jménech'!$J$2:$J$2024,8) -> 0 | AJ34: =COUNTIFS('Po jménech'!$E$2:$E$2024,$B34,'Po jménech'!$J$2:$J$2024,4) -> 0 | AK34: =COUNTIFS('Po jménech'!$E$2:$E$2024,$B34,'Po jménech'!$J$2:$J$2024,2) -> 4 | AL34: =COUNTIFS('Po jménech'!$E$2:$E$2024,$B34,'Po jménech'!$J$2:$J$2024,1) -> 28
A35: 32 | B35: Duna Zoltán | W35: 2 | X35: 3 | Y35: 5 | Z35: 4 | AA35: 8 | AB35: 3 | AC35: 4 | AD35: 3 | AE35: 2 | AF35: 34 | AG35: =COUNTIFS('Po jménech'!$E$2:$E$2024,$B35) -> 27 | AH35: =COUNTIFS('Po jménech'!$E$2:$E$2024,$B35,'Po jménech'!$J$2:$J$2024,16) -> 0 | AI35: =COUNTIFS('Po jménech'!$E$2:$E$2024,$B35,'Po jménech'!$J$2:$J$2024,8) -> 0 | AJ35: =COUNTIFS('Po jménech'!$E$2:$E$2024,$B35,'Po jménech'!$J$2:$J$2024,4) -> 1 | AK35: =COUNTIFS('Po jménech'!$E$2:$E$2024,$B35,'Po jménech'!$J$2:$J$2024,2) -> 4 | AL35: =COUNTIFS('Po jménech'!$E$2:$E$2024,$B35,'Po jménech'!$J$2:$J$2024,1) -> 22
A36: 33 | B36: Zajíček Jiří | M36: 4 | N36: 20 | O36: 8 | AF36: 32 | AG36: =COUNTIFS('Po jménech'!$E$2:$E$2024,$B36) -> 7 | AH36: =COUNTIFS('Po jménech'!$E$2:$E$2024,$B36,'Po jménech'!$J$2:$J$2024,16) -> 1 | AI36: =COUNTIFS('Po jménech'!$E$2:$E$2024,$B36,'Po jménech'!$J$2:$J$2024,8) -> 0 | AJ36: =COUNTIFS('Po jménech'!$E$2:$E$2024,$B36,'Po jménech'!$J$2:$J$2024,4) -> 2 | AK36: =COUNTIFS('Po jménech'!$E$2:$E$2024,$B36,'Po jménech'!$J$2:$J$2024,2) -> 4 | AL36: =COUNTIFS('Po jménech'!$E$2:$E$2024,$B36,'Po jménech'!$J$2:$J$2024,1) -> 0
A37: 34 | B37: Hofman Jiří | K37: 5 | L37: 1 | M37: 2 | N37: 16 | S37: 2 | T37: 2 | V37: 2 | W37: 2 | AF37: 32 | AG37: =COUNTIFS('Po jménech'!$E$2:$E$2024,$B37) -> 12 | AH37: =COUNTIFS('Po jménech'!$E$2:$E$2024,$B37,'Po jménech'!$J$2:$J$2024,16) -> 1 | AI37: =COUNTIFS('Po jménech'!$E$2:$E$2024,$B37,'Po jménech'!$J$2:$J$2024,8) -> 0 | AJ37: =COUNTIFS('Po jménech'!$E$2:$E$2024,$B37,'Po jménech'!$J$2:$J$2024,4) -> 1 | AK37: =COUNTIFS('Po jménech'!$E$2:$E$2024,$B37,'Po jménech'!$J$2:$J$2024,2) -> 2 | AL37: =COUNTIFS('Po jménech'!$E$2:$E$2024,$B37,'Po jménech'!$J$2:$J$2024,1) -> 8
A38: 35 | B38: Zeman Oto | H38: 1 | I38: 1 | J38: 4 | M38: 4 | N38: 9 | O38: 2 | P38: 7 | X38: 1 | Y38: 1 | AF38: 30 | AG38: =COUNTIFS('Po jménech'!$E$2:$E$2024,$B38) -> 16 | AH38: =COUNTIFS('Po jménech'!$E$2:$E$2024,$B38,'Po jménech'!$J$2:$J$2024,16) -> 0 | AI38: =COUNTIFS('Po jménech'!$E$2:$E$2024,$B38,'Po jménech'!$J$2:$J$2024,8) -> 0 | AJ38: =COUNTIFS('Po jménech'!$E$2:$E$2024,$B38,'Po jménech'!$J$2:$J$2024,4) -> 4 | AK38: =COUNTIFS('Po jménech'!$E$2:$E$2024,$B38,'Po jménech'!$J$2:$J$2024,2) -> 2 | AL38: =COUNTIFS('Po jménech'!$E$2:$E$2024,$B38,'Po jménech'!$J$2:$J$2024,1) -> 10
A39: 36 | B39: Bröschel Jan | O39: 2 | P39: 3 | Q39: 1 | R39: 1 | S39: 3 | T39: 4 | U39: 3 | V39: 5 | W39: 2 | Y39: 4 | Z39: 1 | AF39: 29 | AG39: =COUNTIFS('Po jménech'!$E$2:$E$2024,$B39) -> 19 | AH39: =COUNTIFS('Po jménech'!$E$2:$E$2024,$B39,'Po jménech'!$J$2:$J$2024,16) -> 0 | AI39: =COUNTIFS('Po jménech'!$E$2:$E$2024,$B39,'Po jménech'!$J$2:$J$2024,8) -> 0 | AJ39: =COUNTIFS('Po jménech'!$E$2:$E$2024,$B39,'Po jménech'!$J$2:$J$2024,4) -> 1 | AK39: =COUNTIFS('Po jménech'!$E$2:$E$2024,$B39,'Po jménech'!$J$2:$J$2024,2) -> 7 | AL39: =COUNTIFS('Po jménech'!$E$2:$E$2024,$B39,'Po jménech'!$J$2:$J$2024,1) -> 11
A40: 37 | B40: Tužil Pavel | W40: 4 | X40: 5 | Y40: 4 | Z40: 4 | AA40: 5 | AC40: 6 | AF40: 28 | AG40: =COUNTIFS('Po jménech'!$E$2:$E$2024,$B40) -> 19 | AH40: =COUNTIFS('Po jménech'!$E$2:$E$2024,$B40,'Po jménech'!$J$2:$J$2024,16) -> 0 | AI40: =COUNTIFS('Po jménech'!$E$2:$E$2024,$B40,'Po jménech'!$J$2:$J$2024,8) -> 0 | AJ40: =COUNTIFS('Po jménech'!$E$2:$E$2024,$B40,'Po jménech'!$J$2:$J$2024,4) -> 2 | AK40: =COUNTIFS('Po jménech'!$E$2:$E$2024,$B40,'Po jménech'!$J$2:$J$2024,2) -> 3 | AL40: =COUNTIFS('Po jménech'!$E$2:$E$2024,$B40,'Po jménech'!$J$2:$J$2024,1) -> 14
A41: 38 | B41: Škvor Jan | F41: 5 | G41: 1 | H41: 3 | I41: 5 | J41: 1 | K41: 2 | L41: 11 | AF41: 28 | AG41: =COUNTIFS('Po jménech'!$E$2:$E$2024,$B41) -> 13 | AH41: =COUNTIFS('Po jménech'!$E$2:$E$2024,$B41,'Po jménech'!$J$2:$J$2024,16) -> 0 | AI41: =COUNTIFS('Po jménech'!$E$2:$E$2024,$B41,'Po jménech'!$J$2:$J$2024,8) -> 1 | AJ41: =COUNTIFS('Po jménech'!$E$2:$E$2024,$B41,'Po jménech'!$J$2:$J$2024,4) -> 1 | AK41: =COUNTIFS('Po jménech'!$E$2:$E$2024,$B41,'Po jménech'!$J$2:$J$2024,2) -> 5 | AL41: =COUNTIFS('Po jménech'!$E$2:$E$2024,$B41,'Po jménech'!$J$2:$J$2024,1) -> 6
A42: 39 | B42: Mihok Michal | W42: 4 | X42: 1 | Y42: 2 | Z42: 6 | AA42: 2 | AB42: 1 | AC42: 5 | AD42: 6 | AE42: 1 | AF42: 28 | AG42: =COUNTIFS('Po jménech'!$E$2:$E$2024,$B42) -> 19 | AH42: =COUNTIFS('Po jménech'!$E$2:$E$2024,$B42,'Po jménech'!$J$2:$J$2024,16) -> 0 | AI42: =COUNTIFS('Po jménech'!$E$2:$E$2024,$B42,'Po jménech'!$J$2:$J$2024,8) -> 0 | AJ42: =COUNTIFS('Po jménech'!$E$2:$E$2024,$B42,'Po jménech'!$J$2:$J$2024,4) -> 1 | AK42: =COUNTIFS('Po jménech'!$E$2:$E$2024,$B42,'Po jménech'!$J$2:$J$2024,2) -> 6 | AL42: =COUNTIFS('Po jménech'!$E$2:$E$2024,$B42,'Po jménech'!$J$2:$J$2024,1) -> 12
A43: 40 | B43: Dorobant Miroslav | N43: 2 | O43: 2 | U43: 4 | V43: 2 | W43: 1 | Y43: 1 | Z43: 3 | AA43: 7 | AC43: 5 | AF43: 27 | AG43: =COUNTIFS('Po jménech'!$E$2:$E$2024,$B43) -> 16 | AH43: =COUNTIFS('Po jménech'!$E$2:$E$2024,$B43,'Po jménech'!$J$2:$J$2024,16) -> 0 | AI43: =COUNTIFS('Po jménech'!$E$2:$E$2024,$B43,'Po jménech'!$J$2:$J$2024,8) -> 0 | AJ43: =COUNTIFS('Po jménech'!$E$2:$E$2024,$B43,'Po jménech'!$J$2:$J$2024,4) -> 3 | AK43: =COUNTIFS('Po jménech'!$E$2:$E$2024,$B43,'Po jménech'!$J$2:$J$2024,2) -> 2 | AL43: =COUNTIFS('Po jménech'!$E$2:$E$2024,$B43,'Po jménech'!$J$2:$J$2024,1) -> 11
A44: 41 | B44: Praus Tomáš | V44: 2 | Y44: 2 | Z44: 4 | AA44: 1 | AB44: 5 | AC44: 4 | AD44: 4 | AE44: 5 | AF44: 27 | AG44: =COUNTIFS('Po jménech'!$E$2:$E$2024,$B44) -> 22 | AH44: =COUNTIFS('Po jménech'!$E$2:$E$2024,$B44,'Po jménech'!$J$2:$J$2024,16) -> 0 | AI44: =COUNTIFS('Po jménech'!$E$2:$E$2024,$B44,'Po jménech'!$J$2:$J$2024,8) -> 0 | AJ44: =COUNTIFS('Po jménech'!$E$2:$E$2024,$B44,'Po jménech'!$J$2:$J$2024,4) -> 1 | AK44: =COUNTIFS('Po jménech'!$E$2:$E$2024,$B44,'Po jménech'!$J$2:$J$2024,2) -> 2 | AL44: =COUNTIFS('Po jménech'!$E$2:$E$2024,$B44,'Po jménech'!$J$2:$J$2024,1) -> 19
A45: 42 | B45: Hajšman Ladislav | AB45: 10 | AC45: 11 | AD45: 3 | AE45: 3 | AF45: 27 | AG45: =COUNTIFS('Po jménech'!$E$2:$E$2024,$B45) -> 11 | AH45: =COUNTIFS('Po jménech'!$E$2:$E$2024,$B45,'Po jménech'!$J$2:$J$2024,16) -> 0 | AI45: =COUNTIFS('Po jménech'!$E$2:$E$2024,$B45,'Po jménech'!$J$2:$J$2024,8) -> 1 | AJ45: =COUNTIFS('Po jménech'!$E$2:$E$2024,$B45,'Po jménech'!$J$2:$J$2024,4) -> 2 | AK45: =COUNTIFS('Po jménech'!$E$2:$E$2024,$B45,'Po jménech'!$J$2:$J$2024,2) -> 3 | AL45: =COUNTIFS('Po jménech'!$E$2:$E$2024,$B45,'Po jménech'!$J$2:$J$2024,1) -> 5
A46: 43 | B46: Horák Michal | U46: 2 | X46: 2 | Y46: 1 | Z46: 4 | AA46: 3 | AB46: 1 | AC46: 3 | AD46: 4 | AE46: 5 | AF46: 25 | AG46: =COUNTIFS('Po jménech'!$E$2:$E$2024,$B46) -> 23 | AH46: =COUNTIFS('Po jménech'!$E$2:$E$2024,$B46,'Po jménech'!$J$2:$J$2024,16) -> 0 | AI46: =COUNTIFS('Po jménech'!$E$2:$E$2024,$B46,'Po jménech'!$J$2:$J$2024,8) -> 0 | AJ46: =COUNTIFS('Po jménech'!$E$2:$E$2024,$B46,'Po jménech'!$J$2:$J$2024,4) -> 0 | AK46: =COUNTIFS('Po jménech'!$E$2:$E$2024,$B46,'Po jménech'!$J$2:$J$2024,2) -> 2 | AL46: =COUNTIFS('Po jménech'!$E$2:$E$2024,$B46,'Po jménech'!$J$2:$J$2024,1) -> 21
A47: 44 | B47: Vančura Tomáš | P47: 1 | Q47: 1 | W47: 3 | X47: 3 | Y47: 2 | Z47: 3 | AA47: 2 | AB47: 2 | AC47: 5 | AD47: 1 | AE47: 2 | AF47: 25 | AG47: =COUNTIFS('Po jménech'!$E$2:$E$2024,$B47) -> 24 | AH47: =COUNTIFS('Po jménech'!$E$2:$E$2024,$B47,'Po jménech'!$J$2:$J$2024,16) -> 0 | AI47: =COUNTIFS('Po jménech'!$E$2:$E$2024,$B47,'Po jménech'!$J$2:$J$2024,8) -> 0 | AJ47: =COUNTIFS('Po jménech'!$E$2:$E$2024,$B47,'Po jménech'!$J$2:$J$2024,4) -> 0 | AK47: =COUNTIFS('Po jménech'!$E$2:$E$2024,$B47,'Po jménech'!$J$2:$J$2024,2) -> 1 | AL47: =COUNTIFS('Po jménech'!$E$2:$E$2024,$B47,'Po jménech'!$J$2:$J$2024,1) -> 23
A48: 45 | B48: Onderek Tomáš | I48: 2 | R48: 1 | S48: 1 | T48: 4 | U48: 17 | AF48: 25 | AG48: =COUNTIFS('Po jménech'!$E$2:$E$2024,$B48) -> 8 | AH48: =COUNTIFS('Po jménech'!$E$2:$E$2024,$B48,'Po jménech'!$J$2:$J$2024,16) -> 1 | AI48: =COUNTIFS('Po jménech'!$E$2:$E$2024,$B48,'Po jménech'!$J$2:$J$2024,8) -> 0 | AJ48: =COUNTIFS('Po jménech'!$E$2:$E$2024,$B48,'Po jménech'!$J$2:$J$2024,4) -> 0 | AK48: =COUNTIFS('Po jménech'!$E$2:$E$2024,$B48,'Po jménech'!$J$2:$J$2024,2) -> 2 | AL48: =COUNTIFS('Po jménech'!$E$2:$E$2024,$B48,'Po jménech'!$J$2:$J$2024,1) -> 5
A49: 46 | B49: Kavan Petr | R49: 3 | S49: 5 | T49: 4 | U49: 4 | W49: 2 | X49: 3 | Y49: 1 | Z49: 1 | AF49: 23 | AG49: =COUNTIFS('Po jménech'!$E$2:$E$2024,$B49) -> 19 | AH49: =COUNTIFS('Po jménech'!$E$2:$E$2024,$B49,'Po jménech'!$J$2:$J$2024,16) -> 0 | AI49: =COUNTIFS('Po jménech'!$E$2:$E$2024,$B49,'Po jménech'!$J$2:$J$2024,8) -> 0 | AJ49: =COUNTIFS('Po jménech'!$E$2:$E$2024,$B49,'Po jménech'!$J$2:$J$2024,4) -> 0 | AK49: =COUNTIFS('Po jménech'!$E$2:$E$2024,$B49,'Po jménech'!$J$2:$J$2024,2) -> 4 | AL49: =COUNTIFS('Po jménech'!$E$2:$E$2024,$B49,'Po jménech'!$J$2:$J$2024,1) -> 15
A50: 47 | B50: Zabloudil Štěpán | C50: 1 | D50: 4 | E50: 16 | H50: 1 | N50: 1 | AF50: 23 | AG50: =COUNTIFS('Po jménech'!$E$2:$E$2024,$B50) -> 7 | AH50: =COUNTIFS('Po jménech'!$E$2:$E$2024,$B50,'Po jménech'!$J$2:$J$2024,16) -> 0 | AI50: =COUNTIFS('Po jménech'!$E$2:$E$2024,$B50,'Po jménech'!$J$2:$J$2024,8) -> 1 | AJ50: =COUNTIFS('Po jménech'!$E$2:$E$2024,$B50,'Po jménech'!$J$2:$J$2024,4) -> 3 | AK50: =COUNTIFS('Po jménech'!$E$2:$E$2024,$B50,'Po jménech'!$J$2:$J$2024,2) -> 0 | AL50: =COUNTIFS('Po jménech'!$E$2:$E$2024,$B50,'Po jménech'!$J$2:$J$2024,1) -> 3
A51: 48 | B51: Marič Márijo | W51: 1 | X51: 2 | Y51: 3 | Z51: 2 | AB51: 2 | AC51: 6 | AD51: 3 | AE51: 4 | AF51: 23 | AG51: =COUNTIFS('Po jménech'!$E$2:$E$2024,$B51) -> 20 | AH51: =COUNTIFS('Po jménech'!$E$2:$E$2024,$B51,'Po jménech'!$J$2:$J$2024,16) -> 0 | AI51: =COUNTIFS('Po jménech'!$E$2:$E$2024,$B51,'Po jménech'!$J$2:$J$2024,8) -> 0 | AJ51: =COUNTIFS('Po jménech'!$E$2:$E$2024,$B51,'Po jménech'!$J$2:$J$2024,4) -> 0 | AK51: =COUNTIFS('Po jménech'!$E$2:$E$2024,$B51,'Po jménech'!$J$2:$J$2024,2) -> 3 | AL51: =COUNTIFS('Po jménech'!$E$2:$E$2024,$B51,'Po jménech'!$J$2:$J$2024,1) -> 17
A52: 49 | B52: Mrázek David | Z52: 1 | AA52: 9 | AB52: 9 | AC52: 2 | AE52: 2 | AF52: 23 | AG52: =COUNTIFS('Po jménech'!$E$2:$E$2024,$B52) -> 11 | AH52: =COUNTIFS('Po jménech'!$E$2:$E$2024,$B52,'Po jménech'!$J$2:$J$2024,16) -> 0 | AI52: =COUNTIFS('Po jménech'!$E$2:$E$2024,$B52,'Po jménech'!$J$2:$J$2024,8) -> 1 | AJ52: =COUNTIFS('Po jménech'!$E$2:$E$2024,$B52,'Po jménech'!$J$2:$J$2024,4) -> 1 | AK52: =COUNTIFS('Po jménech'!$E$2:$E$2024,$B52,'Po jménech'!$J$2:$J$2024,2) -> 2 | AL52: =COUNTIFS('Po jménech'!$E$2:$E$2024,$B52,'Po jménech'!$J$2:$J$2024,1) -> 7
A53: 50 | B53: Velíšek Josef | V53: 3 | W53: 2 | X53: 2 | Y53: 4 | Z53: 4 | AA53: 4 | AC53: 1 | AD53: 2 | AF53: 22 | AG53: =COUNTIFS('Po jménech'!$E$2:$E$2024,$B53) -> 20 | AH53: =COUNTIFS('Po jménech'!$E$2:$E$2024,$B53,'Po jménech'!$J$2:$J$2024,16) -> 0 | AI53: =COUNTIFS('Po jménech'!$E$2:$E$2024,$B53,'Po jménech'!$J$2:$J$2024,8) -> 0 | AJ53: =COUNTIFS('Po jménech'!$E$2:$E$2024,$B53,'Po jménech'!$J$2:$J$2024,4) -> 0 | AK53: =COUNTIFS('Po jménech'!$E$2:$E$2024,$B53,'Po jménech'!$J$2:$J$2024,2) -> 2 | AL53: =COUNTIFS('Po jménech'!$E$2:$E$2024,$B53,'Po jménech'!$J$2:$J$2024,1) -> 18
A54: 51 | B54: Kulas René | Y54: 2 | Z54: 2 | AA54: 3 | AB54: 3 | AC54: 1 | AD54: 5 | AE54: 4 | AF54: 20 | AG54: =COUNTIFS('Po jménech'!$E$2:$E$2024,$B54) -> 18 | AH54: =COUNTIFS('Po jménech'!$E$2:$E$2024,$B54,'Po jménech'!$J$2:$J$2024,16) -> 0 | AI54: =COUNTIFS('Po jménech'!$E$2:$E$2024,$B54,'Po jménech'!$J$2:$J$2024,8) -> 0 | AJ54: =COUNTIFS('Po jménech'!$E$2:$E$2024,$B54,'Po jménech'!$J$2:$J$2024,4) -> 0 | AK54: =COUNTIFS('Po jménech'!$E$2:$E$2024,$B54,'Po jménech'!$J$2:$J$2024,2) -> 2 | AL54: =COUNTIFS('Po jménech'!$E$2:$E$2024,$B54,'Po jménech'!$J$2:$J$2024,1) -> 16
A55: 52 | B55: Stettinger Georg | AC55: 5 | AD55: 4 | AE55: 10 | AF55: 19 | AG55: =COUNTIFS('Po jménech'!$E$2:$E$2024,$B55) -> 10 | AH55: =COUNTIFS('Po jménech'!$E$2:$E$2024,$B55,'Po jménech'!$J$2:$J$2024,16) -> 0 | AI55: =COUNTIFS('Po jménech'!$E$2:$E$2024,$B55,'Po jménech'!$J$2:$J$2024,8) -> 1 | AJ55: =COUNTIFS('Po jménech'!$E$2:$E$2024,$B55,'Po jménech'!$J$2:$J$2024,4) -> 0 | AK55: =COUNTIFS('Po jménech'!$E$2:$E$2024,$B55,'Po jménech'!$J$2:$J$2024,2) -> 2 | AL55: =COUNTIFS('Po jménech'!$E$2:$E$2024,$B55,'Po jménech'!$J$2:$J$2024,1) -> 7
A56: 53 | B56: Kůs Erik | V56: 3 | W56: 5 | X56: 3 | Y56: 2 | Z56: 1 | AA56: 2 | AB56: 2 | AC56: 1 | AF56: 19 | AG56: =COUNTIFS('Po jménech'!$E$2:$E$2024,$B56) -> 18 | AH56: =COUNTIFS('Po jménech'!$E$2:$E$2024,$B56,'Po jménech'!$J$2:$J$2024,16) -> 0 | AI56: =COUNTIFS('Po jménech'!$E$2:$E$2024,$B56,'Po jménech'!$J$2:$J$2024,8) -> 0 | AJ56: =COUNTIFS('Po jménech'!$E$2:$E$2024,$B56,'Po jménech'!$J$2:$J$2024,4) -> 0 | AK56: =COUNTIFS('Po jménech'!$E$2:$E$2024,$B56,'Po jménech'!$J$2:$J$2024,2) -> 1 | AL56: =COUNTIFS('Po jménech'!$E$2:$E$2024,$B56,'Po jménech'!$J$2:$J$2024,1) -> 17
A57: 54 | B57: Ratkovič Radovan | F57: 19 | AF57: 19 | AG57: =COUNTIFS('Po jménech'!$E$2:$E$2024,$B57) -> 3 | AH57: =COUNTIFS('Po jménech'!$E$2:$E$2024,$B57,'Po jménech'!$J$2:$J$2024,16) -> 1 | AI57: =COUNTIFS('Po jménech'!$E$2:$E$2024,$B57,'Po jménech'!$J$2:$J$2024,8) -> 0 | AJ57: =COUNTIFS('Po jménech'!$E$2:$E$2024,$B57,'Po jménech'!$J$2:$J$2024,4) -> 0 | AK57: =COUNTIFS('Po jménech'!$E$2:$E$2024,$B57,'Po jménech'!$J$2:$J$2024,2) -> 1 | AL57: =COUNTIFS('Po jménech'!$E$2:$E$2024,$B57,'Po jménech'!$J$2:$J$2024,1) -> 1
A58: 55 | B58: Strádal Jan | V58: 2 | X58: 1 | Z58: 2 | AA58: 2 | AB58: 1 | AC58: 3 | AD58: 3 | AE58: 4 | AF58: 18 | AG58: =COUNTIFS('Po jménech'!$E$2:$E$2024,$B58) -> 17 | AH58: =COUNTIFS('Po jménech'!$E$2:$E$2024,$B58,'Po jménech'!$J$2:$J$2024,16) -> 0 | AI58: =COUNTIFS('Po jménech'!$E$2:$E$2024,$B58,'Po jménech'!$J$2:$J$2024,8) -> 0 | AJ58: =COUNTIFS('Po jménech'!$E$2:$E$2024,$B58,'Po jménech'!$J$2:$J$2024,4) -> 0 | AK58: =COUNTIFS('Po jménech'!$E$2:$E$2024,$B58,'Po jménech'!$J$2:$J$2024,2) -> 1 | AL58: =COUNTIFS('Po jménech'!$E$2:$E$2024,$B58,'Po jménech'!$J$2:$J$2024,1) -> 16
A59: 56 | B59: Daněk Vojtěch | R59: 2 | S59: 2 | T59: 9 | AE59: 4 | AF59: 17 | AG59: =COUNTIFS('Po jménech'!$E$2:$E$2024,$B59) -> 7 | AH59: =COUNTIFS('Po jménech'!$E$2:$E$2024,$B59,'Po jménech'!$J$2:$J$2024,16) -> 0 | AI59: =COUNTIFS('Po jménech'!$E$2:$E$2024,$B59,'Po jménech'!$J$2:$J$2024,8) -> 1 | AJ59: =COUNTIFS('Po jménech'!$E$2:$E$2024,$B59,'Po jménech'!$J$2:$J$2024,4) -> 0 | AK59: =COUNTIFS('Po jménech'!$E$2:$E$2024,$B59,'Po jménech'!$J$2:$J$2024,2) -> 3 | AL59: =COUNTIFS('Po jménech'!$E$2:$E$2024,$B59,'Po jménech'!$J$2:$J$2024,1) -> 3
A60: 57 | B60: Pavlovič Dušan | C60: 16 | D60: 1 | AF60: 17 | AG60: =COUNTIFS('Po jménech'!$E$2:$E$2024,$B60) -> 2 | AH60: =COUNTIFS('Po jménech'!$E$2:$E$2024,$B60,'Po jménech'!$J$2:$J$2024,16) -> 1 | AI60: =COUNTIFS('Po jménech'!$E$2:$E$2024,$B60,'Po jménech'!$J$2:$J$2024,8) -> 0 | AJ60: =COUNTIFS('Po jménech'!$E$2:$E$2024,$B60,'Po jménech'!$J$2:$J$2024,4) -> 0 | AK60: =COUNTIFS('Po jménech'!$E$2:$E$2024,$B60,'Po jménech'!$J$2:$J$2024,2) -> 0 | AL60: =COUNTIFS('Po jménech'!$E$2:$E$2024,$B60,'Po jménech'!$J$2:$J$2024,1) -> 1
A61: 58 | B61: Jelínek Petr | T61: 1 | U61: 1 | V61: 4 | W61: 4 | X61: 2 | Y61: 1 | AB61: 1 | AC61: 1 | AE61: 1 | AF61: 16 | AG61: =COUNTIFS('Po jménech'!$E$2:$E$2024,$B61) -> 15 | AH61: =COUNTIFS('Po jménech'!$E$2:$E$2024,$B61,'Po jménech'!$J$2:$J$2024,16) -> 0 | AI61: =COUNTIFS('Po jménech'!$E$2:$E$2024,$B61,'Po jménech'!$J$2:$J$2024,8) -> 0 | AJ61: =COUNTIFS('Po jménech'!$E$2:$E$2024,$B61,'Po jménech'!$J$2:$J$2024,4) -> 0 | AK61: =COUNTIFS('Po jménech'!$E$2:$E$2024,$B61,'Po jménech'!$J$2:$J$2024,2) -> 1 | AL61: =COUNTIFS('Po jménech'!$E$2:$E$2024,$B61,'Po jménech'!$J$2:$J$2024,1) -> 14
A62: 59 | B62: Vobořil Zdeněk | Q62: 1 | S62: 4 | T62: 2 | X62: 7 | Y62: 2 | AF62: 16 | AG62: =COUNTIFS('Po jménech'!$E$2:$E$2024,$B62) -> 12 | AH62: =COUNTIFS('Po jménech'!$E$2:$E$2024,$B62,'Po jménech'!$J$2:$J$2024,16) -> 0 | AI62: =COUNTIFS('Po jménech'!$E$2:$E$2024,$B62,'Po jménech'!$J$2:$J$2024,8) -> 0 | AJ62: =COUNTIFS('Po jménech'!$E$2:$E$2024,$B62,'Po jménech'!$J$2:$J$2024,4) -> 1 | AK62: =COUNTIFS('Po jménech'!$E$2:$E$2024,$B62,'Po jménech'!$J$2:$J$2024,2) -> 1 | AL62: =COUNTIFS('Po jménech'!$E$2:$E$2024,$B62,'Po jménech'!$J$2:$J$2024,1) -> 10
A63: 60 | B63: Bohůnek Jindřich | S63: 1 | T63: 3 | U63: 5 | Z63: 6 | AF63: 15 | AG63: =COUNTIFS('Po jménech'!$E$2:$E$2024,$B63) -> 9 | AH63: =COUNTIFS('Po jménech'!$E$2:$E$2024,$B63,'Po jménech'!$J$2:$J$2024,16) -> 0 | AI63: =COUNTIFS('Po jménech'!$E$2:$E$2024,$B63,'Po jménech'!$J$2:$J$2024,8) -> 0 | AJ63: =COUNTIFS('Po jménech'!$E$2:$E$2024,$B63,'Po jménech'!$J$2:$J$2024,4) -> 1 | AK63: =COUNTIFS('Po jménech'!$E$2:$E$2024,$B63,'Po jménech'!$J$2:$J$2024,2) -> 3 | AL63: =COUNTIFS('Po jménech'!$E$2:$E$2024,$B63,'Po jménech'!$J$2:$J$2024,1) -> 5
A64: 61 | B64: Janošťák Aleš | W64: 1 | Z64: 4 | AA64: 1 | AB64: 2 | AC64: 1 | AD64: 6 | AF64: 15 | AG64: =COUNTIFS('Po jménech'!$E$2:$E$2024,$B64) -> 12 | AH64: =COUNTIFS('Po jménech'!$E$2:$E$2024,$B64,'Po jménech'!$J$2:$J$2024,16) -> 0 | AI64: =COUNTIFS('Po jménech'!$E$2:$E$2024,$B64,'Po jménech'!$J$2:$J$2024,8) -> 0 | AJ64: =COUNTIFS('Po jménech'!$E$2:$E$2024,$B64,'Po jménech'!$J$2:$J$2024,4) -> 1 | AK64: =COUNTIFS('Po jménech'!$E$2:$E$2024,$B64,'Po jménech'!$J$2:$J$2024,2) -> 0 | AL64: =COUNTIFS('Po jménech'!$E$2:$E$2024,$B64,'Po jménech'!$J$2:$J$2024,1) -> 11
A65: 62 | B65: Galuška Martin | V65: 4 | W65: 2 | X65: 3 | Y65: 1 | AA65: 1 | AC65: 2 | AD65: 1 | AF65: 14 | AG65: =COUNTIFS('Po jménech'!$E$2:$E$2024,$B65) -> 10 | AH65: =COUNTIFS('Po jménech'!$E$2:$E$2024,$B65,'Po jménech'!$J$2:$J$2024,16) -> 0 | AI65: =COUNTIFS('Po jménech'!$E$2:$E$2024,$B65,'Po jménech'!$J$2:$J$2024,8) -> 0 | AJ65: =COUNTIFS('Po jménech'!$E$2:$E$2024,$B65,'Po jménech'!$J$2:$J$2024,4) -> 1 | AK65: =COUNTIFS('Po jménech'!$E$2:$E$2024,$B65,'Po jménech'!$J$2:$J$2024,2) -> 1 | AL65: =COUNTIFS('Po jménech'!$E$2:$E$2024,$B65,'Po jménech'!$J$2:$J$2024,1) -> 8
A66: 63 | B66: Lebduška Filip | W66: 1 | Y66: 2 | AA66: 3 | AB66: 4 | AC66: 4 | AF66: 14 | AG66: =COUNTIFS('Po jménech'!$E$2:$E$2024,$B66) -> 12 | AH66: =COUNTIFS('Po jménech'!$E$2:$E$2024,$B66,'Po jménech'!$J$2:$J$2024,16) -> 0 | AI66: =COUNTIFS('Po jménech'!$E$2:$E$2024,$B66,'Po jménech'!$J$2:$J$2024,8) -> 0 | AJ66: =COUNTIFS('Po jménech'!$E$2:$E$2024,$B66,'Po jménech'!$J$2:$J$2024,4) -> 0 | AK66: =COUNTIFS('Po jménech'!$E$2:$E$2024,$B66,'Po jménech'!$J$2:$J$2024,2) -> 2 | AL66: =COUNTIFS('Po jménech'!$E$2:$E$2024,$B66,'Po jménech'!$J$2:$J$2024,1) -> 10
A67: 64 | B67: Trojáček Martin | H67: 4 | I67: 3 | J67: 1 | K67: 3 | L67: 1 | M67: 2 | AF67: 14 | AG67: =COUNTIFS('Po jménech'!$E$2:$E$2024,$B67) -> 9 | AH67: =COUNTIFS('Po jménech'!$E$2:$E$2024,$B67,'Po jménech'!$J$2:$J$2024,16) -> 0 | AI67: =COUNTIFS('Po jménech'!$E$2:$E$2024,$B67,'Po jménech'!$J$2:$J$2024,8) -> 0 | AJ67: =COUNTIFS('Po jménech'!$E$2:$E$2024,$B67,'Po jménech'!$J$2:$J$2024,4) -> 1 | AK67: =COUNTIFS('Po jménech'!$E$2:$E$2024,$B67,'Po jménech'!$J$2:$J$2024,2) -> 2 | AL67: =COUNTIFS('Po jménech'!$E$2:$E$2024,$B67,'Po jménech'!$J$2:$J$2024,1) -> 6
A68: 65 | B68: Ugrin Milan | Z68: 2 | AA68: 2 | AB68: 1 | AC68: 4 | AD68: 2 | AE68: 2 | AF68: 13 | AG68: =COUNTIFS('Po jménech'!$E$2:$E$2024,$B68) -> 13 | AH68: =COUNTIFS('Po jménech'!$E$2:$E$2024,$B68,'Po jménech'!$J$2:$J$2024,16) -> 0 | AI68: =COUNTIFS('Po jménech'!$E$2:$E$2024,$B68,'Po jménech'!$J$2:$J$2024,8) -> 0 | AJ68: =COUNTIFS('Po jménech'!$E$2:$E$2024,$B68,'Po jménech'!$J$2:$J$2024,4) -> 0 | AK68: =COUNTIFS('Po jménech'!$E$2:$E$2024,$B68,'Po jménech'!$J$2:$J$2024,2) -> 0 | AL68: =COUNTIFS('Po jménech'!$E$2:$E$2024,$B68,'Po jménech'!$J$2:$J$2024,1) -> 13
A69: 66 | B69: Aust Jiří | G69: 1 | I69: 3 | J69: 2 | R69: 2 | S69: 2 | T69: 3 | AF69: 13 | AG69: =COUNTIFS('Po jménech'!$E$2:$E$2024,$B69) -> 11 | AH69: =COUNTIFS('Po jménech'!$E$2:$E$2024,$B69,'Po jménech'!$J$2:$J$2024,16) -> 0 | AI69: =COUNTIFS('Po jménech'!$E$2:$E$2024,$B69,'Po jménech'!$J$2:$J$2024,8) -> 0 | AJ69: =COUNTIFS('Po jménech'!$E$2:$E$2024,$B69,'Po jménech'!$J$2:$J$2024,4) -> 0 | AK69: =COUNTIFS('Po jménech'!$E$2:$E$2024,$B69,'Po jménech'!$J$2:$J$2024,2) -> 2 | AL69: =COUNTIFS('Po jménech'!$E$2:$E$2024,$B69,'Po jménech'!$J$2:$J$2024,1) -> 9
A70: 67 | B70: Markovic Damjan | AC70: 2 | AD70: 4 | AE70: 7 | AF70: 13 | AG70: =COUNTIFS('Po jménech'!$E$2:$E$2024,$B70) -> 10 | AH70: =COUNTIFS('Po jménech'!$E$2:$E$2024,$B70,'Po jménech'!$J$2:$J$2024,16) -> 0 | AI70: =COUNTIFS('Po jménech'!$E$2:$E$2024,$B70,'Po jménech'!$J$2:$J$2024,8) -> 0 | AJ70: =COUNTIFS('Po jménech'!$E$2:$E$2024,$B70,'Po jménech'!$J$2:$J$2024,4) -> 1 | AK70: =COUNTIFS('Po jménech'!$E$2:$E$2024,$B70,'Po jménech'!$J$2:$J$2024,2) -> 0 | AL70: =COUNTIFS('Po jménech'!$E$2:$E$2024,$B70,'Po jménech'!$J$2:$J$2024,1) -> 9
A71: 68 | B71: Trhlík Adam | AA71: 2 | AB71: 5 | AC71: 5 | AD71: 1 | AF71: 13 | AG71: =COUNTIFS('Po jménech'!$E$2:$E$2024,$B71) -> 9 | AH71: =COUNTIFS('Po jménech'!$E$2:$E$2024,$B71,'Po jménech'!$J$2:$J$2024,16) -> 0 | AI71: =COUNTIFS('Po jménech'!$E$2:$E$2024,$B71,'Po jménech'!$J$2:$J$2024,8) -> 0 | AJ71: =COUNTIFS('Po jménech'!$E$2:$E$2024,$B71,'Po jménech'!$J$2:$J$2024,4) -> 1 | AK71: =COUNTIFS('Po jménech'!$E$2:$E$2024,$B71,'Po jménech'!$J$2:$J$2024,2) -> 1 | AL71: =COUNTIFS('Po jménech'!$E$2:$E$2024,$B71,'Po jménech'!$J$2:$J$2024,1) -> 7
A72: 69 | B72: Vacek Jiří | G72: 1 | U72: 1 | W72: 1 | X72: 4 | Y72: 4 | AA72: 1 | AF72: 12 | AG72: =COUNTIFS('Po jménech'!$E$2:$E$2024,$B72) -> 12 | AH72: =COUNTIFS('Po jménech'!$E$2:$E$2024,$B72,'Po jménech'!$J$2:$J$2024,16) -> 0 | AI72: =COUNTIFS('Po jménech'!$E$2:$E$2024,$B72,'Po jménech'!$J$2:$J$2024,8) -> 0 | AJ72: =COUNTIFS('Po jménech'!$E$2:$E$2024,$B72,'Po jménech'!$J$2:$J$2024,4) -> 0 | AK72: =COUNTIFS('Po jménech'!$E$2:$E$2024,$B72,'Po jménech'!$J$2:$J$2024,2) -> 0 | AL72: =COUNTIFS('Po jménech'!$E$2:$E$2024,$B72,'Po jménech'!$J$2:$J$2024,1) -> 12
A73: 70 | B73: Moravec Lukáš | Y73: 2 | AB73: 1 | AC73: 4 | AD73: 4 | AE73: 1 | AF73: 12 | AG73: =COUNTIFS('Po jménech'!$E$2:$E$2024,$B73) -> 12 | AH73: =COUNTIFS('Po jménech'!$E$2:$E$2024,$B73,'Po jménech'!$J$2:$J$2024,16) -> 0 | AI73: =COUNTIFS('Po jménech'!$E$2:$E$2024,$B73,'Po jménech'!$J$2:$J$2024,8) -> 0 | AJ73: =COUNTIFS('Po jménech'!$E$2:$E$2024,$B73,'Po jménech'!$J$2:$J$2024,4) -> 0 | AK73: =COUNTIFS('Po jménech'!$E$2:$E$2024,$B73,'Po jménech'!$J$2:$J$2024,2) -> 0 | AL73: =COUNTIFS('Po jménech'!$E$2:$E$2024,$B73,'Po jménech'!$J$2:$J$2024,1) -> 12
A74: 71 | B74: Vondráček Petr | U74: 1 | W74: 1 | Y74: 1 | AA74: 4 | AB74: 2 | AD74: 1 | AE74: 1 | AF74: 11 | AG74: =COUNTIFS('Po jménech'!$E$2:$E$2024,$B74) -> 11 | AH74: =COUNTIFS('Po jménech'!$E$2:$E$2024,$B74,'Po jménech'!$J$2:$J$2024,16) -> 0 | AI74: =COUNTIFS('Po jménech'!$E$2:$E$2024,$B74,'Po jménech'!$J$2:$J$2024,8) -> 0 | AJ74: =COUNTIFS('Po jménech'!$E$2:$E$2024,$B74,'Po jménech'!$J$2:$J$2024,4) -> 0 | AK74: =COUNTIFS('Po jménech'!$E$2:$E$2024,$B74,'Po jménech'!$J$2:$J$2024,2) -> 0 | AL74: =COUNTIFS('Po jménech'!$E$2:$E$2024,$B74,'Po jménech'!$J$2:$J$2024,1) -> 11
A75: 72 | B75: Nohynek Dušan | K75: 1 | L75: 3 | V75: 5 | X75: 2 | AF75: 11 | AG75: =COUNTIFS('Po jménech'!$E$2:$E$2024,$B75) -> 7 | AH75: =COUNTIFS('Po jménech'!$E$2:$E$2024,$B75,'Po jménech'!$J$2:$J$2024,16) -> 0 | AI75: =COUNTIFS('Po jménech'!$E$2:$E$2024,$B75,'Po jménech'!$J$2:$J$2024,8) -> 0 | AJ75: =COUNTIFS('Po jménech'!$E$2:$E$2024,$B75,'Po jménech'!$J$2:$J$2024,4) -> 1 | AK75: =COUNTIFS('Po jménech'!$E$2:$E$2024,$B75,'Po jménech'!$J$2:$J$2024,2) -> 1 | AL75: =COUNTIFS('Po jménech'!$E$2:$E$2024,$B75,'Po jménech'!$J$2:$J$2024,1) -> 5
A76: 73 | B76: Majerčík Radko | R76: 1 | S76: 1 | T76: 1 | U76: 4 | V76: 4 | AF76: 11 | AG76: =COUNTIFS('Po jménech'!$E$2:$E$2024,$B76) -> 10 | AH76: =COUNTIFS('Po jménech'!$E$2:$E$2024,$B76,'Po jménech'!$J$2:$J$2024,16) -> 0 | AI76: =COUNTIFS('Po jménech'!$E$2:$E$2024,$B76,'Po jménech'!$J$2:$J$2024,8) -> 0 | AJ76: =COUNTIFS('Po jménech'!$E$2:$E$2024,$B76,'Po jménech'!$J$2:$J$2024,4) -> 0 | AK76: =COUNTIFS('Po jménech'!$E$2:$E$2024,$B76,'Po jménech'!$J$2:$J$2024,2) -> 1 | AL76: =COUNTIFS('Po jménech'!$E$2:$E$2024,$B76,'Po jménech'!$J$2:$J$2024,1) -> 9
A77: 74 | B77: Mika Radek | F77: 4 | G77: 1 | H77: 4 | I77: 1 | AF77: 10 | AG77: =COUNTIFS('Po jménech'!$E$2:$E$2024,$B77) -> 5 | AH77: =COUNTIFS('Po jménech'!$E$2:$E$2024,$B77,'Po jménech'!$J$2:$J$2024,16) -> 0 | AI77: =COUNTIFS('Po jménech'!$E$2:$E$2024,$B77,'Po jménech'!$J$2:$J$2024,8) -> 0 | AJ77: =COUNTIFS('Po jménech'!$E$2:$E$2024,$B77,'Po jménech'!$J$2:$J$2024,4) -> 1 | AK77: =COUNTIFS('Po jménech'!$E$2:$E$2024,$B77,'Po jménech'!$J$2:$J$2024,2) -> 2 | AL77: =COUNTIFS('Po jménech'!$E$2:$E$2024,$B77,'Po jménech'!$J$2:$J$2024,1) -> 2
A78: 75 | B78: Jovchevski Martin | AC78: 1 | AD78: 4 | AE78: 5 | AF78: 10 | AG78: =COUNTIFS('Po jménech'!$E$2:$E$2024,$B78) -> 9 | AH78: =COUNTIFS('Po jménech'!$E$2:$E$2024,$B78,'Po jménech'!$J$2:$J$2024,16) -> 0 | AI78: =COUNTIFS('Po jménech'!$E$2:$E$2024,$B78,'Po jménech'!$J$2:$J$2024,8) -> 0 | AJ78: =COUNTIFS('Po jménech'!$E$2:$E$2024,$B78,'Po jménech'!$J$2:$J$2024,4) -> 0 | AK78: =COUNTIFS('Po jménech'!$E$2:$E$2024,$B78,'Po jménech'!$J$2:$J$2024,2) -> 1 | AL78: =COUNTIFS('Po jménech'!$E$2:$E$2024,$B78,'Po jménech'!$J$2:$J$2024,1) -> 8
A79: 76 | B79: Balan Arivukkannan | R79: 1 | X79: 1 | Y79: 1 | Z79: 1 | AA79: 1 | AB79: 1 | AC79: 1 | AD79: 3 | AF79: 10 | AG79: =COUNTIFS('Po jménech'!$E$2:$E$2024,$B79) -> 10 | AH79: =COUNTIFS('Po jménech'!$E$2:$E$2024,$B79,'Po jménech'!$J$2:$J$2024,16) -> 0 | AI79: =COUNTIFS('Po jménech'!$E$2:$E$2024,$B79,'Po jménech'!$J$2:$J$2024,8) -> 0 | AJ79: =COUNTIFS('Po jménech'!$E$2:$E$2024,$B79,'Po jménech'!$J$2:$J$2024,4) -> 0 | AK79: =COUNTIFS('Po jménech'!$E$2:$E$2024,$B79,'Po jménech'!$J$2:$J$2024,2) -> 0 | AL79: =COUNTIFS('Po jménech'!$E$2:$E$2024,$B79,'Po jménech'!$J$2:$J$2024,1) -> 10
A80: 77 | B80: Šindelář Pavel | S80: 2 | T80: 1 | U80: 1 | V80: 3 | W80: 2 | AF80: 9 | AG80: =COUNTIFS('Po jménech'!$E$2:$E$2024,$B80) -> 9 | AH80: =COUNTIFS('Po jménech'!$E$2:$E$2024,$B80,'Po jménech'!$J$2:$J$2024,16) -> 0 | AI80: =COUNTIFS('Po jménech'!$E$2:$E$2024,$B80,'Po jménech'!$J$2:$J$2024,8) -> 0 | AJ80: =COUNTIFS('Po jménech'!$E$2:$E$2024,$B80,'Po jménech'!$J$2:$J$2024,4) -> 0 | AK80: =COUNTIFS('Po jménech'!$E$2:$E$2024,$B80,'Po jménech'!$J$2:$J$2024,2) -> 0 | AL80: =COUNTIFS('Po jménech'!$E$2:$E$2024,$B80,'Po jménech'!$J$2:$J$2024,1) -> 9
A81: 78 | B81: Kopecký Tomáš | K81: 2 | L81: 1 | M81: 2 | X81: 1 | Z81: 2 | AA81: 1 | AF81: 9 | AG81: =COUNTIFS('Po jménech'!$E$2:$E$2024,$B81) -> 9 | AH81: =COUNTIFS('Po jménech'!$E$2:$E$2024,$B81,'Po jménech'!$J$2:$J$2024,16) -> 0 | AI81: =COUNTIFS('Po jménech'!$E$2:$E$2024,$B81,'Po jménech'!$J$2:$J$2024,8) -> 0 | AJ81: =COUNTIFS('Po jménech'!$E$2:$E$2024,$B81,'Po jménech'!$J$2:$J$2024,4) -> 0 | AK81: =COUNTIFS('Po jménech'!$E$2:$E$2024,$B81,'Po jménech'!$J$2:$J$2024,2) -> 0 | AL81: =COUNTIFS('Po jménech'!$E$2:$E$2024,$B81,'Po jménech'!$J$2:$J$2024,1) -> 9
A82: 79 | B82: Frei Petr | L82: 1 | N82: 8 | AF82: 9 | AG82: =COUNTIFS('Po jménech'!$E$2:$E$2024,$B82) -> 2 | AH82: =COUNTIFS('Po jménech'!$E$2:$E$2024,$B82,'Po jménech'!$J$2:$J$2024,16) -> 0 | AI82: =COUNTIFS('Po jménech'!$E$2:$E$2024,$B82,'Po jménech'!$J$2:$J$2024,8) -> 1 | AJ82: =COUNTIFS('Po jménech'!$E$2:$E$2024,$B82,'Po jménech'!$J$2:$J$2024,4) -> 0 | AK82: =COUNTIFS('Po jménech'!$E$2:$E$2024,$B82,'Po jménech'!$J$2:$J$2024,2) -> 0 | AL82: =COUNTIFS('Po jménech'!$E$2:$E$2024,$B82,'Po jménech'!$J$2:$J$2024,1) -> 1
A83: 80 | B83: Brancuský Petr | X83: 2 | Y83: 4 | Z83: 3 | AF83: 9 | AG83: =COUNTIFS('Po jménech'!$E$2:$E$2024,$B83) -> 9 | AH83: =COUNTIFS('Po jménech'!$E$2:$E$2024,$B83,'Po jménech'!$J$2:$J$2024,16) -> 0 | AI83: =COUNTIFS('Po jménech'!$E$2:$E$2024,$B83,'Po jménech'!$J$2:$J$2024,8) -> 0 | AJ83: =COUNTIFS('Po jménech'!$E$2:$E$2024,$B83,'Po jménech'!$J$2:$J$2024,4) -> 0 | AK83: =COUNTIFS('Po jménech'!$E$2:$E$2024,$B83,'Po jménech'!$J$2:$J$2024,2) -> 0 | AL83: =COUNTIFS('Po jménech'!$E$2:$E$2024,$B83,'Po jménech'!$J$2:$J$2024,1) -> 9
A84: 81 | B84: Hajn Pavel | V84: 3 | X84: 2 | Y84: 1 | AD84: 2 | AE84: 1 | AF84: 9 | AG84: =COUNTIFS('Po jménech'!$E$2:$E$2024,$B84) -> 9 | AH84: =COUNTIFS('Po jménech'!$E$2:$E$2024,$B84,'Po jménech'!$J$2:$J$2024,16) -> 0 | AI84: =COUNTIFS('Po jménech'!$E$2:$E$2024,$B84,'Po jménech'!$J$2:$J$2024,8) -> 0 | AJ84: =COUNTIFS('Po jménech'!$E$2:$E$2024,$B84,'Po jménech'!$J$2:$J$2024,4) -> 0 | AK84: =COUNTIFS('Po jménech'!$E$2:$E$2024,$B84,'Po jménech'!$J$2:$J$2024,2) -> 0 | AL84: =COUNTIFS('Po jménech'!$E$2:$E$2024,$B84,'Po jménech'!$J$2:$J$2024,1) -> 9
A85: 82 | B85: Ramp Bert | V85: 2 | W85: 2 | X85: 1 | Y85: 1 | AB85: 3 | AF85: 9 | AG85: =COUNTIFS('Po jménech'!$E$2:$E$2024,$B85) -> 8 | AH85: =COUNTIFS('Po jménech'!$E$2:$E$2024,$B85,'Po jménech'!$J$2:$J$2024,16) -> 0 | AI85: =COUNTIFS('Po jménech'!$E$2:$E$2024,$B85,'Po jménech'!$J$2:$J$2024,8) -> 0 | AJ85: =COUNTIFS('Po jménech'!$E$2:$E$2024,$B85,'Po jménech'!$J$2:$J$2024,4) -> 0 | AK85: =COUNTIFS('Po jménech'!$E$2:$E$2024,$B85,'Po jménech'!$J$2:$J$2024,2) -> 1 | AL85: =COUNTIFS('Po jménech'!$E$2:$E$2024,$B85,'Po jménech'!$J$2:$J$2024,1) -> 7
A86: 83 | B86: Samorodov Alexander | X86: 2 | Y86: 2 | Z86: 2 | AA86: 1 | AB86: 2 | AF86: 9 | AG86: =COUNTIFS('Po jménech'!$E$2:$E$2024,$B86) -> 8 | AH86: =COUNTIFS('Po jménech'!$E$2:$E$2024,$B86,'Po jménech'!$J$2:$J$2024,16) -> 0 | AI86: =COUNTIFS('Po jménech'!$E$2:$E$2024,$B86,'Po jménech'!$J$2:$J$2024,8) -> 0 | AJ86: =COUNTIFS('Po jménech'!$E$2:$E$2024,$B86,'Po jménech'!$J$2:$J$2024,4) -> 0 | AK86: =COUNTIFS('Po jménech'!$E$2:$E$2024,$B86,'Po jménech'!$J$2:$J$2024,2) -> 1 | AL86: =COUNTIFS('Po jménech'!$E$2:$E$2024,$B86,'Po jménech'!$J$2:$J$2024,1) -> 7
A87: 84 | B87: Šafařík Jan | J87: 1 | K87: 1 | N87: 1 | W87: 4 | X87: 1 | AF87: 8 | AG87: =COUNTIFS('Po jménech'!$E$2:$E$2024,$B87) -> 5 | AH87: =COUNTIFS('Po jménech'!$E$2:$E$2024,$B87,'Po jménech'!$J$2:$J$2024,16) -> 0 | AI87: =COUNTIFS('Po jménech'!$E$2:$E$2024,$B87,'Po jménech'!$J$2:$J$2024,8) -> 0 | AJ87: =COUNTIFS('Po jménech'!$E$2:$E$2024,$B87,'Po jménech'!$J$2:$J$2024,4) -> 1 | AK87: =COUNTIFS('Po jménech'!$E$2:$E$2024,$B87,'Po jménech'!$J$2:$J$2024,2) -> 0 | AL87: =COUNTIFS('Po jménech'!$E$2:$E$2024,$B87,'Po jménech'!$J$2:$J$2024,1) -> 4
A88: 85 | B88: Příhoda Jiří | H88: 1 | J88: 2 | K88: 2 | L88: 1 | O88: 1 | AE88: 1 | AF88: 8 | AG88: =COUNTIFS('Po jménech'!$E$2:$E$2024,$B88) -> 6 | AH88: =COUNTIFS('Po jménech'!$E$2:$E$2024,$B88,'Po jménech'!$J$2:$J$2024,16) -> 0 | AI88: =COUNTIFS('Po jménech'!$E$2:$E$2024,$B88,'Po jménech'!$J$2:$J$2024,8) -> 0 | AJ88: =COUNTIFS('Po jménech'!$E$2:$E$2024,$B88,'Po jménech'!$J$2:$J$2024,4) -> 0 | AK88: =COUNTIFS('Po jménech'!$E$2:$E$2024,$B88,'Po jménech'!$J$2:$J$2024,2) -> 2 | AL88: =COUNTIFS('Po jménech'!$E$2:$E$2024,$B88,'Po jménech'!$J$2:$J$2024,1) -> 4
A89: 86 | B89: Pospíšil Ondřej | V89: 4 | W89: 3 | X89: 1 | AF89: 8 | AG89: =COUNTIFS('Po jménech'!$E$2:$E$2024,$B89) -> 8 | AH89: =COUNTIFS('Po jménech'!$E$2:$E$2024,$B89,'Po jménech'!$J$2:$J$2024,16) -> 0 | AI89: =COUNTIFS('Po jménech'!$E$2:$E$2024,$B89,'Po jménech'!$J$2:$J$2024,8) -> 0 | AJ89: =COUNTIFS('Po jménech'!$E$2:$E$2024,$B89,'Po jménech'!$J$2:$J$2024,4) -> 0 | AK89: =COUNTIFS('Po jménech'!$E$2:$E$2024,$B89,'Po jménech'!$J$2:$J$2024,2) -> 0 | AL89: =COUNTIFS('Po jménech'!$E$2:$E$2024,$B89,'Po jménech'!$J$2:$J$2024,1) -> 8
A90: 87 | B90: Měcháček Michal | V90: 3 | W90: 2 | X90: 2 | Z90: 1 | AF90: 8 | AG90: =COUNTIFS('Po jménech'!$E$2:$E$2024,$B90) -> 8 | AH90: =COUNTIFS('Po jménech'!$E$2:$E$2024,$B90,'Po jménech'!$J$2:$J$2024,16) -> 0 | AI90: =COUNTIFS('Po jménech'!$E$2:$E$2024,$B90,'Po jménech'!$J$2:$J$2024,8) -> 0 | AJ90: =COUNTIFS('Po jménech'!$E$2:$E$2024,$B90,'Po jménech'!$J$2:$J$2024,4) -> 0 | AK90: =COUNTIFS('Po jménech'!$E$2:$E$2024,$B90,'Po jménech'!$J$2:$J$2024,2) -> 0 | AL90: =COUNTIFS('Po jménech'!$E$2:$E$2024,$B90,'Po jménech'!$J$2:$J$2024,1) -> 8
A91: 88 | B91: Remeň Miloslav | E91: 8 | AF91: 8 | AG91: =COUNTIFS('Po jménech'!$E$2:$E$2024,$B91) -> 2 | AH91: =COUNTIFS('Po jménech'!$E$2:$E$2024,$B91,'Po jménech'!$J$2:$J$2024,16) -> 0 | AI91: =COUNTIFS('Po jménech'!$E$2:$E$2024,$B91,'Po jménech'!$J$2:$J$2024,8) -> 0 | AJ91: =COUNTIFS('Po jménech'!$E$2:$E$2024,$B91,'Po jménech'!$J$2:$J$2024,4) -> 2 | AK91: =COUNTIFS('Po jménech'!$E$2:$E$2024,$B91,'Po jménech'!$J$2:$J$2024,2) -> 0 | AL91: =COUNTIFS('Po jménech'!$E$2:$E$2024,$B91,'Po jménech'!$J$2:$J$2024,1) -> 0
A92: 89 | B92: Mirakhmedov Roman | W92: 2 | X92: 3 | Y92: 2 | AD92: 1 | AF92: 8 | AG92: =COUNTIFS('Po jménech'!$E$2:$E$2024,$B92) -> 7 | AH92: =COUNTIFS('Po jménech'!$E$2:$E$2024,$B92,'Po jménech'!$J$2:$J$2024,16) -> 0 | AI92: =COUNTIFS('Po jménech'!$E$2:$E$2024,$B92,'Po jménech'!$J$2:$J$2024,8) -> 0 | AJ92: =COUNTIFS('Po jménech'!$E$2:$E$2024,$B92,'Po jménech'!$J$2:$J$2024,4) -> 0 | AK92: =COUNTIFS('Po jménech'!$E$2:$E$2024,$B92,'Po jménech'!$J$2:$J$2024,2) -> 1 | AL92: =COUNTIFS('Po jménech'!$E$2:$E$2024,$B92,'Po jménech'!$J$2:$J$2024,1) -> 6
A93: 90 | B93: Nechoďdomů Radek | C93: 8 | AF93: 8 | AG93: =COUNTIFS('Po jménech'!$E$2:$E$2024,$B93) -> 1 | AH93: =COUNTIFS('Po jménech'!$E$2:$E$2024,$B93,'Po jménech'!$J$2:$J$2024,16) -> 0 | AI93: =COUNTIFS('Po jménech'!$E$2:$E$2024,$B93,'Po jménech'!$J$2:$J$2024,8) -> 1 | AJ93: =COUNTIFS('Po jménech'!$E$2:$E$2024,$B93,'Po jménech'!$J$2:$J$2024,4) -> 0 | AK93: =COUNTIFS('Po jménech'!$E$2:$E$2024,$B93,'Po jménech'!$J$2:$J$2024,2) -> 0 | AL93: =COUNTIFS('Po jménech'!$E$2:$E$2024,$B93,'Po jménech'!$J$2:$J$2024,1) -> 0
A94: 91 | B94: Skopal Tadeáš | R94: 1 | S94: 2 | T94: 1 | U94: 2 | AC94: 1 | AD94: 1 | AF94: 8 | AG94: =COUNTIFS('Po jménech'!$E$2:$E$2024,$B94) -> 7 | AH94: =COUNTIFS('Po jménech'!$E$2:$E$2024,$B94,'Po jménech'!$J$2:$J$2024,16) -> 0 | AI94: =COUNTIFS('Po jménech'!$E$2:$E$2024,$B94,'Po jménech'!$J$2:$J$2024,8) -> 0 | AJ94: =COUNTIFS('Po jménech'!$E$2:$E$2024,$B94,'Po jménech'!$J$2:$J$2024,4) -> 0 | AK94: =COUNTIFS('Po jménech'!$E$2:$E$2024,$B94,'Po jménech'!$J$2:$J$2024,2) -> 1 | AL94: =COUNTIFS('Po jménech'!$E$2:$E$2024,$B94,'Po jménech'!$J$2:$J$2024,1) -> 6
A95: 92 | B95: Hubrtová Veronika | AA95: 2 | AB95: 2 | AC95: 1 | AE95: 2 | AF95: 7 | AG95: =COUNTIFS('Po jménech'!$E$2:$E$2024,$B95) -> 6 | AH95: =COUNTIFS('Po jménech'!$E$2:$E$2024,$B95,'Po jménech'!$J$2:$J$2024,16) -> 0 | AI95: =COUNTIFS('Po jménech'!$E$2:$E$2024,$B95,'Po jménech'!$J$2:$J$2024,8) -> 0 | AJ95: =COUNTIFS('Po jménech'!$E$2:$E$2024,$B95,'Po jménech'!$J$2:$J$2024,4) -> 0 | AK95: =COUNTIFS('Po jménech'!$E$2:$E$2024,$B95,'Po jménech'!$J$2:$J$2024,2) -> 1 | AL95: =COUNTIFS('Po jménech'!$E$2:$E$2024,$B95,'Po jménech'!$J$2:$J$2024,1) -> 5
A96: 93 | B96: Šperl Milan | K96: 1 | M96: 2 | N96: 3 | V96: 1 | AF96: 7 | AG96: =COUNTIFS('Po jménech'!$E$2:$E$2024,$B96) -> 6 | AH96: =COUNTIFS('Po jménech'!$E$2:$E$2024,$B96,'Po jménech'!$J$2:$J$2024,16) -> 0 | AI96: =COUNTIFS('Po jménech'!$E$2:$E$2024,$B96,'Po jménech'!$J$2:$J$2024,8) -> 0 | AJ96: =COUNTIFS('Po jménech'!$E$2:$E$2024,$B96,'Po jménech'!$J$2:$J$2024,4) -> 0 | AK96: =COUNTIFS('Po jménech'!$E$2:$E$2024,$B96,'Po jménech'!$J$2:$J$2024,2) -> 1 | AL96: =COUNTIFS('Po jménech'!$E$2:$E$2024,$B96,'Po jménech'!$J$2:$J$2024,1) -> 5
A97: 94 | B97: Rendla Jakub | W97: 1 | AA97: 3 | AB97: 1 | AC97: 1 | AE97: 1 | AF97: 7 | AG97: =COUNTIFS('Po jménech'!$E$2:$E$2024,$B97) -> 7 | AH97: =COUNTIFS('Po jménech'!$E$2:$E$2024,$B97,'Po jménech'!$J$2:$J$2024,16) -> 0 | AI97: =COUNTIFS('Po jménech'!$E$2:$E$2024,$B97,'Po jménech'!$J$2:$J$2024,8) -> 0 | AJ97: =COUNTIFS('Po jménech'!$E$2:$E$2024,$B97,'Po jménech'!$J$2:$J$2024,4) -> 0 | AK97: =COUNTIFS('Po jménech'!$E$2:$E$2024,$B97,'Po jménech'!$J$2:$J$2024,2) -> 0 | AL97: =COUNTIFS('Po jménech'!$E$2:$E$2024,$B97,'Po jménech'!$J$2:$J$2024,1) -> 7
A98: 95 | B98: Kapitančik Marcel | Z98: 1 | AA98: 1 | AB98: 2 | AC98: 1 | AD98: 2 | AF98: 7 | AG98: =COUNTIFS('Po jménech'!$E$2:$E$2024,$B98) -> 7 | AH98: =COUNTIFS('Po jménech'!$E$2:$E$2024,$B98,'Po jménech'!$J$2:$J$2024,16) -> 0 | AI98: =COUNTIFS('Po jménech'!$E$2:$E$2024,$B98,'Po jménech'!$J$2:$J$2024,8) -> 0 | AJ98: =COUNTIFS('Po jménech'!$E$2:$E$2024,$B98,'Po jménech'!$J$2:$J$2024,4) -> 0 | AK98: =COUNTIFS('Po jménech'!$E$2:$E$2024,$B98,'Po jménech'!$J$2:$J$2024,2) -> 0 | AL98: =COUNTIFS('Po jménech'!$E$2:$E$2024,$B98,'Po jménech'!$J$2:$J$2024,1) -> 7
A99: 96 | B99: Vlk Matouš | AA99: 1 | AC99: 1 | AD99: 3 | AE99: 2 | AF99: 7 | AG99: =COUNTIFS('Po jménech'!$E$2:$E$2024,$B99) -> 7 | AH99: =COUNTIFS('Po jménech'!$E$2:$E$2024,$B99,'Po jménech'!$J$2:$J$2024,16) -> 0 | AI99: =COUNTIFS('Po jménech'!$E$2:$E$2024,$B99,'Po jménech'!$J$2:$J$2024,8) -> 0 | AJ99: =COUNTIFS('Po jménech'!$E$2:$E$2024,$B99,'Po jménech'!$J$2:$J$2024,4) -> 0 | AK99: =COUNTIFS('Po jménech'!$E$2:$E$2024,$B99,'Po jménech'!$J$2:$J$2024,2) -> 0 | AL99: =COUNTIFS('Po jménech'!$E$2:$E$2024,$B99,'Po jménech'!$J$2:$J$2024,1) -> 7
A100: 97 | B100: Kníže Martin | Y100: 1 | AA100: 1 | AB100: 2 | AD100: 2 | AE100: 1 | AF100: 7 | AG100: =COUNTIFS('Po jménech'!$E$2:$E$2024,$B100) -> 7 | AH100: =COUNTIFS('Po jménech'!$E$2:$E$2024,$B100,'Po jménech'!$J$2:$J$2024,16) -> 0 | AI100: =COUNTIFS('Po jménech'!$E$2:$E$2024,$B100,'Po jménech'!$J$2:$J$2024,8) -> 0 | AJ100: =COUNTIFS('Po jménech'!$E$2:$E$2024,$B100,'Po jménech'!$J$2:$J$2024,4) -> 0 | AK100: =COUNTIFS('Po jménech'!$E$2:$E$2024,$B100,'Po jménech'!$J$2:$J$2024,2) -> 0 | AL100: =COUNTIFS('Po jménech'!$E$2:$E$2024,$B100,'Po jménech'!$J$2:$J$2024,1) -> 7
A101: 98 | B101: Kurz Tom | AC101: 2 | AD101: 4 | AE101: 1 | AF101: 7 | AG101: =COUNTIFS('Po jménech'!$E$2:$E$2024,$B101) -> 6 | AH101: =COUNTIFS('Po jménech'!$E$2:$E$2024,$B101,'Po jménech'!$J$2:$J$2024,16) -> 0 | AI101: =COUNTIFS('Po jménech'!$E$2:$E$2024,$B101,'Po jménech'!$J$2:$J$2024,8) -> 0 | AJ101: =COUNTIFS('Po jménech'!$E$2:$E$2024,$B101,'Po jménech'!$J$2:$J$2024,4) -> 0 | AK101: =COUNTIFS('Po jménech'!$E$2:$E$2024,$B101,'Po jménech'!$J$2:$J$2024,2) -> 1 | AL101: =COUNTIFS('Po jménech'!$E$2:$E$2024,$B101,'Po jménech'!$J$2:$J$2024,1) -> 5
...

Sheet 8-ball
B2: ŽEBŘÍČEK 8-BALL | C2: Bodové hodnocení pro MR v poolových disciplínách - jednotlivci 1995 - 2023 | AF2: POČET ODEHRANÝCH TURNAJŮ
B3: Jméno | C3: 1995 | D3: 1997 | E3: 1998 | F3: 1999 | G3: 2000 | H3: 2001 | I3: 2002 | J3: 2003 | K3: 2004 | L3: 2005 | M3: 2006 | N3: 2007 | O3: 2008 | P3: 2009 | Q3: 2010 | R3: 2011 | S3: 2012 | T3: 2013 | U3: 2014 | V3: 2015 | W3: 2016 | X3: 2017 | Y3: 2018 | Z3: 2019 | AA3: 2020 | AB3: 2021 | AC3: 2022 | AD3: 2023 | AE3: Body | AF3: Turnaje | AG3: *1* | AH3: *2* | AI3: *3-4* | AJ3: *5-8* | AK3: * 9 +*
A4: 1 | B4: Žalman David | K4: 4 | L4: 2 | M4: 4 | N4: 4 | O4: 4 | P4: 8 | Q4: 1 | R4: 8 | S4: 1 | T4: 16 | U4: 2 | V4: 1 | W4: 2 | X4: 1 | Y4: 4 | Z4: 8 | AA4: 2 | AB4: 16 | AC4: 16 | AD4: 2 | AE4: 106 | AF4: 20 | AG4: 3 | AH4: 3 | AI4: 5 | AJ4: 5 | AK4: 4
A5: 2 | B5: Křenek Lukáš | D5: 4 | E5: 8 | F5: 16 | G5: 8 | H5: 16 | I5: 16 | J5: 16 | K5: 4 | L5: 16 | Q5: 2 | AE5: 106 | AF5: 10 | AG5: 5 | AH5: 2 | AI5: 2 | AJ5: 1 | AK5: 0
A6: 3 | B6: Gavenčiak Michal | F6: 4 | G6: 16 | H6: 2 | I6: 8 | K6: 16 | P6: 16 | Q6: 16 | Y6: 1 | AB6: 8 | AE6: 87 | AF6: 9 | AG6: 4 | AH6: 2 | AI6: 1 | AJ6: 1 | AK6: 1
A7: 4 | B7: Hajdovský Marek | J7: 2 | K7: 1 | L7: 4 | M7: 1 | N7: 2 | O7: 8 | P7: 2 | Q7: 1 | R7: 2 | S7: 16 | T7: 2 | U7: 16 | V7: 16 | W7: 2 | X7: 4 | Y7: 1 | Z7: 1 | AC7: 1 | AD7: 4 | AE7: 86 | AF7: 19 | AG7: 3 | AH7: 1 | AI7: 3 | AJ7: 6 | AK7: 6
A8: 5 | B8: Urban Petr | O8: 1 | Q8: 2 | R8: 1 | S8: 8 | T8: 8 | U8: 4 | V8: 8 | W8: 4 | X8: 2 | Y8: 8 | Z8: 1 | AA8: 16 | AB8: 4 | AC8: 8 | AD8: 1 | AE8: 76 | AF8: 15 | AG8: 1 | AH8: 5 | AI8: 3 | AJ8: 2 | AK8: 4
A9: 6 | B9: Halamka Dominik | F9: 1 | G9: 2 | H9: 4 | J9: 4 | K9: 2 | L9: 8 | M9: 8 | N9: 16 | O9: 16 | P9: 2 | Q9: 4 | R9: 4 | AE9: 71 | AF9: 12 | AG9: 2 | AH9: 2 | AI9: 4 | AJ9: 3 | AK9: 1
A10: 7 | B10: Houdek Adam | J10: 1 | M10: 1 | N10: 2 | O10: 2 | P10: 4 | Q10: 2 | R10: 1 | S10: 4 | U10: 2 | W10: 16 | X10: 16 | Y10: 2 | AE10: 53 | AF10: 12 | AG10: 2 | AH10: 0 | AI10: 2 | AJ10: 5 | AK10: 3
A11: 8 | B11: Meisner Jan | R11: 1 | S11: 1 | U11: 2 | V11: 2 | W11: 1 | X11: 1 | Y11: 16 | Z11: 16 | AB11: 2 | AC11: 4 | AD11: 1 | AE11: 47 | AF11: 11 | AG11: 2 | AH11: 0 | AI11: 1 | AJ11: 3 | AK11: 5
A12: 9 | B12: Zeman Pavel | G12: 1 | H12: 1 | J12: 8 | K12: 2 | N12: 1 | O12: 4 | P12: 4 | Q12: 4 | R12: 16 | S12: 4 | T12: 1 | AE12: 46 | AF12: 11 | AG12: 1 | AH12: 1 | AI12: 4 | AJ12: 1 | AK12: 4
A13: 10 | B13: Janata Jan | D13: 8 | E13: 4 | F13: 2 | G13: 2 | H13: 4 | I13: 2 | J13: 1 | K13: 1 | L13: 4 | N13: 4 | O13: 1 | P13: 1 | Q13: 8 | R13: 1 | S13: 1 | T13: 1 | AE13: 45 | AF13: 16 | AG13: 0 | AH13: 2 | AI13: 4 | AJ13: 3 | AK13: 7
A14: 11 | B14: Gajda Petr | C14: 4 | E14: 16 | F14: 2 | G14: 1 | H14: 2 | I14: 2 | J14: 4 | K14: 1 | L14: 2 | N14: 8 | AE14: 42 | AF14: 10 | AG14: 1 | AH14: 1 | AI14: 2 | AJ14: 4 | AK14: 2
A15: 12 | B15: Frank René | C15: 2 | D15: 16 | E15: 2 | F15: 8 | G15: 1 | AE15: 29 | AF15: 5 | AG15: 1 | AH15: 1 | AI15: 0 | AJ15: 2 | AK15: 1
A16: 13 | B16: Erös Dávid | Q16: 1 | S16: 1 | T16: 1 | V16: 2 | W16: 8 | X16: 8 | AA16: 4 | AE16: 25 | AF16: 7 | AG16: 0 | AH16: 2 | AI16: 1 | AJ16: 1 | AK16: 3
A17: 14 | B17: Dirn Marcel | E17: 4 | F17: 4 | G17: 1 | H17: 8 | I17: 4 | J17: 1 | L17: 1 | AE17: 23 | AF17: 7 | AG17: 0 | AH17: 1 | AI17: 3 | AJ17: 0 | AK17: 3
A18: 15 | B18: Zajíček Jiří | L18: 2 | M18: 16 | N18: 2 | AE18: 20 | AF18: 3 | AG18: 1 | AH18: 0 | AI18: 0 | AJ18: 2 | AK18: 0
A19: 16 | B19: Dorobant Slavomír | N19: 1 | O19: 1 | P19: 1 | U19: 8 | W19: 1 | AD19: 8 | AE19: 20 | AF19: 6 | AG19: 0 | AH19: 2 | AI19: 0 | AJ19: 0 | AK19: 4
A20: 17 | B20: Suchánek Jan | P20: 2 | Q20: 1 | R20: 4 | S20: 1 | T20: 4 | V20: 1 | W20: 4 | X20: 2 | AE20: 19 | AF20: 8 | AG20: 0 | AH20: 0 | AI20: 3 | AJ20: 2 | AK20: 3
A21: 18 | B21: Moroz Mykola | AC21: 2 | AD21: 16 | AE21: 18 | AF21: 2 | AG21: 1 | AH21: 0 | AI21: 0 | AJ21: 1 | AK21: 0
A22: 19 | B22: Škvor Jan | E22: 1 | F22: 1 | G22: 2 | H22: 3 | J22: 2 | K22: 8 | AE22: 17 | AF22: 6 | AG22: 0 | AH22: 1 | AI22: 0 | AJ22: 2 | AK22: 2
A23: 20 | B23: Pavlovič Dušan | C23: 16 | AE23: 16 | AF23: 1 | AG23: 1 | AH23: 0 | AI23: 0 | AJ23: 0 | AK23: 0
A24: 21 | B24: Balaštík Pavel | R24: 1 | S24: 2 | T24: 1 | V24: 4 | W24: 1 | X24: 1 | Y24: 4 | Z24: 1 | AE24: 15 | AF24: 8 | AG24: 0 | AH24: 0 | AI24: 2 | AJ24: 1 | AK24: 5
A25: 22 | B25: Zeman Oto | G25: 1 | H25: 1 | I25: 4 | L25: 1 | M25: 4 | N25: 1 | O25: 2 | AE25: 14 | AF25: 7 | AG25: 0 | AH25: 0 | AI25: 2 | AJ25: 1 | AK25: 4
A26: 23 | B26: Tichý Jaroslav | R26: 1 | S26: 1 | T26: 1 | Y26: 1 | Z26: 2 | AA26: 1 | AB26: 1 | AC26: 4 | AD26: 1 | AE26: 13 | AF26: 9 | AG26: 0 | AH26: 0 | AI26: 1 | AJ26: 1 | AK26: 7
A27: 24 | B27: Washburn Calvin | V27: 1 | W27: 2 | Z27: 1 | AA27: 1 | AB27: 2 | AC27: 2 | AD27: 4 | AE27: 13 | AF27: 7 | AG27: 0 | AH27: 0 | AI27: 1 | AJ27: 3 | AK27: 3
A28: 25 | B28: Mrázek David | Z28: 2 | AA28: 8 | AB28: 1 | AD28: 1 | AE28: 12 | AF28: 4 | AG28: 0 | AH28: 1 | AI28: 0 | AJ28: 1 | AK28: 2
A29: 26 | B29: Duna Zoltán | V29: 1 | X29: 1 | Y29: 1 | Z29: 4 | AA29: 2 | AB29: 1 | AC29: 1 | AE29: 11 | AF29: 7 | AG29: 0 | AH29: 0 | AI29: 1 | AJ29: 1 | AK29: 5
A30: 27 | B30: Nechvíle Josef | U30: 2 | V30: 1 | W30: 1 | X30: 2 | Y30: 1 | Z30: 4 | AE30: 11 | AF30: 6 | AG30: 0 | AH30: 0 | AI30: 1 | AJ30: 2 | AK30: 3
A31: 28 | B31: Halamka Pavel | Q31: 1 | R31: 1 | S31: 1 | T31: 2 | V31: 1 | X31: 1 | Y31: 1 | AA31: 1 | AB31: 1 | AD31: 1 | AE31: 11 | AF31: 10 | AG31: 0 | AH31: 0 | AI31: 0 | AJ31: 1 | AK31: 9
A32: 29 | B32: Praus Tomáš | U32: 1 | Y32: 1 | AA32: 4 | AB32: 1 | AC32: 2 | AD32: 2 | AE32: 11 | AF32: 6 | AG32: 0 | AH32: 0 | AI32: 1 | AJ32: 2 | AK32: 3
A33: 30 | B33: Kavan Petr | Q33: 1 | R33: 1 | S33: 1 | T33: 2 | V33: 2 | W33: 2 | X33: 1 | Y33: 1 | AE33: 11 | AF33: 8 | AG33: 0 | AH33: 0 | AI33: 0 | AJ33: 3 | AK33: 5
A34: 31 | B34: Bröschel Jan | N34: 1 | O34: 2 | Q34: 1 | R34: 2 | U34: 1 | X34: 4 | AE34: 11 | AF34: 6 | AG34: 0 | AH34: 0 | AI34: 1 | AJ34: 2 | AK34: 3
A35: 32 | B35: Kraušner Miroslav | L35: 1 | M35: 2 | N35: 1 | O35: 1 | P35: 2 | Q35: 2 | U35: 1 | AE35: 10 | AF35: 7 | AG35: 0 | AH35: 0 | AI35: 0 | AJ35: 3 | AK35: 4
A36: 33 | B36: Čermín Tomáš | M36: 1 | N36: 1 | O36: 2 | P36: 1 | Q36: 1 | R36: 1 | S36: 1 | T36: 2 | AE36: 10 | AF36: 8 | AG36: 0 | AH36: 0 | AI36: 0 | AJ36: 2 | AK36: 6
A37: 34 | B37: Zhou Longdi | P37: 1 | Q37: 1 | R37: 2 | S37: 2 | Y37: 1 | Z37: 1 | AA37: 1 | AC37: 1 | AE37: 10 | AF37: 8 | AG37: 0 | AH37: 0 | AI37: 0 | AJ37: 2 | AK37: 6
A38: 35 | B38: Voráček Petr | C38: 2 | E38: 1 | F38: 2 | G38: 4 | AE38: 9 | AF38: 4 | AG38: 0 | AH38: 0 | AI38: 1 | AJ38: 2 | AK38: 1
A39: 36 | B39: Vančura Tomáš | O39: 1 | P39: 1 | V39: 1 | W39: 1 | X39: 1 | Z39: 1 | AA39: 1 | AB39: 1 | AD39: 1 | AE39: 9 | AF39: 9 | AG39: 0 | AH39: 0 | AI39: 0 | AJ39: 0 | AK39: 9
A40: 37 | B40: Vladyka Robin | T40: 1 | U40: 1 | V40: 1 | W40: 1 | X40: 1 | Y40: 1 | Z40: 1 | AB40: 1 | AC40: 1 | AE40: 9 | AF40: 9 | AG40: 0 | AH40: 0 | AI40: 0 | AJ40: 0 | AK40: 9
A41: 38 | B41: Trojáček Martin | G41: 4 | H41: 1 | J41: 2 | K41: 1 | L41: 1 | AE41: 9 | AF41: 5 | AG41: 0 | AH41: 0 | AI41: 1 | AJ41: 1 | AK41: 3
A42: 39 | B42: Nechoďdomů Radek | C42: 8 | AE42: 8 | AF42: 1 | AG42: 0 | AH42: 1 | AI42: 0 | AJ42: 0 | AK42: 0
A43: 40 | B43: Aust Jiří | F43: 1 | H43: 3 | I43: 1 | Q43: 1 | R43: 1 | S43: 1 | AE43: 8 | AF43: 6 | AG43: 0 | AH43: 0 | AI43: 0 | AJ43: 0 | AK43: 5
A44: 41 | B44: Šafařík Jan | I44: 1 | J44: 1 | M44: 1 | V44: 4 | W44: 1 | AE44: 8 | AF44: 5 | AG44: 0 | AH44: 0 | AI44: 1 | AJ44: 0 | AK44: 4
A45: 42 | B45: Jelínek Jakub | I45: 1 | J45: 2 | K45: 2 | L45: 2 | M45: 1 | AE45: 8 | AF45: 5 | AG45: 0 | AH45: 0 | AI45: 0 | AJ45: 3 | AK45: 2
A46: 43 | B46: Nohynek Dušan | K46: 2 | U46: 4 | W46: 1 | AE46: 7 | AF46: 3 | AG46: 0 | AH46: 0 | AI46: 1 | AJ46: 1 | AK46: 1
A47: 44 | B47: Kůs Erik | U47: 1 | V47: 1 | W47: 1 | X47: 1 | AA47: 1 | AB47: 1 | AE47: 6 | AF47: 6 | AG47: 0 | AH47: 0 | AI47: 0 | AJ47: 0 | AK47: 6
A48: 45 | B48: Samorodov Alexander | W48: 1 | X48: 1 | Y48: 2 | Z48: 1 | AA48: 1 | AE48: 6 | AF48: 5 | AG48: 0 | AH48: 0 | AI48: 0 | AJ48: 1 | AK48: 4
A49: 46 | B49: Strádal Jan | Y49: 2 | AA49: 1 | AB49: 1 | AC49: 1 | AD49: 1 | AE49: 6 | AF49: 5 | AG49: 0 | AH49: 0 | AI49: 0 | AJ49: 1 | AK49: 4
A50: 47 | B50: Kulas René | X50: 1 | Y50: 1 | Z50: 1 | AA50: 1 | AC50: 1 | AD50: 1 | AE50: 6 | AF50: 6 | AG50: 0 | AH50: 0 | AI50: 0 | AJ50: 0 | AK50: 6
A51: 48 | B51: Lebduška Filip | V51: 1 | X51: 1 | Z51: 1 | AA51: 2 | AB51: 1 | AE51: 6 | AF51: 5 | AG51: 0 | AH51: 0 | AI51: 0 | AJ51: 1 | AK51: 4
A52: 49 | B52: Dorobant Miroslav | Y52: 1 | Z52: 1 | AB52: 4 | AE52: 6 | AF52: 3 | AG52: 0 | AH52: 0 | AI52: 1 | AJ52: 0 | AK52: 2
A53: 50 | B53: Zabloudil Štěpán | C53: 1 | D53: 4 | M53: 1 | AE53: 6 | AF53: 3 | AG53: 0 | AH53: 0 | AI53: 1 | AJ53: 0 | AK53: 2
A54: 51 | B54: Janošťák Aleš | V54: 1 | Y54: 1 | Z54: 1 | AA54: 1 | AB54: 1 | AC54: 1 | AE54: 6 | AF54: 6 | AG54: 0 | AH54: 0 | AI54: 0 | AJ54: 0 | AK54: 6
A55: 52 | B55: Stuna Jakub | W55: 1 | X55: 2 | Y55: 1 | AD55: 2 | AE55: 6 | AF55: 4 | AG55: 0 | AH55: 0 | AI55: 0 | AJ55: 2 | AK55: 2
A56: 53 | B56: Bernášek Lukáš | E56: 1 | Y56: 1 | Z56: 2 | AC56: 1 | AD56: 1 | AE56: 6 | AF56: 5 | AG56: 0 | AH56: 0 | AI56: 0 | AJ56: 1 | AK56: 4
A57: 54 | B57: Tužil Pavel | V57: 1 | X57: 1 | Y57: 1 | Z57: 1 | AB57: 1 | AE57: 5 | AF57: 5 | AG57: 0 | AH57: 0 | AI57: 0 | AJ57: 0 | AK57: 5
A58: 55 | B58: Hajšman Ladislav | AA58: 2 | AB58: 2 | AC58: 1 | AE58: 5 | AF58: 3 | AG58: 0 | AH58: 0 | AI58: 0 | AJ58: 2 | AK58: 1
A59: 56 | B59: Jelínek Petr | S59: 1 | T59: 1 | U59: 1 | V59: 2 | AE59: 5 | AF59: 4 | AG59: 0 | AH59: 0 | AI59: 0 | AJ59: 1 | AK59: 3
A60: 57 | B60: Onderek Tomáš | H60: 1 | R60: 1 | S60: 2 | T60: 1 | AE60: 5 | AF60: 4 | AG60: 0 | AH60: 0 | AI60: 0 | AJ60: 1 | AK60: 3
A61: 58 | B61: Milý Daniel | S61: 1 | T61: 4 | AE61: 5 | AF61: 2 | AG61: 0 | AH61: 0 | AI61: 1 | AJ61: 0 | AK61: 1
A62: 59 | B62: Horák Michal | W62: 1 | Y62: 1 | Z62: 1 | AC62: 1 | AD62: 1 | AE62: 5 | AF62: 5 | AG62: 0 | AH62: 0 | AI62: 0 | AJ62: 0 | AK62: 5
A63: 60 | B63: Vondráček Petr | T63: 1 | X63: 1 | Z63: 1 | AA63: 1 | AD63: 1 | AE63: 5 | AF63: 5 | AG63: 0 | AH63: 0 | AI63: 0 | AJ63: 0 | AK63: 5
A64: 61 | B64: Ugrin Milan | Y64: 1 | Z64: 1 | AB64: 1 | AC64: 1 | AD64: 1 | AE64: 5 | AF64: 5 | AG64: 0 | AH64: 0 | AI64: 0 | AJ64: 0 | AK64: 5
A65: 62 | B65: Marič Márijo | X65: 1 | AA65: 1 | AB65: 1 | AC65: 1 | AD65: 1 | AE65: 5 | AF65: 5 | AG65: 0 | AH65: 0 | AI65: 0 | AJ65: 0 | AK65: 5
A66: 63 | B66: Akenhead James | Y66: 2 | AC66: 2 | AD66: 1 | AE66: 5 | AF66: 3 | AG66: 0 | AH66: 0 | AI66: 0 | AJ66: 2 | AK66: 1
A67: 64 | B67: Bohůnek Jindřich | S67: 2 | T67: 1 | Y67: 1 | AE67: 4 | AF67: 3 | AG67: 0 | AH67: 0 | AI67: 0 | AJ67: 1 | AK67: 2
A68: 65 | B68: Šperl Milan | J68: 1 | L68: 1 | M68: 2 | AE68: 4 | AF68: 3 | AG68: 0 | AH68: 0 | AI68: 0 | AJ68: 1 | AK68: 2
A69: 66 | B69: Šindelář Pavel | R69: 1 | T69: 1 | U69: 1 | V69: 1 | AE69: 4 | AF69: 4 | AG69: 0 | AH69: 0 | AI69: 0 | AJ69: 0 | AK69: 4
A70: 67 | B70: Kopecký Tomáš | J70: 1 | K70: 1 | L70: 1 | Z70: 1 | AE70: 4 | AF70: 4 | AG70: 0 | AH70: 0 | AI70: 0 | AJ70: 0 | AK70: 4
A71: 68 | B71: Mihok Michal | Y71: 1 | AB71: 2 | AC71: 1 | AE71: 4 | AF71: 3 | AG71: 0 | AH71: 0 | AI71: 0 | AJ71: 1 | AK71: 2
A72: 69 | B72: Vodička Jiří | C72: 4 | AE72: 4 | AF72: 1 | AG72: 0 | AH72: 0 | AI72: 1 | AJ72: 0 | AK72: 0
A73: 70 | B73: Vobořil Zdeněk | R73: 2 | S73: 1 | W73: 1 | AE73: 4 | AF73: 3 | AG73: 0 | AH73: 0 | AI73: 0 | AJ73: 1 | AK73: 2
A74: 71 | B74: Linha Jaromír | V74: 1 | W74: 1 | X74: 1 | AB74: 1 | AE74: 4 | AF74: 4 | AG74: 0 | AH74: 0 | AI74: 0 | AJ74: 0 | AK74: 4
A75: 72 | B75: Moravec Lukáš | X75: 1 | AA75: 1 | AB75: 1 | AC75: 1 | AE75: 4 | AF75: 4 | AG75: 0 | AH75: 0 | AI75: 0 | AJ75: 0 | AK75: 4
A76: 73 | B76: Vyhnánek Jan | I76: 1 | K76: 1 | M76: 1 | N76: 1 | AE76: 4 | AF76: 4 | AG76: 0 | AH76: 0 | AI76: 0 | AJ76: 0 | AK76: 4
A77: 74 | B77: Chytráček Jaroslav | W77: 1 | X77: 1 | Z77: 1 | AE77: 3 | AF77: 3 | AG77: 0 | AH77: 0 | AI77: 0 | AJ77: 0 | AK77: 3
A78: 75 | B78: Dupraz Serge | W78: 1 | Z78: 1 | AA78: 1 | AE78: 3 | AF78: 3 | AG78: 0 | AH78: 0 | AI78: 0 | AJ78: 0 | AK78: 3
A79: 76 | B79: Šána Petr | E79: 2 | F79: 1 | AE79: 3 | AF79: 2 | AG79: 0 | AH79: 0 | AI79: 0 | AJ79: 1 | AK79: 1
A80: 77 | B80: Kokoška Petr | K80: 1 | M80: 2 | AE80: 3 | AF80: 2 | AG80: 0 | AH80: 0 | AI80: 0 | AJ80: 1 | AK80: 1
A81: 78 | B81: Brancuský Petr | W81: 1 | X81: 1 | Y81: 1 | AE81: 3 | AF81: 3 | AG81: 0 | AH81: 0 | AI81: 0 | AJ81: 0 | AK81: 3
A82: 79 | B82: Keleman Miroslav | J82: 1 | M82: 2 | AE82: 3 | AF82: 2 | AG82: 0 | AH82: 0 | AI82: 0 | AJ82: 1 | AK82: 1
A83: 80 | B83: Mika Radek | E83: 2 | F83: 1 | AE83: 3 | AF83: 2 | AG83: 0 | AH83: 0 | AI83: 0 | AJ83: 1 | AK83: 1
A84: 81 | B84: Stettinger Georg | AB84: 1 | AC84: 1 | AD84: 1 | AE84: 3 | AF84: 3 | AG84: 0 | AH84: 0 | AI84: 0 | AJ84: 0 | AK84: 3
A85: 82 | B85: Tomeček Milan | Y85: 1 | AC85: 1 | AD85: 1 | AE85: 3 | AF85: 3 | AG85: 0 | AH85: 0 | AI85: 0 | AJ85: 0 | AK85: 3
A86: 83 | B86: Kapitančik Marcel | Z86: 1 | AA86: 1 | AB86: 1 | AE86: 3 | AF86: 3 | AG86: 0 | AH86: 0 | AI86: 0 | AJ86: 0 | AK86: 3
A87: 84 | B87: Červenka Josef | G87: 1 | I87: 2 | AE87: 3 | AF87: 2 | AG87: 0 | AH87: 0 | AI87: 0 | AJ87: 1 | AK87: 1
A88: 85 | B88: Jovchevski Martin | AC88: 1 | AD88: 2 | AE88: 3 | AF88: 2 | AG88: 0 | AH88: 0 | AI88: 0 | AJ88: 1 | AK88: 1
A89: 86 | B89: Mirakhmedov Roman | V89: 1 | X89: 1 | AC89: 1 | AE89: 3 | AF89: 3 | AG89: 0 | AH89: 0 | AI89: 0 | AJ89: 0 | AK89: 3
A90: 87 | B90: Velíšek Josef | X90: 1 | Y90: 1 | Z90: 1 | AE90: 3 | AF90: 3 | AG90: 0 | AH90: 0 | AI90: 0 | AJ90: 0 | AK90: 3
A91: 88 | B91: Kurz Tom | AB91: 1 | AD91: 1 | AE91: 2 | AF91: 2 | AG91: 0 | AH91: 0 | AI91: 0 | AJ91: 0 | AK91: 2
A92: 89 | B92: Vacek Jiří | W92: 1 | X92: 1 | AE92: 2 | AF92: 2 | AG92: 0 | AH92: 0 | AI92: 0 | AJ92: 0 | AK92: 2
A93: 90 | B93: Sedláček Jan | I93: 1 | L93: 1 | AE93: 2 | AF93: 2 | AG93: 0 | AH93: 0 | AI93: 0 | AJ93: 0 | AK93: 2
A94: 91 | B94: Trhlík Adam | AA94: 1 | AB94: 1 | AE94: 2 | AF94: 2 | AG94: 0 | AH94: 0 | AI94: 0 | AJ94: 0 | AK94: 2
A95: 92 | B95: Langer Tomáš | F95: 2 | AE95: 2 | AF95: 1 | AG95: 0 | AH95: 0 | AI95: 0 | AJ95: 1 | AK95: 0
A96: 93 | B96: Helebrant Václav | I96: 2 | AE96: 2 | AF96: 1 | AG96: 0 | AH96: 0 | AI96: 0 | AJ96: 1 | AK96: 0
A97: 94 | B97: Kurdský Vladimír | C97: 2 | AE97: 2 | AF97: 1 | AG97: 0 | AH97: 0 | AI97: 0 | AJ97: 1 | AK97: 0
A98: 95 | B98: Růčka Radek | Z98: 2 | AE98: 2 | AF98: 1 | AG98: 0 | AH98: 0 | AI98: 0 | AJ98: 1 | AK98: 0
A99: 96 | B99: Vlk Matouš | AB99: 1 | AD99: 1 | AE99: 2 | AF99: 2 | AG99: 0 | AH99: 0 | AI99: 0 | AJ99: 0 | AK99: 2
A100: 97 | B100: Měcháček Michal | U100: 1 | V100: 1 | AE100: 2 | AF100: 2 | AG100: 0 | AH100: 0 | AI100: 0 | AJ100: 0 | AK100: 2
A101: 98 | B101: Kohout Štěpán | C101: 2 | AE101: 2 | AF101: 1 | AG101: 0 | AH101: 0 | AI101: 0 | AJ101: 1 | AK101: 0
...

Sheet 9-ball
B2: ŽEBŘÍČEK 9-BALL | C2: Bodové hodnocení pro MR v poolových disciplínách - jednotlivci 1995 - 2023 | AF2: POČET ODEHRANÝCH TURNAJŮ
B3: Jméno | C3: 1996 | D3: 1997 | E3: 1998 | F3: 1999 | G3: 2000 | H3: 2001 | I3: 2002 | J3: 2003 | K3: 2004 | L3: 2005 | M3: 2006 | N3: 2007 | O3: 2008 | P3: 2009 | Q3: 2010 | R3: 2011 | S3: 2012 | T3: 2013 | U3: 2014 | V3: 2015 | W3: 2016 | X3: 2017 | Y3: 2018 | Z3: 2019 | AA3: 2020 | AB3: 2021 | AC3: 2022 | AD3: 2023 | AE3: Celkem | AF3: Turnaje | AG3: *1* | AH3: *2* | AI3: *3-4* | AJ3: *5-8* | AK3: * 9 +*
A4: 1 | B4: Křenek Lukáš | D4: 16 | E4: 16 | F4: 8 | G4: 16 | H4: 1 | I4: 16 | J4: 8 | K4: 8 | L4: 16 | Q4: 8 | AE4: 113 | AF4: =COUNTIFS('Po jménech'!$E$2:$E$2024,$B4,'Po jménech'!$I$2:$I$2024,9) -> 10 | AG4: =COUNTIFS('Po jménech'!$E$2:$E$2024,$B4,'Po jménech'!$I$2:$I$2024,9,'Po jménech'!$J$2:$J$2024,16) -> 5 | AH4: =COUNTIFS('Po jménech'!$E$2:$E$2024,$B4,'Po jménech'!$I$2:$I$2024,9,'Po jménech'!$J$2:$J$2024,8) -> 4 | AI4: =COUNTIFS('Po jménech'!$E$2:$E$2024,$B4,'Po jménech'!$I$2:$I$2024,9,'Po jménech'!$J$2:$J$2024,4) -> 0 | AJ4: =COUNTIFS('Po jménech'!$E$2:$E$2024,$B4,'Po jménech'!$I$2:$I$2024,9,'Po jménech'!$J$2:$J$2024,2) -> 0 | AK4: =COUNTIFS('Po jménech'!$E$2:$E$2024,$B4,'Po jménech'!$I$2:$I$2024,9,'Po jménech'!$J$2:$J$2024,1) -> 1
A5: 2 | B5: Žalman David | I5: 2 | L5: 2 | M5: 4 | N5: 4 | O5: 16 | P5: 1 | Q5: 4 | R5: 16 | S5: 1 | T5: 1 | U5: 4 | V5: 2 | W5: 4 | X5: 2 | Y5: 8 | Z5: 16 | AA5: 1 | AB5: 8 | AC5: 2 | AD5: 2 | AE5: 100 | AF5: =COUNTIFS('Po jménech'!$E$2:$E$2024,$B5,'Po jménech'!$I$2:$I$2024,9) -> 20 | AG5: =COUNTIFS('Po jménech'!$E$2:$E$2024,$B5,'Po jménech'!$I$2:$I$2024,9,'Po jménech'!$J$2:$J$2024,16) -> 3 | AH5: =COUNTIFS('Po jménech'!$E$2:$E$2024,$B5,'Po jménech'!$I$2:$I$2024,9,'Po jménech'!$J$2:$J$2024,8) -> 2 | AI5: =COUNTIFS('Po jménech'!$E$2:$E$2024,$B5,'Po jménech'!$I$2:$I$2024,9,'Po jménech'!$J$2:$J$2024,4) -> 5 | AJ5: =COUNTIFS('Po jménech'!$E$2:$E$2024,$B5,'Po jménech'!$I$2:$I$2024,9,'Po jménech'!$J$2:$J$2024,2) -> 6 | AK5: =COUNTIFS('Po jménech'!$E$2:$E$2024,$B5,'Po jménech'!$I$2:$I$2024,9,'Po jménech'!$J$2:$J$2024,1) -> 4
A6: 3 | B6: Janata Jan | C6: 1 | D6: 8 | E6: 4 | F6: 2 | G6: 2 | H6: 16 | I6: 4 | J6: 16 | K6: 4 | L6: 4 | M6: 2 | N6: 1 | O6: 1 | P6: 2 | Q6: 2 | R6: 8 | S6: 1 | T6: 2 | U6: 1 | AE6: 81 | AF6: =COUNTIFS('Po jménech'!$E$2:$E$2024,$B6,'Po jménech'!$I$2:$I$2024,9) -> 19 | AG6: =COUNTIFS('Po jménech'!$E$2:$E$2024,$B6,'Po jménech'!$I$2:$I$2024,9,'Po jménech'!$J$2:$J$2024,16) -> 2 | AH6: =COUNTIFS('Po jménech'!$E$2:$E$2024,$B6,'Po jménech'!$I$2:$I$2024,9,'Po jménech'!$J$2:$J$2024,8) -> 2 | AI6: =COUNTIFS('Po jménech'!$E$2:$E$2024,$B6,'Po jménech'!$I$2:$I$2024,9,'Po jménech'!$J$2:$J$2024,4) -> 4 | AJ6: =COUNTIFS('Po jménech'!$E$2:$E$2024,$B6,'Po jménech'!$I$2:$I$2024,9,'Po jménech'!$J$2:$J$2024,2) -> 6 | AK6: =COUNTIFS('Po jménech'!$E$2:$E$2024,$B6,'Po jménech'!$I$2:$I$2024,9,'Po jménech'!$J$2:$J$2024,1) -> 5
A7: 4 | B7: Hajdovský Marek | H7: 1 | J7: 1 | L7: 4 | M7: 2 | N7: 2 | O7: 4 | P7: 8 | Q7: 2 | R7: 2 | S7: 16 | U7: 16 | V7: 1 | W7: 8 | X7: 2 | Y7: 1 | Z7: 2 | AA7: 2 | AB7: 2 | AD7: 4 | AE7: 80 | AF7: =COUNTIFS('Po jménech'!$E$2:$E$2024,$B7,'Po jménech'!$I$2:$I$2024,9) -> 19 | AG7: =COUNTIFS('Po jménech'!$E$2:$E$2024,$B7,'Po jménech'!$I$2:$I$2024,9,'Po jménech'!$J$2:$J$2024,16) -> 2 | AH7: =COUNTIFS('Po jménech'!$E$2:$E$2024,$B7,'Po jménech'!$I$2:$I$2024,9,'Po jménech'!$J$2:$J$2024,8) -> 2 | AI7: =COUNTIFS('Po jménech'!$E$2:$E$2024,$B7,'Po jménech'!$I$2:$I$2024,9,'Po jménech'!$J$2:$J$2024,4) -> 3 | AJ7: =COUNTIFS('Po jménech'!$E$2:$E$2024,$B7,'Po jménech'!$I$2:$I$2024,9,'Po jménech'!$J$2:$J$2024,2) -> 8 | AK7: =COUNTIFS('Po jménech'!$E$2:$E$2024,$B7,'Po jménech'!$I$2:$I$2024,9,'Po jménech'!$J$2:$J$2024,1) -> 4
A8: 5 | B8: Gavenčiak Michal | F8: 16 | G8: 8 | H8: 4 | I8: 8 | K8: 16 | U8: 8 | Y8: 16 | AE8: 76 | AF8: =COUNTIFS('Po jménech'!$E$2:$E$2024,$B8,'Po jménech'!$I$2:$I$2024,9) -> 7 | AG8: =COUNTIFS('Po jménech'!$E$2:$E$2024,$B8,'Po jménech'!$I$2:$I$2024,9,'Po jménech'!$J$2:$J$2024,16) -> 3 | AH8: =COUNTIFS('Po jménech'!$E$2:$E$2024,$B8,'Po jménech'!$I$2:$I$2024,9,'Po jménech'!$J$2:$J$2024,8) -> 3 | AI8: =COUNTIFS('Po jménech'!$E$2:$E$2024,$B8,'Po jménech'!$I$2:$I$2024,9,'Po jménech'!$J$2:$J$2024,4) -> 1 | AJ8: =COUNTIFS('Po jménech'!$E$2:$E$2024,$B8,'Po jménech'!$I$2:$I$2024,9,'Po jménech'!$J$2:$J$2024,2) -> 0 | AK8: =COUNTIFS('Po jménech'!$E$2:$E$2024,$B8,'Po jménech'!$I$2:$I$2024,9,'Po jménech'!$J$2:$J$2024,1) -> 0
A9: 6 | B9: Urban Petr | O9: 1 | Q9: 1 | R9: 1 | S9: 1 | T9: 4 | U9: 1 | V9: 4 | W9: 2 | X9: 16 | Y9: 4 | Z9: 2 | AA9: 4 | AB9: 16 | AC9: 16 | AD9: 2 | AE9: 75 | AF9: =COUNTIFS('Po jménech'!$E$2:$E$2024,$B9,'Po jménech'!$I$2:$I$2024,9) -> 15 | AG9: =COUNTIFS('Po jménech'!$E$2:$E$2024,$B9,'Po jménech'!$I$2:$I$2024,9,'Po jménech'!$J$2:$J$2024,16) -> 3 | AH9: =COUNTIFS('Po jménech'!$E$2:$E$2024,$B9,'Po jménech'!$I$2:$I$2024,9,'Po jménech'!$J$2:$J$2024,8) -> 0 | AI9: =COUNTIFS('Po jménech'!$E$2:$E$2024,$B9,'Po jménech'!$I$2:$I$2024,9,'Po jménech'!$J$2:$J$2024,4) -> 4 | AJ9: =COUNTIFS('Po jménech'!$E$2:$E$2024,$B9,'Po jménech'!$I$2:$I$2024,9,'Po jménech'!$J$2:$J$2024,2) -> 3 | AK9: =COUNTIFS('Po jménech'!$E$2:$E$2024,$B9,'Po jménech'!$I$2:$I$2024,9,'Po jménech'!$J$2:$J$2024,1) -> 5
A10: 7 | B10: Meisner Jan | S10: 2 | U10: 2 | V10: 16 | W10: 16 | X10: 8 | Y10: 1 | Z10: 8 | AA10: 1 | AB10: 1 | AC10: 4 | AD10: 8 | AE10: 67 | AF10: =COUNTIFS('Po jménech'!$E$2:$E$2024,$B10,'Po jménech'!$I$2:$I$2024,9) -> 11 | AG10: =COUNTIFS('Po jménech'!$E$2:$E$2024,$B10,'Po jménech'!$I$2:$I$2024,9,'Po jménech'!$J$2:$J$2024,16) -> 2 | AH10: =COUNTIFS('Po jménech'!$E$2:$E$2024,$B10,'Po jménech'!$I$2:$I$2024,9,'Po jménech'!$J$2:$J$2024,8) -> 3 | AI10: =COUNTIFS('Po jménech'!$E$2:$E$2024,$B10,'Po jménech'!$I$2:$I$2024,9,'Po jménech'!$J$2:$J$2024,4) -> 1 | AJ10: =COUNTIFS('Po jménech'!$E$2:$E$2024,$B10,'Po jménech'!$I$2:$I$2024,9,'Po jménech'!$J$2:$J$2024,2) -> 2 | AK10: =COUNTIFS('Po jménech'!$E$2:$E$2024,$B10,'Po jménech'!$I$2:$I$2024,9,'Po jménech'!$J$2:$J$2024,1) -> 3
A11: 8 | B11: Houdek Adam | N11: 8 | O11: 1 | P11: 16 | Q11: 16 | R11: 2 | S11: 2 | U11: 1 | W11: 2 | X11: 1 | Y11: 1 | Z11: 1 | AE11: 51 | AF11: =COUNTIFS('Po jménech'!$E$2:$E$2024,$B11,'Po jménech'!$I$2:$I$2024,9) -> 11 | AG11: =COUNTIFS('Po jménech'!$E$2:$E$2024,$B11,'Po jménech'!$I$2:$I$2024,9,'Po jménech'!$J$2:$J$2024,16) -> 2 | AH11: =COUNTIFS('Po jménech'!$E$2:$E$2024,$B11,'Po jménech'!$I$2:$I$2024,9,'Po jménech'!$J$2:$J$2024,8) -> 1 | AI11: =COUNTIFS('Po jménech'!$E$2:$E$2024,$B11,'Po jménech'!$I$2:$I$2024,9,'Po jménech'!$J$2:$J$2024,4) -> 0 | AJ11: =COUNTIFS('Po jménech'!$E$2:$E$2024,$B11,'Po jménech'!$I$2:$I$2024,9,'Po jménech'!$J$2:$J$2024,2) -> 3 | AK11: =COUNTIFS('Po jménech'!$E$2:$E$2024,$B11,'Po jménech'!$I$2:$I$2024,9,'Po jménech'!$J$2:$J$2024,1) -> 5
A12: 9 | B12: Halamka Dominik | G12: 2 | H12: 1 | I12: 1 | J12: 1 | K12: 2 | L12: 8 | M12: 1 | N12: 16 | O12: 2 | P12: 4 | Q12: 2 | R12: 2 | AE12: 42 | AF12: =COUNTIFS('Po jménech'!$E$2:$E$2024,$B12,'Po jménech'!$I$2:$I$2024,9) -> 12 | AG12: =COUNTIFS('Po jménech'!$E$2:$E$2024,$B12,'Po jménech'!$I$2:$I$2024,9,'Po jménech'!$J$2:$J$2024,16) -> 1 | AH12: =COUNTIFS('Po jménech'!$E$2:$E$2024,$B12,'Po jménech'!$I$2:$I$2024,9,'Po jménech'!$J$2:$J$2024,8) -> 1 | AI12: =COUNTIFS('Po jménech'!$E$2:$E$2024,$B12,'Po jménech'!$I$2:$I$2024,9,'Po jménech'!$J$2:$J$2024,4) -> 1 | AJ12: =COUNTIFS('Po jménech'!$E$2:$E$2024,$B12,'Po jménech'!$I$2:$I$2024,9,'Po jménech'!$J$2:$J$2024,2) -> 5 | AK12: =COUNTIFS('Po jménech'!$E$2:$E$2024,$B12,'Po jménech'!$I$2:$I$2024,9,'Po jménech'!$J$2:$J$2024,1) -> 4
A13: 10 | B13: Bernášek Lukáš | F13: 2 | H13: 4 | I13: 2 | J13: 2 | K13: 1 | M13: 1 | N13: 4 | O13: 1 | P13: 2 | Q13: 1 | R13: 4 | S13: 2 | T13: 1 | U13: 4 | V13: 1 | W13: 2 | Y13: 1 | Z13: 4 | AB13: 2 | AC13: 1 | AE13: 42 | AF13: =COUNTIFS('Po jménech'!$E$2:$E$2024,$B13,'Po jménech'!$I$2:$I$2024,9) -> 20 | AG13: =COUNTIFS('Po jménech'!$E$2:$E$2024,$B13,'Po jménech'!$I$2:$I$2024,9,'Po jménech'!$J$2:$J$2024,16) -> 0 | AH13: =COUNTIFS('Po jménech'!$E$2:$E$2024,$B13,'Po jménech'!$I$2:$I$2024,9,'Po jménech'!$J$2:$J$2024,8) -> 0 | AI13: =COUNTIFS('Po jménech'!$E$2:$E$2024,$B13,'Po jménech'!$I$2:$I$2024,9,'Po jménech'!$J$2:$J$2024,4) -> 5 | AJ13: =COUNTIFS('Po jménech'!$E$2:$E$2024,$B13,'Po jménech'!$I$2:$I$2024,9,'Po jménech'!$J$2:$J$2024,2) -> 7 | AK13: =COUNTIFS('Po jménech'!$E$2:$E$2024,$B13,'Po jménech'!$I$2:$I$2024,9,'Po jménech'!$J$2:$J$2024,1) -> 8
A14: 11 | B14: Tichý Jaroslav | S14: 1 | T14: 1 | W14: 1 | X14: 1 | Y14: 4 | Z14: 1 | AA14: 16 | AB14: 1 | AC14: 1 | AD14: 4 | AE14: 31 | AF14: =COUNTIFS('Po jménech'!$E$2:$E$2024,$B14,'Po jménech'!$I$2:$I$2024,9) -> 10 | AG14: =COUNTIFS('Po jménech'!$E$2:$E$2024,$B14,'Po jménech'!$I$2:$I$2024,9,'Po jménech'!$J$2:$J$2024,16) -> 1 | AH14: =COUNTIFS('Po jménech'!$E$2:$E$2024,$B14,'Po jménech'!$I$2:$I$2024,9,'Po jménech'!$J$2:$J$2024,8) -> 0 | AI14: =COUNTIFS('Po jménech'!$E$2:$E$2024,$B14,'Po jménech'!$I$2:$I$2024,9,'Po jménech'!$J$2:$J$2024,4) -> 2 | AJ14: =COUNTIFS('Po jménech'!$E$2:$E$2024,$B14,'Po jménech'!$I$2:$I$2024,9,'Po jménech'!$J$2:$J$2024,2) -> 0 | AK14: =COUNTIFS('Po jménech'!$E$2:$E$2024,$B14,'Po jménech'!$I$2:$I$2024,9,'Po jménech'!$J$2:$J$2024,1) -> 7
A15: 12 | B15: Frank René | C15: 16 | D15: 1 | E15: 8 | F15: 4 | G15: 1 | AE15: 30 | AF15: =COUNTIFS('Po jménech'!$E$2:$E$2024,$B15,'Po jménech'!$I$2:$I$2024,9) -> 5 | AG15: =COUNTIFS('Po jménech'!$E$2:$E$2024,$B15,'Po jménech'!$I$2:$I$2024,9,'Po jménech'!$J$2:$J$2024,16) -> 1 | AH15: =COUNTIFS('Po jménech'!$E$2:$E$2024,$B15,'Po jménech'!$I$2:$I$2024,9,'Po jménech'!$J$2:$J$2024,8) -> 1 | AI15: =COUNTIFS('Po jménech'!$E$2:$E$2024,$B15,'Po jménech'!$I$2:$I$2024,9,'Po jménech'!$J$2:$J$2024,4) -> 1 | AJ15: =COUNTIFS('Po jménech'!$E$2:$E$2024,$B15,'Po jménech'!$I$2:$I$2024,9,'Po jménech'!$J$2:$J$2024,2) -> 0 | AK15: =COUNTIFS('Po jménech'!$E$2:$E$2024,$B15,'Po jménech'!$I$2:$I$2024,9,'Po jménech'!$J$2:$J$2024,1) -> 2
A16: 13 | B16: Dirn Marcel | C16: 4 | E16: 2 | F16: 1 | G16: 4 | H16: 8 | I16: 4 | J16: 1 | K16: 1 | L16: 1 | AE16: 26 | AF16: =COUNTIFS('Po jménech'!$E$2:$E$2024,$B16,'Po jménech'!$I$2:$I$2024,9) -> 9 | AG16: =COUNTIFS('Po jménech'!$E$2:$E$2024,$B16,'Po jménech'!$I$2:$I$2024,9,'Po jménech'!$J$2:$J$2024,16) -> 0 | AH16: =COUNTIFS('Po jménech'!$E$2:$E$2024,$B16,'Po jménech'!$I$2:$I$2024,9,'Po jménech'!$J$2:$J$2024,8) -> 1 | AI16: =COUNTIFS('Po jménech'!$E$2:$E$2024,$B16,'Po jménech'!$I$2:$I$2024,9,'Po jménech'!$J$2:$J$2024,4) -> 3 | AJ16: =COUNTIFS('Po jménech'!$E$2:$E$2024,$B16,'Po jménech'!$I$2:$I$2024,9,'Po jménech'!$J$2:$J$2024,2) -> 1 | AK16: =COUNTIFS('Po jménech'!$E$2:$E$2024,$B16,'Po jménech'!$I$2:$I$2024,9,'Po jménech'!$J$2:$J$2024,1) -> 4
A17: 14 | B17: Hofman Jiří | J17: 4 | K17: 1 | M17: 16 | R17: 1 | S17: 1 | U17: 1 | V17: 2 | AE17: 26 | AF17: =COUNTIFS('Po jménech'!$E$2:$E$2024,$B17,'Po jménech'!$I$2:$I$2024,9) -> 7 | AG17: =COUNTIFS('Po jménech'!$E$2:$E$2024,$B17,'Po jménech'!$I$2:$I$2024,9,'Po jménech'!$J$2:$J$2024,16) -> 1 | AH17: =COUNTIFS('Po jménech'!$E$2:$E$2024,$B17,'Po jménech'!$I$2:$I$2024,9,'Po jménech'!$J$2:$J$2024,8) -> 0 | AI17: =COUNTIFS('Po jménech'!$E$2:$E$2024,$B17,'Po jménech'!$I$2:$I$2024,9,'Po jménech'!$J$2:$J$2024,4) -> 1 | AJ17: =COUNTIFS('Po jménech'!$E$2:$E$2024,$B17,'Po jménech'!$I$2:$I$2024,9,'Po jménech'!$J$2:$J$2024,2) -> 1 | AK17: =COUNTIFS('Po jménech'!$E$2:$E$2024,$B17,'Po jménech'!$I$2:$I$2024,9,'Po jménech'!$J$2:$J$2024,1) -> 4
A18: 15 | B18: Zeman Pavel | J18: 2 | K18: 2 | M18: 1 | O18: 4 | P18: 2 | Q18: 1 | R18: 4 | S18: 8 | U18: 1 | AE18: 25 | AF18: =COUNTIFS('Po jménech'!$E$2:$E$2024,$B18,'Po jménech'!$I$2:$I$2024,9) -> 9 | AG18: =COUNTIFS('Po jménech'!$E$2:$E$2024,$B18,'Po jménech'!$I$2:$I$2024,9,'Po jménech'!$J$2:$J$2024,16) -> 0 | AH18: =COUNTIFS('Po jménech'!$E$2:$E$2024,$B18,'Po jménech'!$I$2:$I$2024,9,'Po jménech'!$J$2:$J$2024,8) -> 1 | AI18: =COUNTIFS('Po jménech'!$E$2:$E$2024,$B18,'Po jménech'!$I$2:$I$2024,9,'Po jménech'!$J$2:$J$2024,4) -> 2 | AJ18: =COUNTIFS('Po jménech'!$E$2:$E$2024,$B18,'Po jménech'!$I$2:$I$2024,9,'Po jménech'!$J$2:$J$2024,2) -> 3 | AK18: =COUNTIFS('Po jménech'!$E$2:$E$2024,$B18,'Po jménech'!$I$2:$I$2024,9,'Po jménech'!$J$2:$J$2024,1) -> 3
A19: 16 | B19: Suchánek Jan | O19: 2 | P19: 4 | Q19: 2 | R19: 2 | S19: 4 | T19: 2 | U19: 1 | V19: 2 | W19: 1 | X19: 4 | AE19: 24 | AF19: =COUNTIFS('Po jménech'!$E$2:$E$2024,$B19,'Po jménech'!$I$2:$I$2024,9) -> 10 | AG19: =COUNTIFS('Po jménech'!$E$2:$E$2024,$B19,'Po jménech'!$I$2:$I$2024,9,'Po jménech'!$J$2:$J$2024,16) -> 0 | AH19: =COUNTIFS('Po jménech'!$E$2:$E$2024,$B19,'Po jménech'!$I$2:$I$2024,9,'Po jménech'!$J$2:$J$2024,8) -> 0 | AI19: =COUNTIFS('Po jménech'!$E$2:$E$2024,$B19,'Po jménech'!$I$2:$I$2024,9,'Po jménech'!$J$2:$J$2024,4) -> 3 | AJ19: =COUNTIFS('Po jménech'!$E$2:$E$2024,$B19,'Po jménech'!$I$2:$I$2024,9,'Po jménech'!$J$2:$J$2024,2) -> 5 | AK19: =COUNTIFS('Po jménech'!$E$2:$E$2024,$B19,'Po jménech'!$I$2:$I$2024,9,'Po jménech'!$J$2:$J$2024,1) -> 2
A20: 17 | B20: Moroz Mykola | AC20: 8 | AD20: 16 | AE20: 24 | AF20: =COUNTIFS('Po jménech'!$E$2:$E$2024,$B20,'Po jménech'!$I$2:$I$2024,9) -> 2 | AG20: =COUNTIFS('Po jménech'!$E$2:$E$2024,$B20,'Po jménech'!$I$2:$I$2024,9,'Po jménech'!$J$2:$J$2024,16) -> 1 | AH20: =COUNTIFS('Po jménech'!$E$2:$E$2024,$B20,'Po jménech'!$I$2:$I$2024,9,'Po jménech'!$J$2:$J$2024,8) -> 1 | AI20: =COUNTIFS('Po jménech'!$E$2:$E$2024,$B20,'Po jménech'!$I$2:$I$2024,9,'Po jménech'!$J$2:$J$2024,4) -> 0 | AJ20: =COUNTIFS('Po jménech'!$E$2:$E$2024,$B20,'Po jménech'!$I$2:$I$2024,9,'Po jménech'!$J$2:$J$2024,2) -> 0 | AK20: =COUNTIFS('Po jménech'!$E$2:$E$2024,$B20,'Po jménech'!$I$2:$I$2024,9,'Po jménech'!$J$2:$J$2024,1) -> 0
A21: 18 | B21: Čermín Tomáš | N21: 2 | O21: 1 | P21: 2 | Q21: 1 | R21: 1 | S21: 4 | T21: 8 | AE21: 19 | AF21: =COUNTIFS('Po jménech'!$E$2:$E$2024,$B21,'Po jménech'!$I$2:$I$2024,9) -> 7 | AG21: =COUNTIFS('Po jménech'!$E$2:$E$2024,$B21,'Po jménech'!$I$2:$I$2024,9,'Po jménech'!$J$2:$J$2024,16) -> 0 | AH21: =COUNTIFS('Po jménech'!$E$2:$E$2024,$B21,'Po jménech'!$I$2:$I$2024,9,'Po jménech'!$J$2:$J$2024,8) -> 1 | AI21: =COUNTIFS('Po jménech'!$E$2:$E$2024,$B21,'Po jménech'!$I$2:$I$2024,9,'Po jménech'!$J$2:$J$2024,4) -> 1 | AJ21: =COUNTIFS('Po jménech'!$E$2:$E$2024,$B21,'Po jménech'!$I$2:$I$2024,9,'Po jménech'!$J$2:$J$2024,2) -> 2 | AK21: =COUNTIFS('Po jménech'!$E$2:$E$2024,$B21,'Po jménech'!$I$2:$I$2024,9,'Po jménech'!$J$2:$J$2024,1) -> 3
A22: 19 | B22: Gajda Petr | E22: 1 | F22: 4 | G22: 2 | H22: 1 | I22: 2 | J22: 2 | K22: 4 | L22: 2 | R22: 1 | AE22: 19 | AF22: =COUNTIFS('Po jménech'!$E$2:$E$2024,$B22,'Po jménech'!$I$2:$I$2024,9) -> 9 | AG22: =COUNTIFS('Po jménech'!$E$2:$E$2024,$B22,'Po jménech'!$I$2:$I$2024,9,'Po jménech'!$J$2:$J$2024,16) -> 0 | AH22: =COUNTIFS('Po jménech'!$E$2:$E$2024,$B22,'Po jménech'!$I$2:$I$2024,9,'Po jménech'!$J$2:$J$2024,8) -> 0 | AI22: =COUNTIFS('Po jménech'!$E$2:$E$2024,$B22,'Po jménech'!$I$2:$I$2024,9,'Po jménech'!$J$2:$J$2024,4) -> 2 | AJ22: =COUNTIFS('Po jménech'!$E$2:$E$2024,$B22,'Po jménech'!$I$2:$I$2024,9,'Po jménech'!$J$2:$J$2024,2) -> 4 | AK22: =COUNTIFS('Po jménech'!$E$2:$E$2024,$B22,'Po jménech'!$I$2:$I$2024,9,'Po jménech'!$J$2:$J$2024,1) -> 3
A23: 20 | B23: Onderek Tomáš | H23: 1 | Q23: 1 | T23: 16 | AE23: 18 | AF23: =COUNTIFS('Po jménech'!$E$2:$E$2024,$B23,'Po jménech'!$I$2:$I$2024,9) -> 3 | AG23: =COUNTIFS('Po jménech'!$E$2:$E$2024,$B23,'Po jménech'!$I$2:$I$2024,9,'Po jménech'!$J$2:$J$2024,16) -> 1 | AH23: =COUNTIFS('Po jménech'!$E$2:$E$2024,$B23,'Po jménech'!$I$2:$I$2024,9,'Po jménech'!$J$2:$J$2024,8) -> 0 | AI23: =COUNTIFS('Po jménech'!$E$2:$E$2024,$B23,'Po jménech'!$I$2:$I$2024,9,'Po jménech'!$J$2:$J$2024,4) -> 0 | AJ23: =COUNTIFS('Po jménech'!$E$2:$E$2024,$B23,'Po jménech'!$I$2:$I$2024,9,'Po jménech'!$J$2:$J$2024,2) -> 0 | AK23: =COUNTIFS('Po jménech'!$E$2:$E$2024,$B23,'Po jménech'!$I$2:$I$2024,9,'Po jménech'!$J$2:$J$2024,1) -> 2
A24: 21 | B24: Dorobant Miroslav | M24: 2 | N24: 2 | T24: 4 | U24: 1 | V24: 1 | X24: 1 | Y24: 1 | Z24: 4 | AB24: 1 | AE24: 17 | AF24: =COUNTIFS('Po jménech'!$E$2:$E$2024,$B24,'Po jménech'!$I$2:$I$2024,9) -> 9 | AG24: =COUNTIFS('Po jménech'!$E$2:$E$2024,$B24,'Po jménech'!$I$2:$I$2024,9,'Po jménech'!$J$2:$J$2024,16) -> 0 | AH24: =COUNTIFS('Po jménech'!$E$2:$E$2024,$B24,'Po jménech'!$I$2:$I$2024,9,'Po jménech'!$J$2:$J$2024,8) -> 0 | AI24: =COUNTIFS('Po jménech'!$E$2:$E$2024,$B24,'Po jménech'!$I$2:$I$2024,9,'Po jménech'!$J$2:$J$2024,4) -> 2 | AJ24: =COUNTIFS('Po jménech'!$E$2:$E$2024,$B24,'Po jménech'!$I$2:$I$2024,9,'Po jménech'!$J$2:$J$2024,2) -> 2 | AK24: =COUNTIFS('Po jménech'!$E$2:$E$2024,$B24,'Po jménech'!$I$2:$I$2024,9,'Po jménech'!$J$2:$J$2024,1) -> 5
A25: 22 | B25: Dorobant Slavomír | O25: 8 | U25: 2 | W25: 4 | AD25: 1 | AE25: 15 | AF25: =COUNTIFS('Po jménech'!$E$2:$E$2024,$B25,'Po jménech'!$I$2:$I$2024,9) -> 4 | AG25: =COUNTIFS('Po jménech'!$E$2:$E$2024,$B25,'Po jménech'!$I$2:$I$2024,9,'Po jménech'!$J$2:$J$2024,16) -> 0 | AH25: =COUNTIFS('Po jménech'!$E$2:$E$2024,$B25,'Po jménech'!$I$2:$I$2024,9,'Po jménech'!$J$2:$J$2024,8) -> 1 | AI25: =COUNTIFS('Po jménech'!$E$2:$E$2024,$B25,'Po jménech'!$I$2:$I$2024,9,'Po jménech'!$J$2:$J$2024,4) -> 1 | AJ25: =COUNTIFS('Po jménech'!$E$2:$E$2024,$B25,'Po jménech'!$I$2:$I$2024,9,'Po jménech'!$J$2:$J$2024,2) -> 1 | AK25: =COUNTIFS('Po jménech'!$E$2:$E$2024,$B25,'Po jménech'!$I$2:$I$2024,9,'Po jménech'!$J$2:$J$2024,1) -> 1
A26: 23 | B26: Nechvíle Josef | T26: 1 | U26: 1 | V26: 8 | W26: 2 | X26: 1 | Y26: 1 | Z26: 1 | AE26: 15 | AF26: =COUNTIFS('Po jménech'!$E$2:$E$2024,$B26,'Po jménech'!$I$2:$I$2024,9) -> 7 | AG26: =COUNTIFS('Po jménech'!$E$2:$E$2024,$B26,'Po jménech'!$I$2:$I$2024,9,'Po jménech'!$J$2:$J$2024,16) -> 0 | AH26: =COUNTIFS('Po jménech'!$E$2:$E$2024,$B26,'Po jménech'!$I$2:$I$2024,9,'Po jménech'!$J$2:$J$2024,8) -> 1 | AI26: =COUNTIFS('Po jménech'!$E$2:$E$2024,$B26,'Po jménech'!$I$2:$I$2024,9,'Po jménech'!$J$2:$J$2024,4) -> 0 | AJ26: =COUNTIFS('Po jménech'!$E$2:$E$2024,$B26,'Po jménech'!$I$2:$I$2024,9,'Po jménech'!$J$2:$J$2024,2) -> 1 | AK26: =COUNTIFS('Po jménech'!$E$2:$E$2024,$B26,'Po jménech'!$I$2:$I$2024,9,'Po jménech'!$J$2:$J$2024,1) -> 5
A27: 24 | B27: Voráček Petr | C27: 8 | D27: 1 | E27: 2 | F27: 2 | G27: 1 | AE27: 14 | AF27: =COUNTIFS('Po jménech'!$E$2:$E$2024,$B27,'Po jménech'!$I$2:$I$2024,9) -> 5 | AG27: =COUNTIFS('Po jménech'!$E$2:$E$2024,$B27,'Po jménech'!$I$2:$I$2024,9,'Po jménech'!$J$2:$J$2024,16) -> 0 | AH27: =COUNTIFS('Po jménech'!$E$2:$E$2024,$B27,'Po jménech'!$I$2:$I$2024,9,'Po jménech'!$J$2:$J$2024,8) -> 1 | AI27: =COUNTIFS('Po jménech'!$E$2:$E$2024,$B27,'Po jménech'!$I$2:$I$2024,9,'Po jménech'!$J$2:$J$2024,4) -> 0 | AJ27: =COUNTIFS('Po jménech'!$E$2:$E$2024,$B27,'Po jménech'!$I$2:$I$2024,9,'Po jménech'!$J$2:$J$2024,2) -> 2 | AK27: =COUNTIFS('Po jménech'!$E$2:$E$2024,$B27,'Po jménech'!$I$2:$I$2024,9,'Po jménech'!$J$2:$J$2024,1) -> 2
A28: 25 | B28: Balaštík Pavel | Q28: 1 | R28: 1 | S28: 1 | T28: 1 | U28: 1 | V28: 4 | W28: 1 | X28: 1 | Y28: 2 | Z28: 1 | AE28: 14 | AF28: =COUNTIFS('Po jménech'!$E$2:$E$2024,$B28,'Po jménech'!$I$2:$I$2024,9) -> 10 | AG28: =COUNTIFS('Po jménech'!$E$2:$E$2024,$B28,'Po jménech'!$I$2:$I$2024,9,'Po jménech'!$J$2:$J$2024,16) -> 0 | AH28: =COUNTIFS('Po jménech'!$E$2:$E$2024,$B28,'Po jménech'!$I$2:$I$2024,9,'Po jménech'!$J$2:$J$2024,8) -> 0 | AI28: =COUNTIFS('Po jménech'!$E$2:$E$2024,$B28,'Po jménech'!$I$2:$I$2024,9,'Po jménech'!$J$2:$J$2024,4) -> 1 | AJ28: =COUNTIFS('Po jménech'!$E$2:$E$2024,$B28,'Po jménech'!$I$2:$I$2024,9,'Po jménech'!$J$2:$J$2024,2) -> 1 | AK28: =COUNTIFS('Po jménech'!$E$2:$E$2024,$B28,'Po jménech'!$I$2:$I$2024,9,'Po jménech'!$J$2:$J$2024,1) -> 8
A29: 26 | B29: Zhou Longdi | P29: 1 | Q29: 4 | R29: 1 | X29: 2 | Y29: 1 | Z29: 1 | AA29: 1 | AC29: 1 | AD29: 1 | AE29: 13 | AF29: =COUNTIFS('Po jménech'!$E$2:$E$2024,$B29,'Po jménech'!$I$2:$I$2024,9) -> 9 | AG29: =COUNTIFS('Po jménech'!$E$2:$E$2024,$B29,'Po jménech'!$I$2:$I$2024,9,'Po jménech'!$J$2:$J$2024,16) -> 0 | AH29: =COUNTIFS('Po jménech'!$E$2:$E$2024,$B29,'Po jménech'!$I$2:$I$2024,9,'Po jménech'!$J$2:$J$2024,8) -> 0 | AI29: =COUNTIFS('Po jménech'!$E$2:$E$2024,$B29,'Po jménech'!$I$2:$I$2024,9,'Po jménech'!$J$2:$J$2024,4) -> 1 | AJ29: =COUNTIFS('Po jménech'!$E$2:$E$2024,$B29,'Po jménech'!$I$2:$I$2024,9,'Po jménech'!$J$2:$J$2024,2) -> 1 | AK29: =COUNTIFS('Po jménech'!$E$2:$E$2024,$B29,'Po jménech'!$I$2:$I$2024,9,'Po jménech'!$J$2:$J$2024,1) -> 7
A30: 27 | B30: Hajšman Ladislav | AA30: 8 | AB30: 4 | AD30: 1 | AE30: 13 | AF30: =COUNTIFS('Po jménech'!$E$2:$E$2024,$B30,'Po jménech'!$I$2:$I$2024,9) -> 3 | AG30: =COUNTIFS('Po jménech'!$E$2:$E$2024,$B30,'Po jménech'!$I$2:$I$2024,9,'Po jménech'!$J$2:$J$2024,16) -> 0 | AH30: =COUNTIFS('Po jménech'!$E$2:$E$2024,$B30,'Po jménech'!$I$2:$I$2024,9,'Po jménech'!$J$2:$J$2024,8) -> 1 | AI30: =COUNTIFS('Po jménech'!$E$2:$E$2024,$B30,'Po jménech'!$I$2:$I$2024,9,'Po jménech'!$J$2:$J$2024,4) -> 1 | AJ30: =COUNTIFS('Po jménech'!$E$2:$E$2024,$B30,'Po jménech'!$I$2:$I$2024,9,'Po jménech'!$J$2:$J$2024,2) -> 0 | AK30: =COUNTIFS('Po jménech'!$E$2:$E$2024,$B30,'Po jménech'!$I$2:$I$2024,9,'Po jménech'!$J$2:$J$2024,1) -> 1
A31: 28 | B31: Washburn Calvin | V31: 1 | Z31: 2 | AA31: 1 | AB31: 1 | AC31: 4 | AD31: 2 | AE31: 11 | AF31: =COUNTIFS('Po jménech'!$E$2:$E$2024,$B31,'Po jménech'!$I$2:$I$2024,9) -> 6 | AG31: =COUNTIFS('Po jménech'!$E$2:$E$2024,$B31,'Po jménech'!$I$2:$I$2024,9,'Po jménech'!$J$2:$J$2024,16) -> 0 | AH31: =COUNTIFS('Po jménech'!$E$2:$E$2024,$B31,'Po jménech'!$I$2:$I$2024,9,'Po jménech'!$J$2:$J$2024,8) -> 0 | AI31: =COUNTIFS('Po jménech'!$E$2:$E$2024,$B31,'Po jménech'!$I$2:$I$2024,9,'Po jménech'!$J$2:$J$2024,4) -> 1 | AJ31: =COUNTIFS('Po jménech'!$E$2:$E$2024,$B31,'Po jménech'!$I$2:$I$2024,9,'Po jménech'!$J$2:$J$2024,2) -> 2 | AK31: =COUNTIFS('Po jménech'!$E$2:$E$2024,$B31,'Po jménech'!$I$2:$I$2024,9,'Po jménech'!$J$2:$J$2024,1) -> 3
A32: 29 | B32: Kraušner Miroslav | K32: 1 | L32: 1 | M32: 1 | N32: 1 | O32: 2 | P32: 1 | Q32: 1 | U32: 2 | Y32: 1 | AE32: 11 | AF32: =COUNTIFS('Po jménech'!$E$2:$E$2024,$B32,'Po jménech'!$I$2:$I$2024,9) -> 9 | AG32: =COUNTIFS('Po jménech'!$E$2:$E$2024,$B32,'Po jménech'!$I$2:$I$2024,9,'Po jménech'!$J$2:$J$2024,16) -> 0 | AH32: =COUNTIFS('Po jménech'!$E$2:$E$2024,$B32,'Po jménech'!$I$2:$I$2024,9,'Po jménech'!$J$2:$J$2024,8) -> 0 | AI32: =COUNTIFS('Po jménech'!$E$2:$E$2024,$B32,'Po jménech'!$I$2:$I$2024,9,'Po jménech'!$J$2:$J$2024,4) -> 0 | AJ32: =COUNTIFS('Po jménech'!$E$2:$E$2024,$B32,'Po jménech'!$I$2:$I$2024,9,'Po jménech'!$J$2:$J$2024,2) -> 2 | AK32: =COUNTIFS('Po jménech'!$E$2:$E$2024,$B32,'Po jménech'!$I$2:$I$2024,9,'Po jménech'!$J$2:$J$2024,1) -> 7
A33: 30 | B33: Jelínek Jakub | I33: 1 | J33: 4 | K33: 2 | L33: 2 | M33: 2 | AE33: 11 | AF33: =COUNTIFS('Po jménech'!$E$2:$E$2024,$B33,'Po jménech'!$I$2:$I$2024,9) -> 5 | AG33: =COUNTIFS('Po jménech'!$E$2:$E$2024,$B33,'Po jménech'!$I$2:$I$2024,9,'Po jménech'!$J$2:$J$2024,16) -> 0 | AH33: =COUNTIFS('Po jménech'!$E$2:$E$2024,$B33,'Po jménech'!$I$2:$I$2024,9,'Po jménech'!$J$2:$J$2024,8) -> 0 | AI33: =COUNTIFS('Po jménech'!$E$2:$E$2024,$B33,'Po jménech'!$I$2:$I$2024,9,'Po jménech'!$J$2:$J$2024,4) -> 1 | AJ33: =COUNTIFS('Po jménech'!$E$2:$E$2024,$B33,'Po jménech'!$I$2:$I$2024,9,'Po jménech'!$J$2:$J$2024,2) -> 3 | AK33: =COUNTIFS('Po jménech'!$E$2:$E$2024,$B33,'Po jménech'!$I$2:$I$2024,9,'Po jménech'!$J$2:$J$2024,1) -> 1
A34: 31 | B34: Vladyka Robin | U34: 1 | V34: 1 | W34: 1 | X34: 1 | Y34: 1 | AA34: 1 | AB34: 2 | AC34: 2 | AE34: 10 | AF34: =COUNTIFS('Po jménech'!$E$2:$E$2024,$B34,'Po jménech'!$I$2:$I$2024,9) -> 8 | AG34: =COUNTIFS('Po jménech'!$E$2:$E$2024,$B34,'Po jménech'!$I$2:$I$2024,9,'Po jménech'!$J$2:$J$2024,16) -> 0 | AH34: =COUNTIFS('Po jménech'!$E$2:$E$2024,$B34,'Po jménech'!$I$2:$I$2024,9,'Po jménech'!$J$2:$J$2024,8) -> 0 | AI34: =COUNTIFS('Po jménech'!$E$2:$E$2024,$B34,'Po jménech'!$I$2:$I$2024,9,'Po jménech'!$J$2:$J$2024,4) -> 0 | AJ34: =COUNTIFS('Po jménech'!$E$2:$E$2024,$B34,'Po jménech'!$I$2:$I$2024,9,'Po jménech'!$J$2:$J$2024,2) -> 2 | AK34: =COUNTIFS('Po jménech'!$E$2:$E$2024,$B34,'Po jménech'!$I$2:$I$2024,9,'Po jménech'!$J$2:$J$2024,1) -> 6
A35: 32 | B35: Bröschel Jan | N35: 1 | O35: 1 | P35: 1 | R35: 1 | S35: 2 | T35: 2 | U35: 1 | Y35: 1 | AE35: 10 | AF35: =COUNTIFS('Po jménech'!$E$2:$E$2024,$B35,'Po jménech'!$I$2:$I$2024,9) -> 8 | AG35: =COUNTIFS('Po jménech'!$E$2:$E$2024,$B35,'Po jménech'!$I$2:$I$2024,9,'Po jménech'!$J$2:$J$2024,16) -> 0 | AH35: =COUNTIFS('Po jménech'!$E$2:$E$2024,$B35,'Po jménech'!$I$2:$I$2024,9,'Po jménech'!$J$2:$J$2024,8) -> 0 | AI35: =COUNTIFS('Po jménech'!$E$2:$E$2024,$B35,'Po jménech'!$I$2:$I$2024,9,'Po jménech'!$J$2:$J$2024,4) -> 0 | AJ35: =COUNTIFS('Po jménech'!$E$2:$E$2024,$B35,'Po jménech'!$I$2:$I$2024,9,'Po jménech'!$J$2:$J$2024,2) -> 2 | AK35: =COUNTIFS('Po jménech'!$E$2:$E$2024,$B35,'Po jménech'!$I$2:$I$2024,9,'Po jménech'!$J$2:$J$2024,1) -> 6
A36: 33 | B36: Stuna Jakub | V36: 2 | W36: 1 | X36: 4 | Y36: 2 | AD36: 1 | AE36: 10 | AF36: =COUNTIFS('Po jménech'!$E$2:$E$2024,$B36,'Po jménech'!$I$2:$I$2024,9) -> 5 | AG36: =COUNTIFS('Po jménech'!$E$2:$E$2024,$B36,'Po jménech'!$I$2:$I$2024,9,'Po jménech'!$J$2:$J$2024,16) -> 0 | AH36: =COUNTIFS('Po jménech'!$E$2:$E$2024,$B36,'Po jménech'!$I$2:$I$2024,9,'Po jménech'!$J$2:$J$2024,8) -> 0 | AI36: =COUNTIFS('Po jménech'!$E$2:$E$2024,$B36,'Po jménech'!$I$2:$I$2024,9,'Po jménech'!$J$2:$J$2024,4) -> 1 | AJ36: =COUNTIFS('Po jménech'!$E$2:$E$2024,$B36,'Po jménech'!$I$2:$I$2024,9,'Po jménech'!$J$2:$J$2024,2) -> 2 | AK36: =COUNTIFS('Po jménech'!$E$2:$E$2024,$B36,'Po jménech'!$I$2:$I$2024,9,'Po jménech'!$J$2:$J$2024,1) -> 2
A37: 34 | B37: Zabloudil Štěpán | C37: 4 | D37: 4 | G37: 1 | AE37: 9 | AF37: =COUNTIFS('Po jménech'!$E$2:$E$2024,$B37,'Po jménech'!$I$2:$I$2024,9) -> 3 | AG37: =COUNTIFS('Po jménech'!$E$2:$E$2024,$B37,'Po jménech'!$I$2:$I$2024,9,'Po jménech'!$J$2:$J$2024,16) -> 0 | AH37: =COUNTIFS('Po jménech'!$E$2:$E$2024,$B37,'Po jménech'!$I$2:$I$2024,9,'Po jménech'!$J$2:$J$2024,8) -> 0 | AI37: =COUNTIFS('Po jménech'!$E$2:$E$2024,$B37,'Po jménech'!$I$2:$I$2024,9,'Po jménech'!$J$2:$J$2024,4) -> 2 | AJ37: =COUNTIFS('Po jménech'!$E$2:$E$2024,$B37,'Po jménech'!$I$2:$I$2024,9,'Po jménech'!$J$2:$J$2024,2) -> 0 | AK37: =COUNTIFS('Po jménech'!$E$2:$E$2024,$B37,'Po jménech'!$I$2:$I$2024,9,'Po jménech'!$J$2:$J$2024,1) -> 1
A38: 35 | B38: Škvor Jan | E38: 4 | G38: 1 | H38: 2 | I38: 1 | K38: 1 | AE38: 9 | AF38: =COUNTIFS('Po jménech'!$E$2:$E$2024,$B38,'Po jménech'!$I$2:$I$2024,9) -> 5 | AG38: =COUNTIFS('Po jménech'!$E$2:$E$2024,$B38,'Po jménech'!$I$2:$I$2024,9,'Po jménech'!$J$2:$J$2024,16) -> 0 | AH38: =COUNTIFS('Po jménech'!$E$2:$E$2024,$B38,'Po jménech'!$I$2:$I$2024,9,'Po jménech'!$J$2:$J$2024,8) -> 0 | AI38: =COUNTIFS('Po jménech'!$E$2:$E$2024,$B38,'Po jménech'!$I$2:$I$2024,9,'Po jménech'!$J$2:$J$2024,4) -> 1 | AJ38: =COUNTIFS('Po jménech'!$E$2:$E$2024,$B38,'Po jménech'!$I$2:$I$2024,9,'Po jménech'!$J$2:$J$2024,2) -> 1 | AK38: =COUNTIFS('Po jménech'!$E$2:$E$2024,$B38,'Po jménech'!$I$2:$I$2024,9,'Po jménech'!$J$2:$J$2024,1) -> 3
A39: 36 | B39: Frei Petr | M39: 8 | AE39: 8 | AF39: =COUNTIFS('Po jménech'!$E$2:$E$2024,$B39,'Po jménech'!$I$2:$I$2024,9) -> 1 | AG39: =COUNTIFS('Po jménech'!$E$2:$E$2024,$B39,'Po jménech'!$I$2:$I$2024,9,'Po jménech'!$J$2:$J$2024,16) -> 0 | AH39: =COUNTIFS('Po jménech'!$E$2:$E$2024,$B39,'Po jménech'!$I$2:$I$2024,9,'Po jménech'!$J$2:$J$2024,8) -> 1 | AI39: =COUNTIFS('Po jménech'!$E$2:$E$2024,$B39,'Po jménech'!$I$2:$I$2024,9,'Po jménech'!$J$2:$J$2024,4) -> 0 | AJ39: =COUNTIFS('Po jménech'!$E$2:$E$2024,$B39,'Po jménech'!$I$2:$I$2024,9,'Po jménech'!$J$2:$J$2024,2) -> 0 | AK39: =COUNTIFS('Po jménech'!$E$2:$E$2024,$B39,'Po jménech'!$I$2:$I$2024,9,'Po jménech'!$J$2:$J$2024,1) -> 0
A40: 37 | B40: Zajíček Jiří | L40: 2 | M40: 4 | N40: 2 | AE40: 8 | AF40: =COUNTIFS('Po jménech'!$E$2:$E$2024,$B40,'Po jménech'!$I$2:$I$2024,9) -> 3 | AG40: =COUNTIFS('Po jménech'!$E$2:$E$2024,$B40,'Po jménech'!$I$2:$I$2024,9,'Po jménech'!$J$2:$J$2024,16) -> 0 | AH40: =COUNTIFS('Po jménech'!$E$2:$E$2024,$B40,'Po jménech'!$I$2:$I$2024,9,'Po jménech'!$J$2:$J$2024,8) -> 0 | AI40: =COUNTIFS('Po jménech'!$E$2:$E$2024,$B40,'Po jménech'!$I$2:$I$2024,9,'Po jménech'!$J$2:$J$2024,4) -> 1 | AJ40: =COUNTIFS('Po jménech'!$E$2:$E$2024,$B40,'Po jménech'!$I$2:$I$2024,9,'Po jménech'!$J$2:$J$2024,2) -> 2 | AK40: =COUNTIFS('Po jménech'!$E$2:$E$2024,$B40,'Po jménech'!$I$2:$I$2024,9,'Po jménech'!$J$2:$J$2024,1) -> 0
A41: 38 | B41: Duna Zoltán | V41: 1 | X41: 1 | Y41: 1 | Z41: 1 | AA41: 1 | AB41: 1 | AC41: 1 | AD41: 1 | AE41: 8 | AF41: =COUNTIFS('Po jménech'!$E$2:$E$2024,$B41,'Po jménech'!$I$2:$I$2024,9) -> 8 | AG41: =COUNTIFS('Po jménech'!$E$2:$E$2024,$B41,'Po jménech'!$I$2:$I$2024,9,'Po jménech'!$J$2:$J$2024,16) -> 0 | AH41: =COUNTIFS('Po jménech'!$E$2:$E$2024,$B41,'Po jménech'!$I$2:$I$2024,9,'Po jménech'!$J$2:$J$2024,8) -> 0 | AI41: =COUNTIFS('Po jménech'!$E$2:$E$2024,$B41,'Po jménech'!$I$2:$I$2024,9,'Po jménech'!$J$2:$J$2024,4) -> 0 | AJ41: =COUNTIFS('Po jménech'!$E$2:$E$2024,$B41,'Po jménech'!$I$2:$I$2024,9,'Po jménech'!$J$2:$J$2024,2) -> 0 | AK41: =COUNTIFS('Po jménech'!$E$2:$E$2024,$B41,'Po jménech'!$I$2:$I$2024,9,'Po jménech'!$J$2:$J$2024,1) -> 8
A42: 39 | B42: Erös Dávid | R42: 1 | T42: 1 | U42: 2 | V42: 1 | W42: 1 | X42: 2 | AE42: 8 | AF42: =COUNTIFS('Po jménech'!$E$2:$E$2024,$B42,'Po jménech'!$I$2:$I$2024,9) -> 6 | AG42: =COUNTIFS('Po jménech'!$E$2:$E$2024,$B42,'Po jménech'!$I$2:$I$2024,9,'Po jménech'!$J$2:$J$2024,16) -> 0 | AH42: =COUNTIFS('Po jménech'!$E$2:$E$2024,$B42,'Po jménech'!$I$2:$I$2024,9,'Po jménech'!$J$2:$J$2024,8) -> 0 | AI42: =COUNTIFS('Po jménech'!$E$2:$E$2024,$B42,'Po jménech'!$I$2:$I$2024,9,'Po jménech'!$J$2:$J$2024,4) -> 0 | AJ42: =COUNTIFS('Po jménech'!$E$2:$E$2024,$B42,'Po jménech'!$I$2:$I$2024,9,'Po jménech'!$J$2:$J$2024,2) -> 2 | AK42: =COUNTIFS('Po jménech'!$E$2:$E$2024,$B42,'Po jménech'!$I$2:$I$2024,9,'Po jménech'!$J$2:$J$2024,1) -> 4
A43: 40 | B43: Tužil Pavel | V43: 1 | W43: 1 | X43: 1 | Y43: 1 | AB43: 4 | AE43: 8 | AF43: =COUNTIFS('Po jménech'!$E$2:$E$2024,$B43,'Po jménech'!$I$2:$I$2024,9) -> 5 | AG43: =COUNTIFS('Po jménech'!$E$2:$E$2024,$B43,'Po jménech'!$I$2:$I$2024,9,'Po jménech'!$J$2:$J$2024,16) -> 0 | AH43: =COUNTIFS('Po jménech'!$E$2:$E$2024,$B43,'Po jménech'!$I$2:$I$2024,9,'Po jménech'!$J$2:$J$2024,8) -> 0 | AI43: =COUNTIFS('Po jménech'!$E$2:$E$2024,$B43,'Po jménech'!$I$2:$I$2024,9,'Po jménech'!$J$2:$J$2024,4) -> 1 | AJ43: =COUNTIFS('Po jménech'!$E$2:$E$2024,$B43,'Po jménech'!$I$2:$I$2024,9,'Po jménech'!$J$2:$J$2024,2) -> 0 | AK43: =COUNTIFS('Po jménech'!$E$2:$E$2024,$B43,'Po jménech'!$I$2:$I$2024,9,'Po jménech'!$J$2:$J$2024,1) -> 4
A44: 41 | B44: Horák Michal | T44: 1 | X44: 1 | Z44: 1 | AA44: 1 | AB44: 1 | AC44: 1 | AD44: 1 | AE44: 7 | AF44: =COUNTIFS('Po jménech'!$E$2:$E$2024,$B44,'Po jménech'!$I$2:$I$2024,9) -> 7 | AG44: =COUNTIFS('Po jménech'!$E$2:$E$2024,$B44,'Po jménech'!$I$2:$I$2024,9,'Po jménech'!$J$2:$J$2024,16) -> 0 | AH44: =COUNTIFS('Po jménech'!$E$2:$E$2024,$B44,'Po jménech'!$I$2:$I$2024,9,'Po jménech'!$J$2:$J$2024,8) -> 0 | AI44: =COUNTIFS('Po jménech'!$E$2:$E$2024,$B44,'Po jménech'!$I$2:$I$2024,9,'Po jménech'!$J$2:$J$2024,4) -> 0 | AJ44: =COUNTIFS('Po jménech'!$E$2:$E$2024,$B44,'Po jménech'!$I$2:$I$2024,9,'Po jménech'!$J$2:$J$2024,2) -> 0 | AK44: =COUNTIFS('Po jménech'!$E$2:$E$2024,$B44,'Po jménech'!$I$2:$I$2024,9,'Po jménech'!$J$2:$J$2024,1) -> 7
A45: 42 | B45: Akenhead James | X45: 1 | Y45: 1 | Z45: 1 | AA45: 1 | AB45: 1 | AC45: 1 | AD45: 1 | AE45: 7 | AF45: =COUNTIFS('Po jménech'!$E$2:$E$2024,$B45,'Po jménech'!$I$2:$I$2024,9) -> 7 | AG45: =COUNTIFS('Po jménech'!$E$2:$E$2024,$B45,'Po jménech'!$I$2:$I$2024,9,'Po jménech'!$J$2:$J$2024,16) -> 0 | AH45: =COUNTIFS('Po jménech'!$E$2:$E$2024,$B45,'Po jménech'!$I$2:$I$2024,9,'Po jménech'!$J$2:$J$2024,8) -> 0 | AI45: =COUNTIFS('Po jménech'!$E$2:$E$2024,$B45,'Po jménech'!$I$2:$I$2024,9,'Po jménech'!$J$2:$J$2024,4) -> 0 | AJ45: =COUNTIFS('Po jménech'!$E$2:$E$2024,$B45,'Po jménech'!$I$2:$I$2024,9,'Po jménech'!$J$2:$J$2024,2) -> 0 | AK45: =COUNTIFS('Po jménech'!$E$2:$E$2024,$B45,'Po jménech'!$I$2:$I$2024,9,'Po jménech'!$J$2:$J$2024,1) -> 7
A46: 43 | B46: Halamka Pavel | P46: 1 | Q46: 1 | R46: 1 | V46: 1 | X46: 1 | Z46: 1 | AB46: 1 | AE46: 7 | AF46: =COUNTIFS('Po jménech'!$E$2:$E$2024,$B46,'Po jménech'!$I$2:$I$2024,9) -> 7 | AG46: =COUNTIFS('Po jménech'!$E$2:$E$2024,$B46,'Po jménech'!$I$2:$I$2024,9,'Po jménech'!$J$2:$J$2024,16) -> 0 | AH46: =COUNTIFS('Po jménech'!$E$2:$E$2024,$B46,'Po jménech'!$I$2:$I$2024,9,'Po jménech'!$J$2:$J$2024,8) -> 0 | AI46: =COUNTIFS('Po jménech'!$E$2:$E$2024,$B46,'Po jménech'!$I$2:$I$2024,9,'Po jménech'!$J$2:$J$2024,4) -> 0 | AJ46: =COUNTIFS('Po jménech'!$E$2:$E$2024,$B46,'Po jménech'!$I$2:$I$2024,9,'Po jménech'!$J$2:$J$2024,2) -> 0 | AK46: =COUNTIFS('Po jménech'!$E$2:$E$2024,$B46,'Po jménech'!$I$2:$I$2024,9,'Po jménech'!$J$2:$J$2024,1) -> 7
A47: 44 | B47: Mihok Michal | Y47: 2 | Z47: 1 | AA47: 1 | AB47: 1 | AC47: 2 | AE47: 7 | AF47: =COUNTIFS('Po jménech'!$E$2:$E$2024,$B47,'Po jménech'!$I$2:$I$2024,9) -> 5 | AG47: =COUNTIFS('Po jménech'!$E$2:$E$2024,$B47,'Po jménech'!$I$2:$I$2024,9,'Po jménech'!$J$2:$J$2024,16) -> 0 | AH47: =COUNTIFS('Po jménech'!$E$2:$E$2024,$B47,'Po jménech'!$I$2:$I$2024,9,'Po jménech'!$J$2:$J$2024,8) -> 0 | AI47: =COUNTIFS('Po jménech'!$E$2:$E$2024,$B47,'Po jménech'!$I$2:$I$2024,9,'Po jménech'!$J$2:$J$2024,4) -> 0 | AJ47: =COUNTIFS('Po jménech'!$E$2:$E$2024,$B47,'Po jménech'!$I$2:$I$2024,9,'Po jménech'!$J$2:$J$2024,2) -> 2 | AK47: =COUNTIFS('Po jménech'!$E$2:$E$2024,$B47,'Po jménech'!$I$2:$I$2024,9,'Po jménech'!$J$2:$J$2024,1) -> 3
A48: 45 | B48: Praus Tomáš | U48: 1 | X48: 1 | Y48: 1 | AA48: 1 | AB48: 1 | AC48: 1 | AD48: 1 | AE48: 7 | AF48: =COUNTIFS('Po jménech'!$E$2:$E$2024,$B48,'Po jménech'!$I$2:$I$2024,9) -> 7 | AG48: =COUNTIFS('Po jménech'!$E$2:$E$2024,$B48,'Po jménech'!$I$2:$I$2024,9,'Po jménech'!$J$2:$J$2024,16) -> 0 | AH48: =COUNTIFS('Po jménech'!$E$2:$E$2024,$B48,'Po jménech'!$I$2:$I$2024,9,'Po jménech'!$J$2:$J$2024,8) -> 0 | AI48: =COUNTIFS('Po jménech'!$E$2:$E$2024,$B48,'Po jménech'!$I$2:$I$2024,9,'Po jménech'!$J$2:$J$2024,4) -> 0 | AJ48: =COUNTIFS('Po jménech'!$E$2:$E$2024,$B48,'Po jménech'!$I$2:$I$2024,9,'Po jménech'!$J$2:$J$2024,2) -> 0 | AK48: =COUNTIFS('Po jménech'!$E$2:$E$2024,$B48,'Po jménech'!$I$2:$I$2024,9,'Po jménech'!$J$2:$J$2024,1) -> 7
A49: 46 | B49: Mika Radek | E49: 2 | G49: 4 | H49: 1 | AE49: 7 | AF49: =COUNTIFS('Po jménech'!$E$2:$E$2024,$B49,'Po jménech'!$I$2:$I$2024,9) -> 3 | AG49: =COUNTIFS('Po jménech'!$E$2:$E$2024,$B49,'Po jménech'!$I$2:$I$2024,9,'Po jménech'!$J$2:$J$2024,16) -> 0 | AH49: =COUNTIFS('Po jménech'!$E$2:$E$2024,$B49,'Po jménech'!$I$2:$I$2024,9,'Po jménech'!$J$2:$J$2024,8) -> 0 | AI49: =COUNTIFS('Po jménech'!$E$2:$E$2024,$B49,'Po jménech'!$I$2:$I$2024,9,'Po jménech'!$J$2:$J$2024,4) -> 1 | AJ49: =COUNTIFS('Po jménech'!$E$2:$E$2024,$B49,'Po jménech'!$I$2:$I$2024,9,'Po jménech'!$J$2:$J$2024,2) -> 1 | AK49: =COUNTIFS('Po jménech'!$E$2:$E$2024,$B49,'Po jménech'!$I$2:$I$2024,9,'Po jménech'!$J$2:$J$2024,1) -> 1
A50: 47 | B50: Trhlík Adam | AA50: 4 | AB50: 1 | AC50: 1 | AE50: 6 | AF50: =COUNTIFS('Po jménech'!$E$2:$E$2024,$B50,'Po jménech'!$I$2:$I$2024,9) -> 3 | AG50: =COUNTIFS('Po jménech'!$E$2:$E$2024,$B50,'Po jménech'!$I$2:$I$2024,9,'Po jménech'!$J$2:$J$2024,16) -> 0 | AH50: =COUNTIFS('Po jménech'!$E$2:$E$2024,$B50,'Po jménech'!$I$2:$I$2024,9,'Po jménech'!$J$2:$J$2024,8) -> 0 | AI50: =COUNTIFS('Po jménech'!$E$2:$E$2024,$B50,'Po jménech'!$I$2:$I$2024,9,'Po jménech'!$J$2:$J$2024,4) -> 1 | AJ50: =COUNTIFS('Po jménech'!$E$2:$E$2024,$B50,'Po jménech'!$I$2:$I$2024,9,'Po jménech'!$J$2:$J$2024,2) -> 0 | AK50: =COUNTIFS('Po jménech'!$E$2:$E$2024,$B50,'Po jménech'!$I$2:$I$2024,9,'Po jménech'!$J$2:$J$2024,1) -> 2
A51: 48 | B51: Vančura Tomáš | V51: 1 | W51: 1 | X51: 1 | Y51: 1 | AA51: 1 | AB51: 1 | AE51: 6 | AF51: =COUNTIFS('Po jménech'!$E$2:$E$2024,$B51,'Po jménech'!$I$2:$I$2024,9) -> 6 | AG51: =COUNTIFS('Po jménech'!$E$2:$E$2024,$B51,'Po jménech'!$I$2:$I$2024,9,'Po jménech'!$J$2:$J$2024,16) -> 0 | AH51: =COUNTIFS('Po jménech'!$E$2:$E$2024,$B51,'Po jménech'!$I$2:$I$2024,9,'Po jménech'!$J$2:$J$2024,8) -> 0 | AI51: =COUNTIFS('Po jménech'!$E$2:$E$2024,$B51,'Po jménech'!$I$2:$I$2024,9,'Po jménech'!$J$2:$J$2024,4) -> 0 | AJ51: =COUNTIFS('Po jménech'!$E$2:$E$2024,$B51,'Po jménech'!$I$2:$I$2024,9,'Po jménech'!$J$2:$J$2024,2) -> 0 | AK51: =COUNTIFS('Po jménech'!$E$2:$E$2024,$B51,'Po jménech'!$I$2:$I$2024,9,'Po jménech'!$J$2:$J$2024,1) -> 6
A52: 49 | B52: Příhoda Jiří | I52: 2 | J52: 2 | K52: 1 | AD52: 1 | AE52: 6 | AF52: =COUNTIFS('Po jménech'!$E$2:$E$2024,$B52,'Po jménech'!$I$2:$I$2024,9) -> 4 | AG52: =COUNTIFS('Po jménech'!$E$2:$E$2024,$B52,'Po jménech'!$I$2:$I$2024,9,'Po jménech'!$J$2:$J$2024,16) -> 0 | AH52: =COUNTIFS('Po jménech'!$E$2:$E$2024,$B52,'Po jménech'!$I$2:$I$2024,9,'Po jménech'!$J$2:$J$2024,8) -> 0 | AI52: =COUNTIFS('Po jménech'!$E$2:$E$2024,$B52,'Po jménech'!$I$2:$I$2024,9,'Po jménech'!$J$2:$J$2024,4) -> 0 | AJ52: =COUNTIFS('Po jménech'!$E$2:$E$2024,$B52,'Po jménech'!$I$2:$I$2024,9,'Po jménech'!$J$2:$J$2024,2) -> 2 | AK52: =COUNTIFS('Po jménech'!$E$2:$E$2024,$B52,'Po jménech'!$I$2:$I$2024,9,'Po jménech'!$J$2:$J$2024,1) -> 2
A53: 50 | B53: Marič Márijo | V53: 1 | AA53: 1 | AB53: 2 | AD53: 1 | AE53: 5 | AF53: =COUNTIFS('Po jménech'!$E$2:$E$2024,$B53,'Po jménech'!$I$2:$I$2024,9) -> 4 | AG53: =COUNTIFS('Po jménech'!$E$2:$E$2024,$B53,'Po jménech'!$I$2:$I$2024,9,'Po jménech'!$J$2:$J$2024,16) -> 0 | AH53: =COUNTIFS('Po jménech'!$E$2:$E$2024,$B53,'Po jménech'!$I$2:$I$2024,9,'Po jménech'!$J$2:$J$2024,8) -> 0 | AI53: =COUNTIFS('Po jménech'!$E$2:$E$2024,$B53,'Po jménech'!$I$2:$I$2024,9,'Po jménech'!$J$2:$J$2024,4) -> 0 | AJ53: =COUNTIFS('Po jménech'!$E$2:$E$2024,$B53,'Po jménech'!$I$2:$I$2024,9,'Po jménech'!$J$2:$J$2024,2) -> 1 | AK53: =COUNTIFS('Po jménech'!$E$2:$E$2024,$B53,'Po jménech'!$I$2:$I$2024,9,'Po jménech'!$J$2:$J$2024,1) -> 3
A54: 51 | B54: Trojáček Martin | H54: 2 | I54: 1 | J54: 1 | L54: 1 | AE54: 5 | AF54: =COUNTIFS('Po jménech'!$E$2:$E$2024,$B54,'Po jménech'!$I$2:$I$2024,9) -> 4 | AG54: =COUNTIFS('Po jménech'!$E$2:$E$2024,$B54,'Po jménech'!$I$2:$I$2024,9,'Po jménech'!$J$2:$J$2024,16) -> 0 | AH54: =COUNTIFS('Po jménech'!$E$2:$E$2024,$B54,'Po jménech'!$I$2:$I$2024,9,'Po jménech'!$J$2:$J$2024,8) -> 0 | AI54: =COUNTIFS('Po jménech'!$E$2:$E$2024,$B54,'Po jménech'!$I$2:$I$2024,9,'Po jménech'!$J$2:$J$2024,4) -> 0 | AJ54: =COUNTIFS('Po jménech'!$E$2:$E$2024,$B54,'Po jménech'!$I$2:$I$2024,9,'Po jménech'!$J$2:$J$2024,2) -> 1 | AK54: =COUNTIFS('Po jménech'!$E$2:$E$2024,$B54,'Po jménech'!$I$2:$I$2024,9,'Po jménech'!$J$2:$J$2024,1) -> 3
A55: 52 | B55: Vacek Jiří | F55: 1 | V55: 1 | W55: 1 | X55: 1 | Z55: 1 | AE55: 5 | AF55: =COUNTIFS('Po jménech'!$E$2:$E$2024,$B55,'Po jménech'!$I$2:$I$2024,9) -> 5 | AG55: =COUNTIFS('Po jménech'!$E$2:$E$2024,$B55,'Po jménech'!$I$2:$I$2024,9,'Po jménech'!$J$2:$J$2024,16) -> 0 | AH55: =COUNTIFS('Po jménech'!$E$2:$E$2024,$B55,'Po jménech'!$I$2:$I$2024,9,'Po jménech'!$J$2:$J$2024,8) -> 0 | AI55: =COUNTIFS('Po jménech'!$E$2:$E$2024,$B55,'Po jménech'!$I$2:$I$2024,9,'Po jménech'!$J$2:$J$2024,4) -> 0 | AJ55: =COUNTIFS('Po jménech'!$E$2:$E$2024,$B55,'Po jménech'!$I$2:$I$2024,9,'Po jménech'!$J$2:$J$2024,2) -> 0 | AK55: =COUNTIFS('Po jménech'!$E$2:$E$2024,$B55,'Po jménech'!$I$2:$I$2024,9,'Po jménech'!$J$2:$J$2024,1) -> 5
A56: 53 | B56: Kulas René | Z56: 1 | AA56: 2 | AC56: 1 | AD56: 1 | AE56: 5 | AF56: =COUNTIFS('Po jménech'!$E$2:$E$2024,$B56,'Po jménech'!$I$2:$I$2024,9) -> 4 | AG56: =COUNTIFS('Po jménech'!$E$2:$E$2024,$B56,'Po jménech'!$I$2:$I$2024,9,'Po jménech'!$J$2:$J$2024,16) -> 0 | AH56: =COUNTIFS('Po jménech'!$E$2:$E$2024,$B56,'Po jménech'!$I$2:$I$2024,9,'Po jménech'!$J$2:$J$2024,8) -> 0 | AI56: =COUNTIFS('Po jménech'!$E$2:$E$2024,$B56,'Po jménech'!$I$2:$I$2024,9,'Po jménech'!$J$2:$J$2024,4) -> 0 | AJ56: =COUNTIFS('Po jménech'!$E$2:$E$2024,$B56,'Po jménech'!$I$2:$I$2024,9,'Po jménech'!$J$2:$J$2024,2) -> 1 | AK56: =COUNTIFS('Po jménech'!$E$2:$E$2024,$B56,'Po jménech'!$I$2:$I$2024,9,'Po jménech'!$J$2:$J$2024,1) -> 3
A57: 54 | B57: Kůs Erik | U57: 1 | V57: 1 | W57: 1 | Z57: 1 | AA57: 1 | AE57: 5 | AF57: =COUNTIFS('Po jménech'!$E$2:$E$2024,$B57,'Po jménech'!$I$2:$I$2024,9) -> 5 | AG57: =COUNTIFS('Po jménech'!$E$2:$E$2024,$B57,'Po jménech'!$I$2:$I$2024,9,'Po jménech'!$J$2:$J$2024,16) -> 0 | AH57: =COUNTIFS('Po jménech'!$E$2:$E$2024,$B57,'Po jménech'!$I$2:$I$2024,9,'Po jménech'!$J$2:$J$2024,8) -> 0 | AI57: =COUNTIFS('Po jménech'!$E$2:$E$2024,$B57,'Po jménech'!$I$2:$I$2024,9,'Po jménech'!$J$2:$J$2024,4) -> 0 | AJ57: =COUNTIFS('Po jménech'!$E$2:$E$2024,$B57,'Po jménech'!$I$2:$I$2024,9,'Po jménech'!$J$2:$J$2024,2) -> 0 | AK57: =COUNTIFS('Po jménech'!$E$2:$E$2024,$B57,'Po jménech'!$I$2:$I$2024,9,'Po jménech'!$J$2:$J$2024,1) -> 5
A58: 55 | B58: Velíšek Josef | V58: 1 | W58: 1 | X58: 1 | Y58: 1 | Z58: 1 | AE58: 5 | AF58: =COUNTIFS('Po jménech'!$E$2:$E$2024,$B58,'Po jménech'!$I$2:$I$2024,9) -> 5 | AG58: =COUNTIFS('Po jménech'!$E$2:$E$2024,$B58,'Po jménech'!$I$2:$I$2024,9,'Po jménech'!$J$2:$J$2024,16) -> 0 | AH58: =COUNTIFS('Po jménech'!$E$2:$E$2024,$B58,'Po jménech'!$I$2:$I$2024,9,'Po jménech'!$J$2:$J$2024,8) -> 0 | AI58: =COUNTIFS('Po jménech'!$E$2:$E$2024,$B58,'Po jménech'!$I$2:$I$2024,9,'Po jménech'!$J$2:$J$2024,4) -> 0 | AJ58: =COUNTIFS('Po jménech'!$E$2:$E$2024,$B58,'Po jménech'!$I$2:$I$2024,9,'Po jménech'!$J$2:$J$2024,2) -> 0 | AK58: =COUNTIFS('Po jménech'!$E$2:$E$2024,$B58,'Po jménech'!$I$2:$I$2024,9,'Po jménech'!$J$2:$J$2024,1) -> 5
A59: 56 | B59: Remeň Miloslav | D59: 4 | AE59: 4 | AF59: =COUNTIFS('Po jménech'!$E$2:$E$2024,$B59,'Po jménech'!$I$2:$I$2024,9) -> 1 | AG59: =COUNTIFS('Po jménech'!$E$2:$E$2024,$B59,'Po jménech'!$I$2:$I$2024,9,'Po jménech'!$J$2:$J$2024,16) -> 0 | AH59: =COUNTIFS('Po jménech'!$E$2:$E$2024,$B59,'Po jménech'!$I$2:$I$2024,9,'Po jménech'!$J$2:$J$2024,8) -> 0 | AI59: =COUNTIFS('Po jménech'!$E$2:$E$2024,$B59,'Po jménech'!$I$2:$I$2024,9,'Po jménech'!$J$2:$J$2024,4) -> 1 | AJ59: =COUNTIFS('Po jménech'!$E$2:$E$2024,$B59,'Po jménech'!$I$2:$I$2024,9,'Po jménech'!$J$2:$J$2024,2) -> 0 | AK59: =COUNTIFS('Po jménech'!$E$2:$E$2024,$B59,'Po jménech'!$I$2:$I$2024,9,'Po jménech'!$J$2:$J$2024,1) -> 0
A60: 57 | B60: Lebduška Filip | Z60: 1 | AA60: 2 | AB60: 1 | AE60: 4 | AF60: =COUNTIFS('Po jménech'!$E$2:$E$2024,$B60,'Po jménech'!$I$2:$I$2024,9) -> 3 | AG60: =COUNTIFS('Po jménech'!$E$2:$E$2024,$B60,'Po jménech'!$I$2:$I$2024,9,'Po jménech'!$J$2:$J$2024,16) -> 0 | AH60: =COUNTIFS('Po jménech'!$E$2:$E$2024,$B60,'Po jménech'!$I$2:$I$2024,9,'Po jménech'!$J$2:$J$2024,8) -> 0 | AI60: =COUNTIFS('Po jménech'!$E$2:$E$2024,$B60,'Po jménech'!$I$2:$I$2024,9,'Po jménech'!$J$2:$J$2024,4) -> 0 | AJ60: =COUNTIFS('Po jménech'!$E$2:$E$2024,$B60,'Po jménech'!$I$2:$I$2024,9,'Po jménech'!$J$2:$J$2024,2) -> 1 | AK60: =COUNTIFS('Po jménech'!$E$2:$E$2024,$B60,'Po jménech'!$I$2:$I$2024,9,'Po jménech'!$J$2:$J$2024,1) -> 2
A61: 58 | B61: Strádal Jan | Z61: 1 | AB61: 1 | AC61: 1 | AD61: 1 | AE61: 4 | AF61: =COUNTIFS('Po jménech'!$E$2:$E$2024,$B61,'Po jménech'!$I$2:$I$2024,9) -> 4 | AG61: =COUNTIFS('Po jménech'!$E$2:$E$2024,$B61,'Po jménech'!$I$2:$I$2024,9,'Po jménech'!$J$2:$J$2024,16) -> 0 | AH61: =COUNTIFS('Po jménech'!$E$2:$E$2024,$B61,'Po jménech'!$I$2:$I$2024,9,'Po jménech'!$J$2:$J$2024,8) -> 0 | AI61: =COUNTIFS('Po jménech'!$E$2:$E$2024,$B61,'Po jménech'!$I$2:$I$2024,9,'Po jménech'!$J$2:$J$2024,4) -> 0 | AJ61: =COUNTIFS('Po jménech'!$E$2:$E$2024,$B61,'Po jménech'!$I$2:$I$2024,9,'Po jménech'!$J$2:$J$2024,2) -> 0 | AK61: =COUNTIFS('Po jménech'!$E$2:$E$2024,$B61,'Po jménech'!$I$2:$I$2024,9,'Po jménech'!$J$2:$J$2024,1) -> 4
A62: 59 | B62: Kavan Petr | Q62: 1 | R62: 1 | S62: 1 | W62: 1 | AE62: 4 | AF62: =COUNTIFS('Po jménech'!$E$2:$E$2024,$B62,'Po jménech'!$I$2:$I$2024,9) -> 4 | AG62: =COUNTIFS('Po jménech'!$E$2:$E$2024,$B62,'Po jménech'!$I$2:$I$2024,9,'Po jménech'!$J$2:$J$2024,16) -> 0 | AH62: =COUNTIFS('Po jménech'!$E$2:$E$2024,$B62,'Po jménech'!$I$2:$I$2024,9,'Po jménech'!$J$2:$J$2024,8) -> 0 | AI62: =COUNTIFS('Po jménech'!$E$2:$E$2024,$B62,'Po jménech'!$I$2:$I$2024,9,'Po jménech'!$J$2:$J$2024,4) -> 0 | AJ62: =COUNTIFS('Po jménech'!$E$2:$E$2024,$B62,'Po jménech'!$I$2:$I$2024,9,'Po jménech'!$J$2:$J$2024,2) -> 0 | AK62: =COUNTIFS('Po jménech'!$E$2:$E$2024,$B62,'Po jménech'!$I$2:$I$2024,9,'Po jménech'!$J$2:$J$2024,1) -> 4
A63: 60 | B63: Majerčík Radko | Q63: 1 | R63: 1 | T63: 1 | U63: 1 | AE63: 4 | AF63: =COUNTIFS('Po jménech'!$E$2:$E$2024,$B63,'Po jménech'!$I$2:$I$2024,9) -> 4 | AG63: =COUNTIFS('Po jménech'!$E$2:$E$2024,$B63,'Po jménech'!$I$2:$I$2024,9,'Po jménech'!$J$2:$J$2024,16) -> 0 | AH63: =COUNTIFS('Po jménech'!$E$2:$E$2024,$B63,'Po jménech'!$I$2:$I$2024,9,'Po jménech'!$J$2:$J$2024,8) -> 0 | AI63: =COUNTIFS('Po jménech'!$E$2:$E$2024,$B63,'Po jménech'!$I$2:$I$2024,9,'Po jménech'!$J$2:$J$2024,4) -> 0 | AJ63: =COUNTIFS('Po jménech'!$E$2:$E$2024,$B63,'Po jménech'!$I$2:$I$2024,9,'Po jménech'!$J$2:$J$2024,2) -> 0 | AK63: =COUNTIFS('Po jménech'!$E$2:$E$2024,$B63,'Po jménech'!$I$2:$I$2024,9,'Po jménech'!$J$2:$J$2024,1) -> 4
A64: 61 | B64: Fang Hai Jiang | G64: 1 | H64: 2 | I64: 1 | AE64: 4 | AF64: =COUNTIFS('Po jménech'!$E$2:$E$2024,$B64,'Po jménech'!$I$2:$I$2024,9) -> 3 | AG64: =COUNTIFS('Po jménech'!$E$2:$E$2024,$B64,'Po jménech'!$I$2:$I$2024,9,'Po jménech'!$J$2:$J$2024,16) -> 0 | AH64: =COUNTIFS('Po jménech'!$E$2:$E$2024,$B64,'Po jménech'!$I$2:$I$2024,9,'Po jménech'!$J$2:$J$2024,8) -> 0 | AI64: =COUNTIFS('Po jménech'!$E$2:$E$2024,$B64,'Po jménech'!$I$2:$I$2024,9,'Po jménech'!$J$2:$J$2024,4) -> 0 | AJ64: =COUNTIFS('Po jménech'!$E$2:$E$2024,$B64,'Po jménech'!$I$2:$I$2024,9,'Po jménech'!$J$2:$J$2024,2) -> 1 | AK64: =COUNTIFS('Po jménech'!$E$2:$E$2024,$B64,'Po jménech'!$I$2:$I$2024,9,'Po jménech'!$J$2:$J$2024,1) -> 2
A65: 62 | B65: Soldán Lubor | F65: 2 | H65: 2 | AE65: 4 | AF65: =COUNTIFS('Po jménech'!$E$2:$E$2024,$B65,'Po jménech'!$I$2:$I$2024,9) -> 2 | AG65: =COUNTIFS('Po jménech'!$E$2:$E$2024,$B65,'Po jménech'!$I$2:$I$2024,9,'Po jménech'!$J$2:$J$2024,16) -> 0 | AH65: =COUNTIFS('Po jménech'!$E$2:$E$2024,$B65,'Po jménech'!$I$2:$I$2024,9,'Po jménech'!$J$2:$J$2024,8) -> 0 | AI65: =COUNTIFS('Po jménech'!$E$2:$E$2024,$B65,'Po jménech'!$I$2:$I$2024,9,'Po jménech'!$J$2:$J$2024,4) -> 0 | AJ65: =COUNTIFS('Po jménech'!$E$2:$E$2024,$B65,'Po jménech'!$I$2:$I$2024,9,'Po jménech'!$J$2:$J$2024,2) -> 2 | AK65: =COUNTIFS('Po jménech'!$E$2:$E$2024,$B65,'Po jménech'!$I$2:$I$2024,9,'Po jménech'!$J$2:$J$2024,1) -> 0
A66: 63 | B66: Kopecký Tomáš | J66: 1 | L66: 1 | W66: 1 | Y66: 1 | AE66: 4 | AF66: =COUNTIFS('Po jménech'!$E$2:$E$2024,$B66,'Po jménech'!$I$2:$I$2024,9) -> 4 | AG66: =COUNTIFS('Po jménech'!$E$2:$E$2024,$B66,'Po jménech'!$I$2:$I$2024,9,'Po jménech'!$J$2:$J$2024,16) -> 0 | AH66: =COUNTIFS('Po jménech'!$E$2:$E$2024,$B66,'Po jménech'!$I$2:$I$2024,9,'Po jménech'!$J$2:$J$2024,8) -> 0 | AI66: =COUNTIFS('Po jménech'!$E$2:$E$2024,$B66,'Po jménech'!$I$2:$I$2024,9,'Po jménech'!$J$2:$J$2024,4) -> 0 | AJ66: =COUNTIFS('Po jménech'!$E$2:$E$2024,$B66,'Po jménech'!$I$2:$I$2024,9,'Po jménech'!$J$2:$J$2024,2) -> 0 | AK66: =COUNTIFS('Po jménech'!$E$2:$E$2024,$B66,'Po jménech'!$I$2:$I$2024,9,'Po jménech'!$J$2:$J$2024,1) -> 4
A67: 64 | B67: Szarkezy Nikola | E67: 1 | F67: 1 | G67: 1 | H67: 1 | AE67: 4 | AF67: =COUNTIFS('Po jménech'!$E$2:$E$2024,$B67,'Po jménech'!$I$2:$I$2024,9) -> 4 | AG67: =COUNTIFS('Po jménech'!$E$2:$E$2024,$B67,'Po jménech'!$I$2:$I$2024,9,'Po jménech'!$J$2:$J$2024,16) -> 0 | AH67: =COUNTIFS('Po jménech'!$E$2:$E$2024,$B67,'Po jménech'!$I$2:$I$2024,9,'Po jménech'!$J$2:$J$2024,8) -> 0 | AI67: =COUNTIFS('Po jménech'!$E$2:$E$2024,$B67,'Po jménech'!$I$2:$I$2024,9,'Po jménech'!$J$2:$J$2024,4) -> 0 | AJ67: =COUNTIFS('Po jménech'!$E$2:$E$2024,$B67,'Po jménech'!$I$2:$I$2024,9,'Po jménech'!$J$2:$J$2024,2) -> 0 | AK67: =COUNTIFS('Po jménech'!$E$2:$E$2024,$B67,'Po jménech'!$I$2:$I$2024,9,'Po jménech'!$J$2:$J$2024,1) -> 4
A68: 65 | B68: Viliš Martin | D68: 2 | E68: 1 | F68: 1 | AE68: 4 | AF68: =COUNTIFS('Po jménech'!$E$2:$E$2024,$B68,'Po jménech'!$I$2:$I$2024,9) -> 3 | AG68: =COUNTIFS('Po jménech'!$E$2:$E$2024,$B68,'Po jménech'!$I$2:$I$2024,9,'Po jménech'!$J$2:$J$2024,16) -> 0 | AH68: =COUNTIFS('Po jménech'!$E$2:$E$2024,$B68,'Po jménech'!$I$2:$I$2024,9,'Po jménech'!$J$2:$J$2024,8) -> 0 | AI68: =COUNTIFS('Po jménech'!$E$2:$E$2024,$B68,'Po jménech'!$I$2:$I$2024,9,'Po jménech'!$J$2:$J$2024,4) -> 0 | AJ68: =COUNTIFS('Po jménech'!$E$2:$E$2024,$B68,'Po jménech'!$I$2:$I$2024,9,'Po jménech'!$J$2:$J$2024,2) -> 1 | AK68: =COUNTIFS('Po jménech'!$E$2:$E$2024,$B68,'Po jménech'!$I$2:$I$2024,9,'Po jménech'!$J$2:$J$2024,1) -> 2
A69: 66 | B69: Bohůnek Jindřich | R69: 1 | S69: 1 | Y69: 2 | AE69: 4 | AF69: =COUNTIFS('Po jménech'!$E$2:$E$2024,$B69,'Po jménech'!$I$2:$I$2024,9) -> 3 | AG69: =COUNTIFS('Po jménech'!$E$2:$E$2024,$B69,'Po jménech'!$I$2:$I$2024,9,'Po jménech'!$J$2:$J$2024,16) -> 0 | AH69: =COUNTIFS('Po jménech'!$E$2:$E$2024,$B69,'Po jménech'!$I$2:$I$2024,9,'Po jménech'!$J$2:$J$2024,8) -> 0 | AI69: =COUNTIFS('Po jménech'!$E$2:$E$2024,$B69,'Po jménech'!$I$2:$I$2024,9,'Po jménech'!$J$2:$J$2024,4) -> 0 | AJ69: =COUNTIFS('Po jménech'!$E$2:$E$2024,$B69,'Po jménech'!$I$2:$I$2024,9,'Po jménech'!$J$2:$J$2024,2) -> 1 | AK69: =COUNTIFS('Po jménech'!$E$2:$E$2024,$B69,'Po jménech'!$I$2:$I$2024,9,'Po jménech'!$J$2:$J$2024,1) -> 2
A70: 67 | B70: Vondráček Petr | V70: 1 | Z70: 1 | AA70: 1 | AC70: 1 | AE70: 4 | AF70: =COUNTIFS('Po jménech'!$E$2:$E$2024,$B70,'Po jménech'!$I$2:$I$2024,9) -> 4 | AG70: =COUNTIFS('Po jménech'!$E$2:$E$2024,$B70,'Po jménech'!$I$2:$I$2024,9,'Po jménech'!$J$2:$J$2024,16) -> 0 | AH70: =COUNTIFS('Po jménech'!$E$2:$E$2024,$B70,'Po jménech'!$I$2:$I$2024,9,'Po jménech'!$J$2:$J$2024,8) -> 0 | AI70: =COUNTIFS('Po jménech'!$E$2:$E$2024,$B70,'Po jménech'!$I$2:$I$2024,9,'Po jménech'!$J$2:$J$2024,4) -> 0 | AJ70: =COUNTIFS('Po jménech'!$E$2:$E$2024,$B70,'Po jménech'!$I$2:$I$2024,9,'Po jménech'!$J$2:$J$2024,2) -> 0 | AK70: =COUNTIFS('Po jménech'!$E$2:$E$2024,$B70,'Po jménech'!$I$2:$I$2024,9,'Po jménech'!$J$2:$J$2024,1) -> 4
A71: 68 | B71: Galuška Martin | V71: 1 | W71: 1 | X71: 1 | Z71: 1 | AE71: 4 | AF71: =COUNTIFS('Po jménech'!$E$2:$E$2024,$B71,'Po jménech'!$I$2:$I$2024,9) -> 4 | AG71: =COUNTIFS('Po jménech'!$E$2:$E$2024,$B71,'Po jménech'!$I$2:$I$2024,9,'Po jménech'!$J$2:$J$2024,16) -> 0 | AH71: =COUNTIFS('Po jménech'!$E$2:$E$2024,$B71,'Po jménech'!$I$2:$I$2024,9,'Po jménech'!$J$2:$J$2024,8) -> 0 | AI71: =COUNTIFS('Po jménech'!$E$2:$E$2024,$B71,'Po jménech'!$I$2:$I$2024,9,'Po jménech'!$J$2:$J$2024,4) -> 0 | AJ71: =COUNTIFS('Po jménech'!$E$2:$E$2024,$B71,'Po jménech'!$I$2:$I$2024,9,'Po jménech'!$J$2:$J$2024,2) -> 0 | AK71: =COUNTIFS('Po jménech'!$E$2:$E$2024,$B71,'Po jménech'!$I$2:$I$2024,9,'Po jménech'!$J$2:$J$2024,1) -> 4
A72: 69 | B72: Moravec Lukáš | X72: 1 | AB72: 1 | AC72: 1 | AD72: 1 | AE72: 4 | AF72: =COUNTIFS('Po jménech'!$E$2:$E$2024,$B72,'Po jménech'!$I$2:$I$2024,9) -> 4 | AG72: =COUNTIFS('Po jménech'!$E$2:$E$2024,$B72,'Po jménech'!$I$2:$I$2024,9,'Po jménech'!$J$2:$J$2024,16) -> 0 | AH72: =COUNTIFS('Po jménech'!$E$2:$E$2024,$B72,'Po jménech'!$I$2:$I$2024,9,'Po jménech'!$J$2:$J$2024,8) -> 0 | AI72: =COUNTIFS('Po jménech'!$E$2:$E$2024,$B72,'Po jménech'!$I$2:$I$2024,9,'Po jménech'!$J$2:$J$2024,4) -> 0 | AJ72: =COUNTIFS('Po jménech'!$E$2:$E$2024,$B72,'Po jménech'!$I$2:$I$2024,9,'Po jménech'!$J$2:$J$2024,2) -> 0 | AK72: =COUNTIFS('Po jménech'!$E$2:$E$2024,$B72,'Po jménech'!$I$2:$I$2024,9,'Po jménech'!$J$2:$J$2024,1) -> 4
A73: 70 | B73: Vobořil Zdeněk | P73: 1 | S73: 1 | W73: 1 | X73: 1 | AE73: 4 | AF73: =COUNTIFS('Po jménech'!$E$2:$E$2024,$B73,'Po jménech'!$I$2:$I$2024,9) -> 4 | AG73: =COUNTIFS('Po jménech'!$E$2:$E$2024,$B73,'Po jménech'!$I$2:$I$2024,9,'Po jménech'!$J$2:$J$2024,16) -> 0 | AH73: =COUNTIFS('Po jménech'!$E$2:$E$2024,$B73,'Po jménech'!$I$2:$I$2024,9,'Po jménech'!$J$2:$J$2024,8) -> 0 | AI73: =COUNTIFS('Po jménech'!$E$2:$E$2024,$B73,'Po jménech'!$I$2:$I$2024,9,'Po jménech'!$J$2:$J$2024,4) -> 0 | AJ73: =COUNTIFS('Po jménech'!$E$2:$E$2024,$B73,'Po jménech'!$I$2:$I$2024,9,'Po jménech'!$J$2:$J$2024,2) -> 0 | AK73: =COUNTIFS('Po jménech'!$E$2:$E$2024,$B73,'Po jménech'!$I$2:$I$2024,9,'Po jménech'!$J$2:$J$2024,1) -> 4
A74: 71 | B74: Mrázek David | Y74: 1 | Z74: 1 | AA74: 1 | AB74: 1 | AE74: 4 | AF74: =COUNTIFS('Po jménech'!$E$2:$E$2024,$B74,'Po jménech'!$I$2:$I$2024,9) -> 4 | AG74: =COUNTIFS('Po jménech'!$E$2:$E$2024,$B74,'Po jménech'!$I$2:$I$2024,9,'Po jménech'!$J$2:$J$2024,16) -> 0 | AH74: =COUNTIFS('Po jménech'!$E$2:$E$2024,$B74,'Po jménech'!$I$2:$I$2024,9,'Po jménech'!$J$2:$J$2024,8) -> 0 | AI74: =COUNTIFS('Po jménech'!$E$2:$E$2024,$B74,'Po jménech'!$I$2:$I$2024,9,'Po jménech'!$J$2:$J$2024,4) -> 0 | AJ74: =COUNTIFS('Po jménech'!$E$2:$E$2024,$B74,'Po jménech'!$I$2:$I$2024,9,'Po jménech'!$J$2:$J$2024,2) -> 0 | AK74: =COUNTIFS('Po jménech'!$E$2:$E$2024,$B74,'Po jménech'!$I$2:$I$2024,9,'Po jménech'!$J$2:$J$2024,1) -> 4
A75: 72 | B75: Nohynek Dušan | J75: 1 | K75: 1 | U75: 1 | W75: 1 | AE75: 4 | AF75: =COUNTIFS('Po jménech'!$E$2:$E$2024,$B75,'Po jménech'!$I$2:$I$2024,9) -> 4 | AG75: =COUNTIFS('Po jménech'!$E$2:$E$2024,$B75,'Po jménech'!$I$2:$I$2024,9,'Po jménech'!$J$2:$J$2024,16) -> 0 | AH75: =COUNTIFS('Po jménech'!$E$2:$E$2024,$B75,'Po jménech'!$I$2:$I$2024,9,'Po jménech'!$J$2:$J$2024,8) -> 0 | AI75: =COUNTIFS('Po jménech'!$E$2:$E$2024,$B75,'Po jménech'!$I$2:$I$2024,9,'Po jménech'!$J$2:$J$2024,4) -> 0 | AJ75: =COUNTIFS('Po jménech'!$E$2:$E$2024,$B75,'Po jménech'!$I$2:$I$2024,9,'Po jménech'!$J$2:$J$2024,2) -> 0 | AK75: =COUNTIFS('Po jménech'!$E$2:$E$2024,$B75,'Po jménech'!$I$2:$I$2024,9,'Po jménech'!$J$2:$J$2024,1) -> 4
A76: 73 | B76: Zeman Oto | L76: 1 | M76: 1 | N76: 1 | O76: 1 | AE76: 4 | AF76: =COUNTIFS('Po jménech'!$E$2:$E$2024,$B76,'Po jménech'!$I$2:$I$2024,9) -> 4 | AG76: =COUNTIFS('Po jménech'!$E$2:$E$2024,$B76,'Po jménech'!$I$2:$I$2024,9,'Po jménech'!$J$2:$J$2024,16) -> 0 | AH76: =COUNTIFS('Po jménech'!$E$2:$E$2024,$B76,'Po jménech'!$I$2:$I$2024,9,'Po jménech'!$J$2:$J$2024,8) -> 0 | AI76: =COUNTIFS('Po jménech'!$E$2:$E$2024,$B76,'Po jménech'!$I$2:$I$2024,9,'Po jménech'!$J$2:$J$2024,4) -> 0 | AJ76: =COUNTIFS('Po jménech'!$E$2:$E$2024,$B76,'Po jménech'!$I$2:$I$2024,9,'Po jménech'!$J$2:$J$2024,2) -> 0 | AK76: =COUNTIFS('Po jménech'!$E$2:$E$2024,$B76,'Po jménech'!$I$2:$I$2024,9,'Po jménech'!$J$2:$J$2024,1) -> 4
A77: 74 | B77: Stettinger Georg | AB77: 1 | AC77: 2 | AE77: 3 | AF77: =COUNTIFS('Po jménech'!$E$2:$E$2024,$B77,'Po jménech'!$I$2:$I$2024,9) -> 2 | AG77: =COUNTIFS('Po jménech'!$E$2:$E$2024,$B77,'Po jménech'!$I$2:$I$2024,9,'Po jménech'!$J$2:$J$2024,16) -> 0 | AH77: =COUNTIFS('Po jménech'!$E$2:$E$2024,$B77,'Po jménech'!$I$2:$I$2024,9,'Po jménech'!$J$2:$J$2024,8) -> 0 | AI77: =COUNTIFS('Po jménech'!$E$2:$E$2024,$B77,'Po jménech'!$I$2:$I$2024,9,'Po jménech'!$J$2:$J$2024,4) -> 0 | AJ77: =COUNTIFS('Po jménech'!$E$2:$E$2024,$B77,'Po jménech'!$I$2:$I$2024,9,'Po jménech'!$J$2:$J$2024,2) -> 1 | AK77: =COUNTIFS('Po jménech'!$E$2:$E$2024,$B77,'Po jménech'!$I$2:$I$2024,9,'Po jménech'!$J$2:$J$2024,1) -> 1
A78: 75 | B78: Rebonja Smako | C78: 1 | D78: 1 | E78: 1 | AE78: 3 | AF78: =COUNTIFS('Po jménech'!$E$2:$E$2024,$B78,'Po jménech'!$I$2:$I$2024,9) -> 3 | AG78: =COUNTIFS('Po jménech'!$E$2:$E$2024,$B78,'Po jménech'!$I$2:$I$2024,9,'Po jménech'!$J$2:$J$2024,16) -> 0 | AH78: =COUNTIFS('Po jménech'!$E$2:$E$2024,$B78,'Po jménech'!$I$2:$I$2024,9,'Po jménech'!$J$2:$J$2024,8) -> 0 | AI78: =COUNTIFS('Po jménech'!$E$2:$E$2024,$B78,'Po jménech'!$I$2:$I$2024,9,'Po jménech'!$J$2:$J$2024,4) -> 0 | AJ78: =COUNTIFS('Po jménech'!$E$2:$E$2024,$B78,'Po jménech'!$I$2:$I$2024,9,'Po jménech'!$J$2:$J$2024,2) -> 0 | AK78: =COUNTIFS('Po jménech'!$E$2:$E$2024,$B78,'Po jménech'!$I$2:$I$2024,9,'Po jménech'!$J$2:$J$2024,1) -> 3
A79: 76 | B79: Hubrtová Veronika | AA79: 1 | AD79: 2 | AE79: 3 | AF79: =COUNTIFS('Po jménech'!$E$2:$E$2024,$B79,'Po jménech'!$I$2:$I$2024,9) -> 2 | AG79: =COUNTIFS('Po jménech'!$E$2:$E$2024,$B79,'Po jménech'!$I$2:$I$2024,9,'Po jménech'!$J$2:$J$2024,16) -> 0 | AH79: =COUNTIFS('Po jménech'!$E$2:$E$2024,$B79,'Po jménech'!$I$2:$I$2024,9,'Po jménech'!$J$2:$J$2024,8) -> 0 | AI79: =COUNTIFS('Po jménech'!$E$2:$E$2024,$B79,'Po jménech'!$I$2:$I$2024,9,'Po jménech'!$J$2:$J$2024,4) -> 0 | AJ79: =COUNTIFS('Po jménech'!$E$2:$E$2024,$B79,'Po jménech'!$I$2:$I$2024,9,'Po jménech'!$J$2:$J$2024,2) -> 1 | AK79: =COUNTIFS('Po jménech'!$E$2:$E$2024,$B79,'Po jménech'!$I$2:$I$2024,9,'Po jménech'!$J$2:$J$2024,1) -> 1
A80: 77 | B80: Lottring Richard | E80: 1 | F80: 1 | V80: 1 | AE80: 3 | AF80: =COUNTIFS('Po jménech'!$E$2:$E$2024,$B80,'Po jménech'!$I$2:$I$2024,9) -> 3 | AG80: =COUNTIFS('Po jménech'!$E$2:$E$2024,$B80,'Po jménech'!$I$2:$I$2024,9,'Po jménech'!$J$2:$J$2024,16) -> 0 | AH80: =COUNTIFS('Po jménech'!$E$2:$E$2024,$B80,'Po jménech'!$I$2:$I$2024,9,'Po jménech'!$J$2:$J$2024,8) -> 0 | AI80: =COUNTIFS('Po jménech'!$E$2:$E$2024,$B80,'Po jménech'!$I$2:$I$2024,9,'Po jménech'!$J$2:$J$2024,4) -> 0 | AJ80: =COUNTIFS('Po jménech'!$E$2:$E$2024,$B80,'Po jménech'!$I$2:$I$2024,9,'Po jménech'!$J$2:$J$2024,2) -> 0 | AK80: =COUNTIFS('Po jménech'!$E$2:$E$2024,$B80,'Po jménech'!$I$2:$I$2024,9,'Po jménech'!$J$2:$J$2024,1) -> 3
A81: 78 | B81: Lomský Josef | T81: 2 | AB81: 1 | AE81: 3 | AF81: =COUNTIFS('Po jménech'!$E$2:$E$2024,$B81,'Po jménech'!$I$2:$I$2024,9) -> 2 | AG81: =COUNTIFS('Po jménech'!$E$2:$E$2024,$B81,'Po jménech'!$I$2:$I$2024,9,'Po jménech'!$J$2:$J$2024,16) -> 0 | AH81: =COUNTIFS('Po jménech'!$E$2:$E$2024,$B81,'Po jménech'!$I$2:$I$2024,9,'Po jménech'!$J$2:$J$2024,8) -> 0 | AI81: =COUNTIFS('Po jménech'!$E$2:$E$2024,$B81,'Po jménech'!$I$2:$I$2024,9,'Po jménech'!$J$2:$J$2024,4) -> 0 | AJ81: =COUNTIFS('Po jménech'!$E$2:$E$2024,$B81,'Po jménech'!$I$2:$I$2024,9,'Po jménech'!$J$2:$J$2024,2) -> 1 | AK81: =COUNTIFS('Po jménech'!$E$2:$E$2024,$B81,'Po jménech'!$I$2:$I$2024,9,'Po jménech'!$J$2:$J$2024,1) -> 1
A82: 79 | B82: Nejedlo František | C82: 1 | D82: 1 | E82: 1 | AE82: 3 | AF82: =COUNTIFS('Po jménech'!$E$2:$E$2024,$B82,'Po jménech'!$I$2:$I$2024,9) -> 3 | AG82: =COUNTIFS('Po jménech'!$E$2:$E$2024,$B82,'Po jménech'!$I$2:$I$2024,9,'Po jménech'!$J$2:$J$2024,16) -> 0 | AH82: =COUNTIFS('Po jménech'!$E$2:$E$2024,$B82,'Po jménech'!$I$2:$I$2024,9,'Po jménech'!$J$2:$J$2024,8) -> 0 | AI82: =COUNTIFS('Po jménech'!$E$2:$E$2024,$B82,'Po jménech'!$I$2:$I$2024,9,'Po jménech'!$J$2:$J$2024,4) -> 0 | AJ82: =COUNTIFS('Po jménech'!$E$2:$E$2024,$B82,'Po jménech'!$I$2:$I$2024,9,'Po jménech'!$J$2:$J$2024,2) -> 0 | AK82: =COUNTIFS('Po jménech'!$E$2:$E$2024,$B82,'Po jménech'!$I$2:$I$2024,9,'Po jménech'!$J$2:$J$2024,1) -> 3
A83: 80 | B83: Hanzlík Jakub | W83: 1 | Z83: 1 | AC83: 1 | AE83: 3 | AF83: =COUNTIFS('Po jménech'!$E$2:$E$2024,$B83,'Po jménech'!$I$2:$I$2024,9) -> 3 | AG83: =COUNTIFS('Po jménech'!$E$2:$E$2024,$B83,'Po jménech'!$I$2:$I$2024,9,'Po jménech'!$J$2:$J$2024,16) -> 0 | AH83: =COUNTIFS('Po jménech'!$E$2:$E$2024,$B83,'Po jménech'!$I$2:$I$2024,9,'Po jménech'!$J$2:$J$2024,8) -> 0 | AI83: =COUNTIFS('Po jménech'!$E$2:$E$2024,$B83,'Po jménech'!$I$2:$I$2024,9,'Po jménech'!$J$2:$J$2024,4) -> 0 | AJ83: =COUNTIFS('Po jménech'!$E$2:$E$2024,$B83,'Po jménech'!$I$2:$I$2024,9,'Po jménech'!$J$2:$J$2024,2) -> 0 | AK83: =COUNTIFS('Po jménech'!$E$2:$E$2024,$B83,'Po jménech'!$I$2:$I$2024,9,'Po jménech'!$J$2:$J$2024,1) -> 3
A84: 81 | B84: Šindelář Pavel | R84: 1 | S84: 1 | U84: 1 | AE84: 3 | AF84: =COUNTIFS('Po jménech'!$E$2:$E$2024,$B84,'Po jménech'!$I$2:$I$2024,9) -> 3 | AG84: =COUNTIFS('Po jménech'!$E$2:$E$2024,$B84,'Po jménech'!$I$2:$I$2024,9,'Po jménech'!$J$2:$J$2024,16) -> 0 | AH84: =COUNTIFS('Po jménech'!$E$2:$E$2024,$B84,'Po jménech'!$I$2:$I$2024,9,'Po jménech'!$J$2:$J$2024,8) -> 0 | AI84: =COUNTIFS('Po jménech'!$E$2:$E$2024,$B84,'Po jménech'!$I$2:$I$2024,9,'Po jménech'!$J$2:$J$2024,4) -> 0 | AJ84: =COUNTIFS('Po jménech'!$E$2:$E$2024,$B84,'Po jménech'!$I$2:$I$2024,9,'Po jménech'!$J$2:$J$2024,2) -> 0 | AK84: =COUNTIFS('Po jménech'!$E$2:$E$2024,$B84,'Po jménech'!$I$2:$I$2024,9,'Po jménech'!$J$2:$J$2024,1) -> 3
A85: 82 | B85: Radoš Karel | D85: 1 | E85: 1 | F85: 1 | AE85: 3 | AF85: =COUNTIFS('Po jménech'!$E$2:$E$2024,$B85,'Po jménech'!$I$2:$I$2024,9) -> 3 | AG85: =COUNTIFS('Po jménech'!$E$2:$E$2024,$B85,'Po jménech'!$I$2:$I$2024,9,'Po jménech'!$J$2:$J$2024,16) -> 0 | AH85: =COUNTIFS('Po jménech'!$E$2:$E$2024,$B85,'Po jménech'!$I$2:$I$2024,9,'Po jménech'!$J$2:$J$2024,8) -> 0 | AI85: =COUNTIFS('Po jménech'!$E$2:$E$2024,$B85,'Po jménech'!$I$2:$I$2024,9,'Po jménech'!$J$2:$J$2024,4) -> 0 | AJ85: =COUNTIFS('Po jménech'!$E$2:$E$2024,$B85,'Po jménech'!$I$2:$I$2024,9,'Po jménech'!$J$2:$J$2024,2) -> 0 | AK85: =COUNTIFS('Po jménech'!$E$2:$E$2024,$B85,'Po jménech'!$I$2:$I$2024,9,'Po jménech'!$J$2:$J$2024,1) -> 3
A86: 83 | B86: Janošťák Aleš | Y86: 1 | AA86: 1 | AC86: 1 | AE86: 3 | AF86: =COUNTIFS('Po jménech'!$E$2:$E$2024,$B86,'Po jménech'!$I$2:$I$2024,9) -> 3 | AG86: =COUNTIFS('Po jménech'!$E$2:$E$2024,$B86,'Po jménech'!$I$2:$I$2024,9,'Po jménech'!$J$2:$J$2024,16) -> 0 | AH86: =COUNTIFS('Po jménech'!$E$2:$E$2024,$B86,'Po jménech'!$I$2:$I$2024,9,'Po jménech'!$J$2:$J$2024,8) -> 0 | AI86: =COUNTIFS('Po jménech'!$E$2:$E$2024,$B86,'Po jménech'!$I$2:$I$2024,9,'Po jménech'!$J$2:$J$2024,4) -> 0 | AJ86: =COUNTIFS('Po jménech'!$E$2:$E$2024,$B86,'Po jménech'!$I$2:$I$2024,9,'Po jménech'!$J$2:$J$2024,2) -> 0 | AK86: =COUNTIFS('Po jménech'!$E$2:$E$2024,$B86,'Po jménech'!$I$2:$I$2024,9,'Po jménech'!$J$2:$J$2024,1) -> 3
A87: 84 | B87: Balan Arivukkannan | AA87: 1 | AB87: 1 | AC87: 1 | AE87: 3 | AF87: =COUNTIFS('Po jménech'!$E$2:$E$2024,$B87,'Po jménech'!$I$2:$I$2024,9) -> 3 | AG87: =COUNTIFS('Po jménech'!$E$2:$E$2024,$B87,'Po jménech'!$I$2:$I$2024,9,'Po jménech'!$J$2:$J$2024,16) -> 0 | AH87: =COUNTIFS('Po jménech'!$E$2:$E$2024,$B87,'Po jménech'!$I$2:$I$2024,9,'Po jménech'!$J$2:$J$2024,8) -> 0 | AI87: =COUNTIFS('Po jménech'!$E$2:$E$2024,$B87,'Po jménech'!$I$2:$I$2024,9,'Po jménech'!$J$2:$J$2024,4) -> 0 | AJ87: =COUNTIFS('Po jménech'!$E$2:$E$2024,$B87,'Po jménech'!$I$2:$I$2024,9,'Po jménech'!$J$2:$J$2024,2) -> 0 | AK87: =COUNTIFS('Po jménech'!$E$2:$E$2024,$B87,'Po jménech'!$I$2:$I$2024,9,'Po jménech'!$J$2:$J$2024,1) -> 3
A88: 85 | B88: Hajn Pavel | U88: 1 | W88: 1 | AD88: 1 | AE88: 3 | AF88: =COUNTIFS('Po jménech'!$E$2:$E$2024,$B88,'Po jménech'!$I$2:$I$2024,9) -> 3 | AG88: =COUNTIFS('Po jménech'!$E$2:$E$2024,$B88,'Po jménech'!$I$2:$I$2024,9,'Po jménech'!$J$2:$J$2024,16) -> 0 | AH88: =COUNTIFS('Po jménech'!$E$2:$E$2024,$B88,'Po jménech'!$I$2:$I$2024,9,'Po jménech'!$J$2:$J$2024,8) -> 0 | AI88: =COUNTIFS('Po jménech'!$E$2:$E$2024,$B88,'Po jménech'!$I$2:$I$2024,9,'Po jménech'!$J$2:$J$2024,4) -> 0 | AJ88: =COUNTIFS('Po jménech'!$E$2:$E$2024,$B88,'Po jménech'!$I$2:$I$2024,9,'Po jménech'!$J$2:$J$2024,2) -> 0 | AK88: =COUNTIFS('Po jménech'!$E$2:$E$2024,$B88,'Po jménech'!$I$2:$I$2024,9,'Po jménech'!$J$2:$J$2024,1) -> 3
A89: 86 | B89: Doležal Marek | N89: 1 | O89: 2 | AE89: 3 | AF89: =COUNTIFS('Po jménech'!$E$2:$E$2024,$B89,'Po jménech'!$I$2:$I$2024,9) -> 2 | AG89: =COUNTIFS('Po jménech'!$E$2:$E$2024,$B89,'Po jménech'!$I$2:$I$2024,9,'Po jménech'!$J$2:$J$2024,16) -> 0 | AH89: =COUNTIFS('Po jménech'!$E$2:$E$2024,$B89,'Po jménech'!$I$2:$I$2024,9,'Po jménech'!$J$2:$J$2024,8) -> 0 | AI89: =COUNTIFS('Po jménech'!$E$2:$E$2024,$B89,'Po jménech'!$I$2:$I$2024,9,'Po jménech'!$J$2:$J$2024,4) -> 0 | AJ89: =COUNTIFS('Po jménech'!$E$2:$E$2024,$B89,'Po jménech'!$I$2:$I$2024,9,'Po jménech'!$J$2:$J$2024,2) -> 1 | AK89: =COUNTIFS('Po jménech'!$E$2:$E$2024,$B89,'Po jménech'!$I$2:$I$2024,9,'Po jménech'!$J$2:$J$2024,1) -> 1
A90: 87 | B90: Ugrin Milan | Y90: 1 | AA90: 1 | AB90: 1 | AE90: 3 | AF90: =COUNTIFS('Po jménech'!$E$2:$E$2024,$B90,'Po jménech'!$I$2:$I$2024,9) -> 3 | AG90: =COUNTIFS('Po jménech'!$E$2:$E$2024,$B90,'Po jménech'!$I$2:$I$2024,9,'Po jménech'!$J$2:$J$2024,16) -> 0 | AH90: =COUNTIFS('Po jménech'!$E$2:$E$2024,$B90,'Po jménech'!$I$2:$I$2024,9,'Po jménech'!$J$2:$J$2024,8) -> 0 | AI90: =COUNTIFS('Po jménech'!$E$2:$E$2024,$B90,'Po jménech'!$I$2:$I$2024,9,'Po jménech'!$J$2:$J$2024,4) -> 0 | AJ90: =COUNTIFS('Po jménech'!$E$2:$E$2024,$B90,'Po jménech'!$I$2:$I$2024,9,'Po jménech'!$J$2:$J$2024,2) -> 0 | AK90: =COUNTIFS('Po jménech'!$E$2:$E$2024,$B90,'Po jménech'!$I$2:$I$2024,9,'Po jménech'!$J$2:$J$2024,1) -> 3
A91: 88 | B91: Jelínek Petr | U91: 1 | V91: 1 | AA91: 1 | AE91: 3 | AF91: =COUNTIFS('Po jménech'!$E$2:$E$2024,$B91,'Po jménech'!$I$2:$I$2024,9) -> 3 | AG91: =COUNTIFS('Po jménech'!$E$2:$E$2024,$B91,'Po jménech'!$I$2:$I$2024,9,'Po jménech'!$J$2:$J$2024,16) -> 0 | AH91: =COUNTIFS('Po jménech'!$E$2:$E$2024,$B91,'Po jménech'!$I$2:$I$2024,9,'Po jménech'!$J$2:$J$2024,8) -> 0 | AI91: =COUNTIFS('Po jménech'!$E$2:$E$2024,$B91,'Po jménech'!$I$2:$I$2024,9,'Po jménech'!$J$2:$J$2024,4) -> 0 | AJ91: =COUNTIFS('Po jménech'!$E$2:$E$2024,$B91,'Po jménech'!$I$2:$I$2024,9,'Po jménech'!$J$2:$J$2024,2) -> 0 | AK91: =COUNTIFS('Po jménech'!$E$2:$E$2024,$B91,'Po jménech'!$I$2:$I$2024,9,'Po jménech'!$J$2:$J$2024,1) -> 3
A92: 89 | B92: Procházka Robert | L92: 1 | M92: 1 | N92: 1 | AE92: 3 | AF92: =COUNTIFS('Po jménech'!$E$2:$E$2024,$B92,'Po jménech'!$I$2:$I$2024,9) -> 3 | AG92: =COUNTIFS('Po jménech'!$E$2:$E$2024,$B92,'Po jménech'!$I$2:$I$2024,9,'Po jménech'!$J$2:$J$2024,16) -> 0 | AH92: =COUNTIFS('Po jménech'!$E$2:$E$2024,$B92,'Po jménech'!$I$2:$I$2024,9,'Po jménech'!$J$2:$J$2024,8) -> 0 | AI92: =COUNTIFS('Po jménech'!$E$2:$E$2024,$B92,'Po jménech'!$I$2:$I$2024,9,'Po jménech'!$J$2:$J$2024,4) -> 0 | AJ92: =COUNTIFS('Po jménech'!$E$2:$E$2024,$B92,'Po jménech'!$I$2:$I$2024,9,'Po jménech'!$J$2:$J$2024,2) -> 0 | AK92: =COUNTIFS('Po jménech'!$E$2:$E$2024,$B92,'Po jménech'!$I$2:$I$2024,9,'Po jménech'!$J$2:$J$2024,1) -> 3
A93: 90 | B93: Ramp Bert | V93: 1 | AA93: 2 | AE93: 3 | AF93: =COUNTIFS('Po jménech'!$E$2:$E$2024,$B93,'Po jménech'!$I$2:$I$2024,9) -> 2 | AG93: =COUNTIFS('Po jménech'!$E$2:$E$2024,$B93,'Po jménech'!$I$2:$I$2024,9,'Po jménech'!$J$2:$J$2024,16) -> 0 | AH93: =COUNTIFS('Po jménech'!$E$2:$E$2024,$B93,'Po jménech'!$I$2:$I$2024,9,'Po jménech'!$J$2:$J$2024,8) -> 0 | AI93: =COUNTIFS('Po jménech'!$E$2:$E$2024,$B93,'Po jménech'!$I$2:$I$2024,9,'Po jménech'!$J$2:$J$2024,4) -> 0 | AJ93: =COUNTIFS('Po jménech'!$E$2:$E$2024,$B93,'Po jménech'!$I$2:$I$2024,9,'Po jménech'!$J$2:$J$2024,2) -> 1 | AK93: =COUNTIFS('Po jménech'!$E$2:$E$2024,$B93,'Po jménech'!$I$2:$I$2024,9,'Po jménech'!$J$2:$J$2024,1) -> 1
A94: 91 | B94: Skopal Tadeáš | R94: 1 | S94: 1 | AE94: 2 | AF94: =COUNTIFS('Po jménech'!$E$2:$E$2024,$B94,'Po jménech'!$I$2:$I$2024,9) -> 2 | AG94: =COUNTIFS('Po jménech'!$E$2:$E$2024,$B94,'Po jménech'!$I$2:$I$2024,9,'Po jménech'!$J$2:$J$2024,16) -> 0 | AH94: =COUNTIFS('Po jménech'!$E$2:$E$2024,$B94,'Po jménech'!$I$2:$I$2024,9,'Po jménech'!$J$2:$J$2024,8) -> 0 | AI94: =COUNTIFS('Po jménech'!$E$2:$E$2024,$B94,'Po jménech'!$I$2:$I$2024,9,'Po jménech'!$J$2:$J$2024,4) -> 0 | AJ94: =COUNTIFS('Po jménech'!$E$2:$E$2024,$B94,'Po jménech'!$I$2:$I$2024,9,'Po jménech'!$J$2:$J$2024,2) -> 0 | AK94: =COUNTIFS('Po jménech'!$E$2:$E$2024,$B94,'Po jménech'!$I$2:$I$2024,9,'Po jménech'!$J$2:$J$2024,1) -> 2
A95: 92 | B95: Keleman Miroslav | K95: 2 | AE95: 2 | AF95: =COUNTIFS('Po jménech'!$E$2:$E$2024,$B95,'Po jménech'!$I$2:$I$2024,9) -> 1 | AG95: =COUNTIFS('Po jménech'!$E$2:$E$2024,$B95,'Po jménech'!$I$2:$I$2024,9,'Po jménech'!$J$2:$J$2024,16) -> 0 | AH95: =COUNTIFS('Po jménech'!$E$2:$E$2024,$B95,'Po jménech'!$I$2:$I$2024,9,'Po jménech'!$J$2:$J$2024,8) -> 0 | AI95: =COUNTIFS('Po jménech'!$E$2:$E$2024,$B95,'Po jménech'!$I$2:$I$2024,9,'Po jménech'!$J$2:$J$2024,4) -> 0 | AJ95: =COUNTIFS('Po jménech'!$E$2:$E$2024,$B95,'Po jménech'!$I$2:$I$2024,9,'Po jménech'!$J$2:$J$2024,2) -> 1 | AK95: =COUNTIFS('Po jménech'!$E$2:$E$2024,$B95,'Po jménech'!$I$2:$I$2024,9,'Po jménech'!$J$2:$J$2024,1) -> 0
A96: 93 | B96: Christou David | W96: 1 | X96: 1 | AE96: 2 | AF96: =COUNTIFS('Po jménech'!$E$2:$E$2024,$B96,'Po jménech'!$I$2:$I$2024,9) -> 2 | AG96: =COUNTIFS('Po jménech'!$E$2:$E$2024,$B96,'Po jménech'!$I$2:$I$2024,9,'Po jménech'!$J$2:$J$2024,16) -> 0 | AH96: =COUNTIFS('Po jménech'!$E$2:$E$2024,$B96,'Po jménech'!$I$2:$I$2024,9,'Po jménech'!$J$2:$J$2024,8) -> 0 | AI96: =COUNTIFS('Po jménech'!$E$2:$E$2024,$B96,'Po jménech'!$I$2:$I$2024,9,'Po jménech'!$J$2:$J$2024,4) -> 0 | AJ96: =COUNTIFS('Po jménech'!$E$2:$E$2024,$B96,'Po jménech'!$I$2:$I$2024,9,'Po jménech'!$J$2:$J$2024,2) -> 0 | AK96: =COUNTIFS('Po jménech'!$E$2:$E$2024,$B96,'Po jménech'!$I$2:$I$2024,9,'Po jménech'!$J$2:$J$2024,1) -> 2
A97: 94 | B97: Smutný Petr | U97: 1 | V97: 1 | AE97: 2 | AF97: =COUNTIFS('Po jménech'!$E$2:$E$2024,$B97,'Po jménech'!$I$2:$I$2024,9) -> 2 | AG97: =COUNTIFS('Po jménech'!$E$2:$E$2024,$B97,'Po jménech'!$I$2:$I$2024,9,'Po jménech'!$J$2:$J$2024,16) -> 0 | AH97: =COUNTIFS('Po jménech'!$E$2:$E$2024,$B97,'Po jménech'!$I$2:$I$2024,9,'Po jménech'!$J$2:$J$2024,8) -> 0 | AI97: =COUNTIFS('Po jménech'!$E$2:$E$2024,$B97,'Po jménech'!$I$2:$I$2024,9,'Po jménech'!$J$2:$J$2024,4) -> 0 | AJ97: =COUNTIFS('Po jménech'!$E$2:$E$2024,$B97,'Po jménech'!$I$2:$I$2024,9,'Po jménech'!$J$2:$J$2024,2) -> 0 | AK97: =COUNTIFS('Po jménech'!$E$2:$E$2024,$B97,'Po jménech'!$I$2:$I$2024,9,'Po jménech'!$J$2:$J$2024,1) -> 2
A98: 95 | B98: Hendrych Pavel | G98: 2 | AE98: 2 | AF98: =COUNTIFS('Po jménech'!$E$2:$E$2024,$B98,'Po jménech'!$I$2:$I$2024,9) -> 1 | AG98: =COUNTIFS('Po jménech'!$E$2:$E$2024,$B98,'Po jménech'!$I$2:$I$2024,9,'Po jménech'!$J$2:$J$2024,16) -> 0 | AH98: =COUNTIFS('Po jménech'!$E$2:$E$2024,$B98,'Po jménech'!$I$2:$I$2024,9,'Po jménech'!$J$2:$J$2024,8) -> 0 | AI98: =COUNTIFS('Po jménech'!$E$2:$E$2024,$B98,'Po jménech'!$I$2:$I$2024,9,'Po jménech'!$J$2:$J$2024,4) -> 0 | AJ98: =COUNTIFS('Po jménech'!$E$2:$E$2024,$B98,'Po jménech'!$I$2:$I$2024,9,'Po jménech'!$J$2:$J$2024,2) -> 1 | AK98: =COUNTIFS('Po jménech'!$E$2:$E$2024,$B98,'Po jménech'!$I$2:$I$2024,9,'Po jménech'!$J$2:$J$2024,1) -> 0
A99: 96 | B99: Kníže Martin | AA99: 1 | AC99: 1 | AE99: 2 | AF99: =COUNTIFS('Po jménech'!$E$2:$E$2024,$B99,'Po jménech'!$I$2:$I$2024,9) -> 2 | AG99: =COUNTIFS('Po jménech'!$E$2:$E$2024,$B99,'Po jménech'!$I$2:$I$2024,9,'Po jménech'!$J$2:$J$2024,16) -> 0 | AH99: =COUNTIFS('Po jménech'!$E$2:$E$2024,$B99,'Po jménech'!$I$2:$I$2024,9,'Po jménech'!$J$2:$J$2024,8) -> 0 | AI99: =COUNTIFS('Po jménech'!$E$2:$E$2024,$B99,'Po jménech'!$I$2:$I$2024,9,'Po jménech'!$J$2:$J$2024,4) -> 0 | AJ99: =COUNTIFS('Po jménech'!$E$2:$E$2024,$B99,'Po jménech'!$I$2:$I$2024,9,'Po jménech'!$J$2:$J$2024,2) -> 0 | AK99: =COUNTIFS('Po jménech'!$E$2:$E$2024,$B99,'Po jménech'!$I$2:$I$2024,9,'Po jménech'!$J$2:$J$2024,1) -> 2
A100: 97 | B100: Bačik Michal | Q100: 1 | R100: 1 | AE100: 2 | AF100: =COUNTIFS('Po jménech'!$E$2:$E$2024,$B100,'Po jménech'!$I$2:$I$2024,9) -> 2 | AG100: =COUNTIFS('Po jménech'!$E$2:$E$2024,$B100,'Po jménech'!$I$2:$I$2024,9,'Po jménech'!$J$2:$J$2024,16) -> 0 | AH100: =COUNTIFS('Po jménech'!$E$2:$E$2024,$B100,'Po jménech'!$I$2:$I$2024,9,'Po jménech'!$J$2:$J$2024,8) -> 0 | AI100: =COUNTIFS('Po jménech'!$E$2:$E$2024,$B100,'Po jménech'!$I$2:$I$2024,9,'Po jménech'!$J$2:$J$2024,4) -> 0 | AJ100: =COUNTIFS('Po jménech'!$E$2:$E$2024,$B100,'Po jménech'!$I$2:$I$2024,9,'Po jménech'!$J$2:$J$2024,2) -> 0 | AK100: =COUNTIFS('Po jménech'!$E$2:$E$2024,$B100,'Po jménech'!$I$2:$I$2024,9,'Po jménech'!$J$2:$J$2024,1) -> 2
A101: 98 | B101: Brancuský Petr | W101: 1 | X101: 1 | AE101: 2 | AF101: =COUNTIFS('Po jménech'!$E$2:$E$2024,$B101,'Po jménech'!$I$2:$I$2024,9) -> 2 | AG101: =COUNTIFS('Po jménech'!$E$2:$E$2024,$B101,'Po jménech'!$I$2:$I$2024,9,'Po jménech'!$J$2:$J$2024,16) -> 0 | AH101: =COUNTIFS('Po jménech'!$E$2:$E$2024,$B101,'Po jménech'!$I$2:$I$2024,9,'Po jménech'!$J$2:$J$2024,8) -> 0 | AI101: =COUNTIFS('Po jménech'!$E$2:$E$2024,$B101,'Po jménech'!$I$2:$I$2024,9,'Po jménech'!$J$2:$J$2024,4) -> 0 | AJ101: =COUNTIFS('Po jménech'!$E$2:$E$2024,$B101,'Po jménech'!$I$2:$I$2024,9,'Po jménech'!$J$2:$J$2024,2) -> 0 | AK101: =COUNTIFS('Po jménech'!$E$2:$E$2024,$B101,'Po jménech'!$I$2:$I$2024,9,'Po jménech'!$J$2:$J$2024,1) -> 2
...

Sheet 10-ball
B2: ŽEBŘÍČEK 10-BALL | C2: Body na MR v poolových disciplínách - jednotlivci 1995 - 2023 | Q2: POČET ODEHRANÝCH TURNAJŮ
B3: Jméno | C3: 2010 | D3: 2011 | E3: 2012 | F3: 2013 | G3: 2014 | H3: 2015 | I3: 2016 | J3: 2017 | K3: 2018 | L3: 2019 | M3: 2021 | N3: 2022 | O3: 2023 | P3: Body | Q3: Turnaje | R3: *1* | S3: *2* | T3: *3-4* | U3: *5-8* | V3: * 9 +*
A4: 1 | B4: Hajdovský Marek | C4: 1 | D4: 8 | E4: 16 | F4: 4 | G4: 16 | H4: 16 | I4: 16 | J4: 4 | K4: 4 | L4: 4 | M4: 4 | O4: 4 | P4: 97 | Q4: 12 | R4: 4 | S4: 1 | T4: 6 | U4: 0 | V4: 1
A5: 2 | B5: Urban Petr | C5: 1 | E5: 1 | F5: 8 | H5: 4 | I5: 2 | J5: 8 | K5: 8 | L5: 1 | M5: 16 | N5: 16 | O5: 8 | P5: 73 | Q5: 11 | R5: 2 | S5: 4 | T5: 1 | U5: 1 | V5: 3
A6: 3 | B6: Meisner Jan | C6: 1 | D6: 1 | E6: 1 | G6: 8 | H6: 8 | I6: 8 | J6: 4 | K6: 1 | L6: 16 | M6: 8 | N6: 1 | O6: 1 | P6: 58 | Q6: 12 | R6: 1 | S6: 4 | T6: 1 | U6: 0 | V6: 6
A7: 4 | B7: Žalman David | C7: 4 | D7: 2 | F7: 2 | G7: 2 | H7: 1 | I7: 1 | J7: 1 | K7: 2 | L7: 1 | M7: 4 | N7: 8 | O7: 16 | P7: 44 | Q7: 12 | R7: 1 | S7: 1 | T7: 2 | U7: 4 | V7: 4
A8: 5 | B8: Gavenčiak Michal | C8: 16 | K8: 16 | M8: 2 | P8: 34 | Q8: 3 | R8: 2 | S8: 0 | T8: 0 | U8: 1 | V8: 0
A9: 6 | B9: Suchánek Jan | C9: 1 | D9: 1 | E9: 2 | F9: 16 | H9: 1 | J9: 1 | P9: 22 | Q9: 6 | R9: 1 | S9: 0 | T9: 0 | U9: 1 | V9: 4
A10: 7 | B10: Stuna Jakub | I10: 1 | J10: 16 | K10: 4 | O10: 1 | P10: 22 | Q10: 4 | R10: 1 | S10: 0 | T10: 1 | U10: 0 | V10: 2
A11: 8 | B11: Tichý Jaroslav | C11: 1 | D11: 4 | E11: 1 | F11: 4 | J11: 1 | K11: 1 | L11: 2 | M11: 1 | N11: 2 | O11: 4 | P11: 21 | Q11: 10 | R11: 0 | S11: 0 | T11: 3 | U11: 2 | V11: 5
A12: 9 | B12: Halamka Dominik | C12: 1 | D12: 16 | P12: 17 | Q12: 2 | R12: 1 | S12: 0 | T12: 0 | U12: 0 | V12: 1
A13: 10 | B13: Janata Jan | C13: 8 | D13: 4 | E13: 4 | F13: 1 | P13: 17 | Q13: 4 | R13: 0 | S13: 1 | T13: 2 | U13: 0 | V13: 1
A14: 11 | B14: Mihok Michal | H14: 4 | I14: 1 | J14: 2 | K14: 2 | L14: 1 | M14: 1 | N14: 1 | P14: 12 | Q14: 7 | R14: 0 | S14: 0 | T14: 1 | U14: 2 | V14: 4
A15: 12 | B15: Daněk Vojtěch | C15: 2 | D15: 2 | E15: 8 | P15: 12 | Q15: 3 | R15: 0 | S15: 1 | T15: 0 | U15: 2 | V15: 0
A16: 13 | B16: Washburn Calvin | H16: 1 | J16: 2 | K16: 1 | L16: 1 | M16: 1 | N16: 4 | O16: 2 | P16: 12 | Q16: 7 | R16: 0 | S16: 0 | T16: 1 | U16: 2 | V16: 4
A17: 14 | B17: Akenhead James | J17: 1 | K17: 1 | L17: 8 | N17: 1 | O17: 1 | P17: 12 | Q17: 5 | R17: 0 | S17: 1 | T17: 0 | U17: 0 | V17: 4
A18: 15 | B18: Vladyka Robin | C18: 1 | D18: 1 | E18: 1 | F18: 1 | G18: 1 | H18: 1 | I18: 1 | J18: 1 | K18: 1 | M18: 1 | N18: 1 | P18: 11 | Q18: 11 | R18: 0 | S18: 0 | T18: 0 | U18: 0 | V18: 11
A19: 16 | B19: Tužil Pavel | H19: 2 | I19: 4 | J19: 1 | K19: 1 | L19: 2 | M19: 1 | P19: 11 | Q19: 6 | R19: 0 | S19: 0 | T19: 1 | U19: 2 | V19: 3
A20: 17 | B20: Erös Dávid | D20: 1 | E20: 1 | F20: 1 | G20: 4 | H20: 2 | J20: 1 | P20: 10 | Q20: 6 | R20: 0 | S20: 0 | T20: 1 | U20: 1 | V20: 4
A21: 18 | B21: Houdek Adam | C21: 2 | D21: 1 | F21: 2 | G21: 2 | I21: 1 | J21: 2 | P21: 10 | Q21: 6 | R21: 0 | S21: 0 | T21: 0 | U21: 4 | V21: 2
A22: 19 | B22: Bernášek Lukáš | C22: 2 | D22: 2 | E22: 2 | F22: 1 | G22: 1 | I22: 1 | O22: 1 | P22: 10 | Q22: 7 | R22: 0 | S22: 0 | T22: 0 | U22: 3 | V22: 4
A23: 20 | B23: Duna Zoltán | I23: 2 | J23: 1 | K23: 1 | L23: 2 | M23: 1 | N23: 1 | O23: 1 | P23: 9 | Q23: 7 | R23: 0 | S23: 0 | T23: 0 | U23: 2 | V23: 5
A24: 21 | B24: Galuška Martin | G24: 4 | H24: 1 | I24: 1 | M24: 2 | N24: 1 | P24: 9 | Q24: 5 | R24: 0 | S24: 0 | T24: 1 | U24: 1 | V24: 3
A25: 22 | B25: Horák Michal | F25: 1 | I25: 1 | K25: 2 | L25: 1 | M25: 1 | N25: 1 | O25: 2 | P25: 9 | Q25: 7 | R25: 0 | S25: 0 | T25: 0 | U25: 2 | V25: 5
A26: 23 | B26: Halamka Pavel | C26: 1 | E26: 1 | F26: 1 | H26: 2 | J26: 1 | L26: 1 | M26: 1 | N26: 1 | P26: 9 | Q26: 8 | R26: 0 | S26: 0 | T26: 0 | U26: 1 | V26: 7
A27: 24 | B27: Nechvíle Josef | G27: 1 | H27: 2 | I27: 2 | K27: 2 | L27: 1 | P27: 8 | Q27: 5 | R27: 0 | S27: 0 | T27: 0 | U27: 3 | V27: 2
A28: 25 | B28: Zhou Longdi | C28: 1 | D28: 1 | F28: 1 | J28: 2 | K28: 1 | L28: 1 | N28: 1 | P28: 8 | Q28: 7 | R28: 0 | S28: 0 | T28: 0 | U28: 1 | V28: 6
A29: 26 | B29: Čermín Tomáš | C29: 1 | D29: 1 | E29: 4 | F29: 1 | P29: 7 | Q29: 4 | R29: 0 | S29: 0 | T29: 1 | U29: 0 | V29: 3
A30: 27 | B30: Balaštík Pavel | E30: 1 | F30: 1 | G30: 1 | H30: 1 | K30: 1 | L30: 2 | P30: 7 | Q30: 6 | R30: 0 | S30: 0 | T30: 0 | U30: 1 | V30: 5
A31: 28 | B31: Zeman Pavel | C31: 4 | D31: 1 | E31: 1 | F31: 1 | P31: 7 | Q31: 4 | R31: 0 | S31: 0 | T31: 1 | U31: 0 | V31: 3
A32: 29 | B32: Kůs Erik | G32: 1 | H32: 1 | I32: 1 | J32: 1 | K32: 1 | L32: 1 | P32: 6 | Q32: 6 | R32: 0 | S32: 0 | T32: 0 | U32: 0 | V32: 6
A33: 30 | B33: Jelínek Petr | G33: 1 | H33: 1 | I33: 1 | J33: 1 | M33: 1 | O33: 1 | P33: 6 | Q33: 6 | R33: 0 | S33: 0 | T33: 0 | U33: 0 | V33: 6
A34: 31 | B34: Balan Arivukkannan | C34: 1 | I34: 1 | J34: 1 | K34: 1 | L34: 1 | N34: 1 | P34: 6 | Q34: 6 | R34: 0 | S34: 0 | T34: 0 | U34: 0 | V34: 6
A35: 32 | B35: Janošťák Aleš | K35: 1 | N35: 4 | P35: 5 | Q35: 2 | R35: 0 | S35: 0 | T35: 1 | U35: 0 | V35: 1
A36: 33 | B36: Velíšek Josef | G36: 2 | J36: 1 | K36: 1 | L36: 1 | P36: 5 | Q36: 4 | R36: 0 | S36: 0 | T36: 0 | U36: 1 | V36: 3
A37: 34 | B37: Vobořil Zdeněk | D37: 1 | I37: 4 | P37: 5 | Q37: 2 | R37: 0 | S37: 0 | T37: 1 | U37: 0 | V37: 1
A38: 35 | B38: Marič Márijo | J38: 1 | K38: 1 | M38: 1 | N38: 1 | O38: 1 | P38: 5 | Q38: 5 | R38: 0 | S38: 0 | T38: 0 | U38: 0 | V38: 5
A39: 36 | B39: Bačik Michal | C39: 1 | D39: 2 | E39: 1 | P39: 4 | Q39: 3 | R39: 0 | S39: 0 | T39: 0 | U39: 1 | V39: 2
A40: 37 | B40: Kulas René | J40: 1 | N40: 2 | O40: 1 | P40: 4 | Q40: 3 | R40: 0 | S40: 0 | T40: 0 | U40: 1 | V40: 2
A41: 38 | B41: Rendla Jakub | H41: 1 | L41: 1 | M41: 1 | O41: 1 | P41: 4 | Q41: 4 | R41: 0 | S41: 0 | T41: 0 | U41: 0 | V41: 4
A42: 39 | B42: Mrázek David | L42: 4 | P42: 4 | Q42: 1 | R42: 0 | S42: 0 | T42: 1 | U42: 0 | V42: 0
