Workbook

Sheet Titulek

Sheet Po rocích
A1: Řazení: Ročník / Disciplína / Umístění | E1: Jméno | F1: Klub | G1: Umístění | H1: Ročník | I1: Disciplina | J1: Body
A2: ROČNÍK 1995 | C2: 8-ball | E2: Pavlovič Dušan | F2: Neto České Budějovice | G2: 1 | H2: 1995 | I2: 8 | J2: 16
E3: Nechoďdomů Radek | F3: Neto České Budějovice | G3: 2 | H3: 1995 | I3: 8 | J3: 8
E4: Gajda Petr | F4: Ostrava | G4: 3 | H4: 1995 | I4: 8 | J4: 4
E5: Vodička Jiří | F5: Billard Centrum Praha | G5: 4 | H5: 1995 | I5: 8 | J5: 4
E6: Frank René | F6: Brand's Billiard Praha | G6: 5 | H6: 1995 | I6: 8 | J6: 2
E7: Kurdský Vladimír | G7: 6 | H7: 1995 | I7: 8 | J7: 2
E8: Voráček Petr | F8: Neto České Budějovice | G8: 7 | H8: 1995 | I8: 8 | J8: 2
E9: Kohout Štěpán | F9: Biliar klub Ekvita Kladno | G9: 8 | H9: 1995 | I9: 8 | J9: 2
E10: Mízner Jiří | G10: 9 | H10: 1995 | I10: 8 | J10: 1
E11: Ritter Martin | G11: 10 | H11: 1995 | I11: 8 | J11: 1
E12: Škrhák vladimír | F12: Brno | G12: 11 | H12: 1995 | I12: 8 | J12: 1
E13: Zabloudil Štěpán | F13: Billard Centrum Praha | G13: 12 | H13: 1995 | I13: 8 | J13: 1
E14: Brejtr Ivo | F14: TJ Náchod | G14: 13 | H14: 1995 | I14: 8 | J14: 1
E15: Vystrčil Aleš | F15: Billiard Club Brno | G15: 14 | H15: 1995 | I15: 8 | J15: 1
E16: Kočička Petr | F16: TJ Náchod | G16: 15 | H16: 1995 | I16: 8 | J16: 1
E17: Zákora Tomáš | F17: Billard Centrum Praha | G17: 16 | H17: 1995 | I17: 8 | J17: 1
A18: ROČNÍK 1996 | C18: 9-ball | E18: Frank René | F18: Brand's Billiard Praha | G18: 1 | H18: 1996 | I18: 9 | J18: 16
E19: Voráček Petr | F19: Neto České Budějovice | G19: 2 | H19: 1996 | I19: 9 | J19: 8
E20: Dirn Marcel | F20: Jambo club Praha | G20: 3 | H20: 1996 | I20: 9 | J20: 4
E21: Zabloudil Štěpán | F21: Billard Centrum Praha | G21: 4 | H21: 1996 | I21: 9 | J21: 4
E22: Krucký Vladimír | F22: Brand's Billiard Praha | G22: 5 | H22: 1996 | I22: 9 | J22: 2
E23: Vystrčil Aleš | F23: Billiard Club Brno | G23: 6 | H23: 1996 | I23: 9 | J23: 2
E24: Pecinovský Martin | F24: Praha | G24: 7 | H24: 1996 | I24: 9 | J24: 2
E25: Škrhák Vladimír | F25: Brno | G25: 8 | H25: 1996 | I25: 9 | J25: 2
E26: Janata Jan | F26: Billard Centrum Praha | G26: 9 | H26: 1996 | I26: 9 | J26: 1
E27: Čunát Josef | F27: Neto České Budějovice | G27: 10 | H27: 1996 | I27: 9 | J27: 1
E28: Kotyza Václav | F28: Neto České Budějovice | G28: 11 | H28: 1996 | I28: 9 | J28: 1
E29: Pavlovič Dušan | F29: Neto České Budějovice | G29: 12 | H29: 1996 | I29: 9 | J29: 1
E30: Kučera Jan | F30: Jambo club Praha | G30: 13 | H30: 1996 | I30: 9 | J30: 1
... E33: Nejedlo František | F33: Neto České Budějovice | G33: 16 | H33: 1996 | I33: 9 | J33: 1
A34: ROČNÍK 1997 | C34: 8-ball | E34: Frank René | F34: Brand's Billiard Praha | G34: 1 | H34: 1997 | I34: 8 | J34: 16
E35: Janata Jan | F35: Billard Centrum Praha | G35: 2 | H35: 1997 | I35: 8 | J35: 8
E36: Zabloudil Štěpán | F36: Balabuška Praha | G36: 3 | H36: 1997 | I36: 8 | J36: 4
E37: Křenek Lukáš | F37: Neto České Budějovice | G37: 4 | H37: 1997 | I37: 8 | J37: 4
A38: ROČNÍK 1997 | C38: 9-ball | E38: Křenek Lukáš | F38: Neto České Budějovice | G38: 1 | H38: 1997 | I38: 9 | J38: 16
E39: Janata Jan | F39: Billard Centrum Praha | G39: 2 | H39: 1997 | I39: 9 | J39: 8
E40: Zabloudil Štěpán | F40: Balabuška Praha | G40: 3 | H40: 1997 | I40: 9 | J40: 4
E41: Remeň Miloslav | F41: Balabuška Praha | G41: 4 | H41: 1997 | I41: 9 | J41: 4
E42: Škvor Jan | F42: BC Řipská Praha | G42: 5 | H42: 1997 | I42: 9 | J42: 2
...

Sheet Po disciplínách
A1: Řazení: Disciplína / Ročník / Umístění | E1: Jméno | F1: Klub | G1: Umístění | H1: Ročník | I1: Disciplina | J1: Body
E2: Pavlovič Dušan | F2: Neto České Budějovice | G2: 1 | H2: 1995 | I2: 8 | J2: 16
E3: Nechoďdomů Radek | F3: Neto České Budějovice | G3: 2 | H3: 1995 | I3: 8 | J3: 8
E4: Gajda Petr | F4: Ostrava | G4: 3 | H4: 1995 | I4: 8 | J4: 4
E5: Vodička Jiří | F5: Billard Centrum Praha | G5: 4 | H5: 1995 | I5: 8 | J5: 4
E6: Frank René | F6: Brand's Billiard Praha | G6: 5 | H6: 1995 | I6: 8 | J6: 2
E7: Kurdský Vladimír | G7: 6 | H7: 1995 | I7: 8 | J7: 2
E8: Voráček Petr | F8: Neto České Budějovice | G8: 7 | H8: 1995 | I8: 8 | J8: 2
E9: Kohout Štěpán | F9: Biliar klub Ekvita Kladno | G9: 8 | H9: 1995 | I9: 8 | J9: 2
E10: Mízner Jiří | G10: 9 | H10: 1995 | I10: 8 | J10: 1
E11: Ritter Martin | G11: 10 | H11: 1995 | I11: 8 | J11: 1
E12: Škrhák vladimír | F12: Brno | G12: 11 | H12: 1995 | I12: 8 | J12: 1
E13: Zabloudil Štěpán | F13: Billard Centrum Praha | G13: 12 | H13: 1995 | I13: 8 | J13: 1
E14: Brejtr Ivo | F14: TJ Náchod | G14: 13 | H14: 1995 | I14: 8 | J14: 1
E15: Vystrčil Aleš | F15: Billiard Club Brno | G15: 14 | H15: 1995 | I15: 8 | J15: 1
E16: Kočička Petr | F16: TJ Náchod | G16: 15 | H16: 1995 | I16: 8 | J16: 1
E17: Zákora Tomáš | F17: Billard Centrum Praha | G17: 16 | H17: 1995 | I17: 8 | J17: 1
E18: Frank René | F18: Brand's Billiard Praha | G18: 1 | H18: 1997 | I18: 8 | J18: 16
E19: Janata Jan | F19: Billard Centrum Praha | G19: 2 | H19: 1997 | I19: 8 | J19: 8
E20: Zabloudil Štěpán | F20: Balabuška Praha | G20: 3 | H20: 1997 | I20: 8 | J20: 4
E21: Křenek Lukáš | F21: Neto České Budějovice | G21: 4 | H21: 1997 | I21: 8 | J21: 4
E22: Gajda Petr | F22: Balabuška Praha | G22: 1 | H22: 1998 | I22: 8 | J22: 16
E23: Křenek Lukáš | F23: Balabuška Praha | G23: 2 | H23: 1998 | I23: 8 | J23: 8
... E30: Radoš Karel | F30: Ládví Praha | G30: 9 | H30: 1998 | I30: 8 | J30: 1
E31: Jordán | G31: 10 | H31: 1998 | I31: 8 | J31: 1
E32: Bernášek Lukáš | F32: Balabuška Praha | G32: 11 | H32: 1998 | I32: 8 | J32: 1
E33: Ratkovič Radovan | F33: Balabuška Praha | G33: 12 | H33: 1998 | I33: 8 | J33: 1
E34: Voráček Petr | F34: Balabuška Praha | G34: 13 | H34: 1998 | I34: 8 | J34: 1
E35: Snopko | F35: Balabuška Praha | G35: 14 | H35: 1998 | I35: 8 | J35: 1
E36: Rebonja Smako | F36: Balabuška Praha | G36: 15 | H36: 1998 | I36: 8 | J36: 1
E37: Škvor Jan | F37: Řipská Praha | G37: 16 | H37: 1998 | I37: 8 | J37: 1
E38: Křenek Lukáš | F38: Balabuška Praha | G38: 1 | H38: 1999 | I38: 8 | J38: 16
E39: Frank René | F39: Bar Bar Beroun | G39: 2 | H39: 1999 | I39: 8 | J39: 8
E40: Dirn Marcel | F40: Balabuška Praha | G40: 3 | H40: 1999 | I40: 8 | J40: 4
E41: Gavenčiak Michal | F41: Harlequ'in Roudnice | G41: 4 | H41: 1999 | I41: 8 | J41: 4
E42: Voráček Petr | F42: Balabuška Praha | G42: 5 | H42: 1999 | I42: 8 | J42: 2
E43: Gajda Petr | F43: Balabuška Praha | G43: 6 | H43: 1999 | I43: 8 | J43: 2
... E2024: Kulas René | F2024: Řipská Billiard club | G2024: 32 | H2024: 2023 | I2024: 14 | J2024: 1

Sheet Po jménech
A1: Řazení: Jméno / Umístění / Ročník | E1: Jméno | F1: Klub | G1: Umístění | H1: Ročník | I1: Disciplina | J1: Body | M1: Jméno | N1: 8-ball | O1: 9-ball | P1: 10-ball | Q1: 14.1 | R1: Součet | S1: *1* | T1: *2* | U1: *3-4* | V1: *5-8* | W1: * 9 +* | Y1: Bodování
E2: Akenhead James | F2: Řipská Billiard club | G2: 2 | H2: 2019 | I2: 10 | J2: 8 | L2: 1 | M2: Hajdovský Marek | N2: 86 | O2: 80 | P2: 97 | Q2: 149 | R2: 412 | S2: 240 | T2: 64 | U2: 56 | V2: 38 | W2: 14 | Y2: místo | Z2: body
A3: OSOBNÍ SEZNAMY | E3: Akenhead James | F3: Řipská Billiard club | G3: 2 | H3: 2021 | I3: 14 | J3: 8 | L3: 2 | M3: Žalman David | N3: 106 | O3: 100 | P3: 44 | Q3: 77 | R3: 327 | S3: 128 | T3: 72 | U3: 72 | V3: 40 | W3: 15 | Y3: zlato | Z3: 16
A4: DOSAŽENÝCH VÝSLEDKŮ | E4: Akenhead James | F4: Řipská Billiard club | G4: 5 | H4: 2018 | I4: 8 | J4: 2 | L4: 3 | M4: Křenek Lukáš | N4: 106 | O4: 113 | Q4: 88 | R4: 307 | S4: 240 | T4: 48 | U4: 12 | V4: 6 | W4: 1 | Y4: stříbro | Z4: 8
E5: Akenhead James | F5: Řipská Billiard club | G5: 6 | H5: 2018 | I5: 14 | J5: 2 | L5: 4 | M5: Urban Petr | N5: 76 | O5: 75 | P5: 73 | Q5: 83 | R5: 307 | S5: 144 | T5: 96 | U5: 40 | V5: 12 | W5: 15 | Y5: bronz | Z5: 4
E6: Akenhead James | F6: Řipská Billiard club | G6: 8 | H6: 2017 | I6: 14 | J6: 2 | L6: 5 | M6: Gavenčiak Michal | N6: 87 | O6: 76 | P6: 34 | Q6: 86 | R6: 283 | S6: 208 | T6: 56 | U6: 12 | V6: 6 | W6: 1 | Y6: 5. - 8. | Z6: 2
E7: Akenhead James | F7: Řipská Billiard club | G7: 8 | H7: 2022 | I7: 8 | J7: 2 | L7: 6 | M7: Meisner Jan | N7: 47 | O7: 67 | P7: 58 | Q7: 72 | R7: 244 | S7: 128 | T7: 64 | U7: 20 | V7: 16 | W7: 16 | Y7: účast | Z7: 1
E8: Akenhead James | F8: Řipská Billiard club | G8: 11 | H8: 2019 | I8: 9 | J8: 1 | L8: 7 | M8: Janata Jan | N8: 45 | O8: 81 | P8: 17 | Q8: 81 | R8: 224 | S8: 64 | T8: 48 | U8: 68 | V8: 30 | W8: 14
E9: Akenhead James | F9: Řipská Billiard club | G9: 12 | H9: 2017 | I9: 9 | J9: 1 | L9: 8 | M9: Halamka Dominik | N9: 71 | O9: 42 | P9: 17 | Q9: 56 | R9: 186 | S9: 80 | T9: 48 | U9: 28 | V9: 24 | W9: 6
E10: Akenhead James | F10: Řipská Billiard club | G10: 12 | H10: 2017 | I10: 10 | J10: 1 | L10: 9 | M10: Houdek Adam | N10: 53 | O10: 51 | P10: 10 | Q10: 25 | R10: 139 | S10: 64 | T10: 8 | U10: 24 | V10: 30 | W10: 13
E11: Akenhead James | F11: Řipská Billiard club | G11: 12 | H11: 2020 | I11: 9 | J11: 1 | L11: 10 | M11: Gajda Petr | N11: 42 | O11: 19 | Q11: 30 | R11: 91 | S11: 16 | T11: 24 | U11: 20 | V11: 26 | W11: 5
E12: Akenhead James | F12: Řipská Billiard club | G12: 12 | H12: 2022 | I12: 10 | J12: 1 | L12: 11 | M12: Zeman Pavel | N12: 46 | O12: 25 | P12: 7 | Q12: 11 | R12: 89 | S12: 16 | T12: 16 | U12: 28 | V12: 18 | W12: 11
E13: Akenhead James | F13: Řipská Billiard club | G13: 13 | H13: 2018 | I13: 10 | J13: 1 | L13: 12 | M13: Suchánek Jan | N13: 19 | O13: 24 | P13: 22 | Q13: 14 | R13: 79 | S13: 16 | U13: 28 | V13: 24 | W13: 11
E14: Akenhead James | F14: Řipská Billiard club | G14: 13 | H14: 2023 | I14: 9 | J14: 1 | L14: 13 | M14: Tichý Jaroslav | N14: 13 | O14: 31 | P14: 21 | Q14: 13 | R14: 78 | S14: 16 | U14: 28 | V14: 10 | W14: 24
E15: Akenhead James | F15: Řipská Billiard club | G15: 15 | H15: 2023 | I15: 14 | J15: 1 | L15: 14 | M15: Frank René | N15: 29 | O15: 30 | Q15: 18 | R15: 77 | S15: 32 | T15: 24 | U15: 12 | V15: 6 | W15: 3
E16: Akenhead James | F16: Řipská Billiard club | G16: 16 | H16: 2018 | I16: 9 | J16: 1 | L16: 15 | M16: Bernášek Lukáš | N16: 6 | O16: 42 | P16: 10 | Q16: 11 | R16: 69 | U16: 24 | V16: 26 | W16: 19
E17: Akenhead James | F17: Řipská Billiard club | G17: 23 | H17: 2023 | I17: 10 | J17: 1 | L17: 16 | M17: Dirn Marcel | N17: 23 | O17: 26 | Q17: 16 | R17: 65 | T17: 16 | U17: 32 | V17: 10 | W17: 7
E18: Akenhead James | F18: Řipská Billiard club | G18: 25 | H18: 2022 | I18: 9 | J18: 1 | L18: 17 | M18: Erös Dávid | N18: 25 | O18: 8 | P18: 10 | Q18: 19 | R18: 62 | T18: 24 | U18: 12 | V18: 12 | W18: 14
E19: Akenhead James | F19: Řipská Billiard club | G19: 27 | H19: 2019 | I19: 14 | J19: 1 | L19: 18 | M19: Washburn Calvin | N19: 13 | O19: 11 | P19: 12 | Q19: 14 | R19: 50 | U19: 20 | V19: 18 | W19: 12
E20: Akenhead James | F20: Řipská Billiard club | G20: 28 | H20: 2021 | I20: 9 | J20: 1 | L20: 19 | M20: Balaštík Pavel | N20: 15 | O20: 14 | P20: 7 | Q20: 11 | R20: 47 | U20: 12 | V20: 12 | W20: 23
E21: Akenhead James | F21: Řipská Billiard club | G21: 28 | H21: 2023 | I21: 8 | J21: 1 | L21: 20 | M21: Moroz Mykola | N21: 18 | O21: 24 | P21: 2 | Q21: 2 | R21: 46 | S21: 32 | T21: 8 | V21: 4 | W21: 2
E22: Al-Tamimi Zaid | F22: Řipská Praha | G22: 15 | H22: 2011 | I22: 10 | J22: 1 | L22: 21 | M22: Čermín Tomáš | N22: 10 | O22: 19 | P22: 7 | Q22: 7 | R22: 43 | T22: 8 | U22: 8 | V22: 14 | W22: 13
E23: Al-Tamimi Zaid | F23: Řipská Praha | G23: 16 | H23: 2010 | I23: 9 | J23: 1 | L23: 22 | M23: Stuna Jakub | N23: 6 | O23: 10 | P23: 22 | Q23: 4 | R23: 42 | S23: 16 | U23: 8 | V23: 8 | W23: 10
E24: Al-Tamimi Zaid | F24: Řipská Praha | G24: 17 | H24: 2011 | I24: 8 | J24: 1 | L24: 23 | M24: Dorobant Slavomír | N24: 20 | O24: 15 | Q24: 6 | R24: 41 | T24: 24 | U24: 4 | V24: 6 | W24: 7
E25: Al-Tamimi Zaid | F25: SK Billard Centrum Praha | G25: 21 | H25: 2014 | I25: 10 | J25: 1 | L25: 24 | M25: Voráček Petr | N25: 9 | O25: 14 | Q25: 16 | R25: 39 | T25: 16 | U25: 12 | V25: 8 | W25: 3
E26: Aust Jiří | F26: RendaRoudnicen/L. | G26: 5 | H26: 2012 | I26: 10 | J26: 2 | L26: 25 | M26: Zhou Longdi | N26: 10 | O26: 13 | P26: 8 | Q26: 8 | R26: 39 | U26: 8 | V26: 10 | W26: 21
E27: Aust Jiří | F27: Harlequ´in Roudnice n.L. | G27: 8 | H27: 2001 | I27: 8 | J27: 2 | L27: 26 | M27: Vladyka Robin | N27: 9 | O27: 10 | P27: 11 | Q27: 8 | R27: 38 | V27: 4 | W27: 34
E28: Aust Jiří | F28: Harlequ´in Roudnice n.L. | G28: 9 | H28: 2010 | I28: 10 | J28: 1 | L28: 27 | M28: Akenhead James | N28: 5 | O28: 7 | P28: 12 | Q28: 14 | R28: 38 | T28: 16 | V28: 8 | W28: 14
E29: Aust Jiří | F29: Harlequ´in Roudnice n.L. | G29: 10 | H29: 2001 | I29: 8 | J29: 1 | L29: 28 | M29: Kraušner Miroslav | N29: 10 | O29: 11 | P29: 3 | Q29: 14 | R29: 38 | U29: 4 | V29: 22 | W29: 12
E30: Aust Jiří | F30: Harlequ´in Roudnice n.L. | G30: 10 | H30: 2002 | I30: 9 | J30: 1 | L30: 29 | M30: Nechvíle Josef | N30: 11 | O30: 15 | P30: 8 | Q30: 3 | R30: 37 | T30: 8 | U30: 4 | V30: 12 | W30: 13
E31: Aust Jiří | F31: Harlequ´in Roudnice n.L. | G31: 11 | H31: 2002 | I31: 8 | J31: 1 | L31: 30 | M31: Jelínek Jakub | N31: 8 | O31: 11 | Q31: 18 | R31: 37 | T31: 8 | U31: 12 | V31: 14 | W31: 3
E32: Aust Jiří | F32: Ceramic Roudnice n.L. | G32: 16 | H32: 1999 | I32: 8 | J32: 1 | L32: 31 | M32: Halamka Pavel | N32: 11 | O32: 7 | P32: 9 | Q32: 9 | R32: 36 | V32: 8 | W32: 28
E33: Aust Jiří | F33: RendaRoudnicen/L. | G33: 16 | H33: 2012 | I33: 8 | J33: 1 | L33: 32 | M33: Duna Zoltán | N33: 11 | O33: 8 | P33: 9 | Q33: 6 | R33: 34 | U33: 4 | V33: 8 | W33: 22
E34: Aust Jiří | F34: Harlequ´in Roudnice n.L. | G34: 19 | H34: 2010 | I34: 8 | J34: 1 | L34: 33 | M34: Zajíček Jiří | N34: 20 | O34: 8 | Q34: 4 | R34: 32 | S34: 16 | U34: 8 | V34: 8
E35: Aust Jiří | F35: Harlequin Roudnice n/L. | G35: 19 | H35: 2011 | I35: 8 | J35: 1 | L35: 34 | M35: Hofman Jiří | N35: 1 | O35: 26 | P35: 3 | Q35: 2 | R35: 32 | S35: 16 | U35: 4 | V35: 4 | W35: 8
E36: Aust Jiří | F36: Harlequ´in Roudnice n/L. | G36: 22 | H36: 2011 | I36: 9 | J36: 1 | L36: 35 | M36: Zeman Oto | N36: 14 | O36: 4 | Q36: 12 | R36: 30 | U36: 16 | V36: 4 | W36: 10
E37: Bačik Michal | F37: Casablanca Tábor | G37: 6 | H37: 2011 | I37: 10 | J37: 2 | L37: 36 | M37: Bröschel Jan | N37: 11 | O37: 10 | P37: 3 | Q37: 5 | R37: 29 | U37: 4 | V37: 14 | W37: 11
E38: Bačik Michal | F38: Casablanca Tábor | G38: 15 | H38: 2010 | I38: 9 | J38: 1 | L38: 37 | M38: Tužil Pavel | N38: 5 | O38: 8 | P38: 11 | Q38: 4 | R38: 28 | U38: 8 | V38: 6 | W38: 14
E39: Bačik Michal | F39: CasablancaTábor | G39: 18 | H39: 2012 | I39: 10 | J39: 1 | L39: 38 | M39: Škvor Jan | N39: 17 | O39: 9 | Q39: 2 | R39: 28 | T39: 8 | U39: 4 | V39: 10 | W39: 6
E40: Bačik Michal | F40: Casablanca Tábor | G40: 20 | H40: 2011 | I40: 9 | J40: 1 | L40: 39 | M40: Mihok Michal | N40: 4 | O40: 7 | P40: 12 | Q40: 5 | R40: 28 | U40: 4 | V40: 12 | W40: 12
...

Sheet Medaile
E1: Jméno | F1: Klub | G1: Umístění | H1: Ročník | I1: Disciplina | J1: Body | O1: Jméno | P1: *1* | Q1: *2* | R1: *3*4* | S1: Celkem
B2: VÝČET | E2: Akenhead James | F2: Řipská Billiard club | G2: 2 | H2: 2019 | I2: 10 | J2: 8 | L2: POŘADÍ PODLE | N2: 1 | O2: Hajdovský Marek | P2: 15 | Q2: 8 | R2: 14 | S2: 37
B3: MEDAILOVÝCH | E3: Akenhead James | F3: Řipská Billiard club | G3: 2 | H3: 2021 | I3: 14 | J3: 8 | L3: MEDAILOVÝCH | N3: 2 | O3: Křenek Lukáš | P3: 15 | Q3: 6 | R3: 3 | S3: 24
B4: UMÍSTĚNÍ | E4: Balaštík Pavel | F4: BC Harlequin Praha | G4: 3 | H4: 2015 | I4: 9 | J4: 4 | L4: UMÍSTĚNÍ | N4: 3 | O4: Gavenčiak Michal | P4: 13 | Q4: 7 | R4: 3 | S4: 23
E5: Balaštík Pavel | F5: BC Harlequin Praha | G5: 4 | H5: 2015 | I5: 8 | J5: 4 | N5: 4 | O5: Urban Petr | P5: 9 | Q5: 12 | R5: 10 | S5: 31
E6: Balaštík Pavel | F6: BC Harlequin Praha | G6: 4 | H6: 2018 | I6: 8 | J6: 4 | N6: 5 | O6: Žalman David | P6: 8 | Q6: 9 | R6: 18 | S6: 35
E7: Bernášek Lukáš | F7: Balabuška Praha | G7: 3 | H7: 2001 | I7: 9 | J7: 4 | N7: 6 | O7: Meisner Jan | P7: 8 | Q7: 8 | R7: 5 | S7: 21
E8: Bernášek Lukáš | F8: BC Balabuška Praha | G8: 3 | H8: 2011 | I8: 9 | J8: 4 | N8: 7 | O8: Halamka Dominik | P8: 5 | Q8: 6 | R8: 7 | S8: 18
E9: Bernášek Lukáš | F9: Balabuška Praha | G9: 4 | H9: 2007 | I9: 9 | J9: 4 | N9: 8 | O9: Janata Jan | P9: 4 | Q9: 6 | R9: 17 | S9: 27
E10: Bernášek Lukáš | F10: BC Balabuška Praha | G10: 4 | H10: 2014 | I10: 9 | J10: 4 | N10: 9 | O10: Houdek Adam | P10: 4 | Q10: 1 | R10: 6 | S10: 11
E11: Bernášek Lukáš | F11: Billiard Club Balabuška, z.s. | G11: 4 | H11: 2019 | I11: 9 | J11: 4 | N11: 10 | O11: Frank René | P11: 2 | Q11: 3 | R11: 3 | S11: 8
E12: Bernášek Lukáš | F12: Billiard Club Balabuška, z.s. | G12: 4 | H12: 2022 | I12: 14 | J12: 4 | N12: 11 | O12: Moroz Mykola | P12: 2 | Q12: 1 | S12: 3
E13: Bohůnek Jindřich | F13: DeltaBilliardBrno | G13: 4 | H13: 2013 | I13: 14 | J13: 4 | N13: 12 | O13: Gajda Petr | P13: 1 | Q13: 3 | R13: 5 | S13: 9
E14: Bröschel Jan | F14: Řipská Billiard club | G14: 4 | H14: 2017 | I14: 8 | J14: 4 | N14: 13 | O14: Zeman Pavel | P14: 1 | Q14: 2 | R14: 7 | S14: 10
E15: Čermín Tomáš | F15: Harlequ´inPraha | G15: 2 | H15: 2013 | I15: 9 | J15: 8 | N15: 14 | O15: Suchánek Jan | P15: 1 | R15: 7 | S15: 8
E16: Čermín Tomáš | F16: Harlequ´inPraha | G16: 4 | H16: 2012 | I16: 9 | J16: 4 | N16: 15 | O16: Tichý Jaroslav | P16: 1 | R16: 7 | S16: 8
E17: Čermín Tomáš | F17: Harlequ´inPraha | G17: 4 | H17: 2012 | I17: 10 | J17: 4 | N17: 16 | O17: Stuna Jakub | P17: 1 | R17: 2 | S17: 3
E18: Daněk Vojtěch | F18: BillardCentrumPraha | G18: 2 | H18: 2012 | I18: 10 | J18: 8 | N18: 17 | O18: Zajíček Jiří | P18: 1 | R18: 2 | S18: 3
E19: Dirn Marcel | F19: Balabuška Praha | G19: 2 | H19: 2001 | I19: 8 | J19: 8 | N19: 18 | O19: Hofman Jiří | P19: 1 | R19: 1 | S19: 2
E20: Dirn Marcel | F20: Balabuška Praha | G20: 2 | H20: 2001 | I20: 9 | J20: 8 | N20: 19 | O20: Onderek Tomáš | P20: 1 | S20: 1
E21: Dirn Marcel | F21: Jambo club Praha | G21: 3 | H21: 1996 | I21: 9 | J21: 4 | N21: 20 | O21: Pavlovič Dušan | P21: 1 | S21: 1
E22: Dirn Marcel | F22: Balabuška Praha | G22: 3 | H22: 1998 | I22: 8 | J22: 4 | N22: 21 | O22: Ratkovič Radovan | P22: 1 | S22: 1
E23: Dirn Marcel | F23: Balabuška Praha | G23: 3 | H23: 1998 | I23: 14 | J23: 4 | N23: 22 | O23: Erös Dávid | Q23: 3 | R23: 3 | S23: 6
E24: Dirn Marcel | F24: Balabuška Praha | G24: 3 | H24: 1999 | I24: 8 | J24: 4 | N24: 23 | O24: Dorobant Slavomír | Q24: 3 | R24: 1 | S24: 4
E25: Dirn Marcel | F25: Balabuška Praha | G25: 3 | H25: 2000 | I25: 9 | J25: 4 | N25: 24 | O25: Dirn Marcel | Q25: 2 | R25: 8 | S25: 10
E26: Dirn Marcel | F26: Balabuška Praha | G26: 3 | H26: 2000 | I26: 14 | J26: 4 | N26: 25 | O26: Voráček Petr | Q26: 2 | R26: 3 | S26: 5
E27: Dirn Marcel | F27: Balabuška Praha | G27: 3 | H27: 2002 | I27: 9 | J27: 4 | N27: 26 | O27: Akenhead James | Q27: 2 | S27: 2
E28: Dirn Marcel | F28: Balabuška Praha | G28: 4 | H28: 2002 | I28: 8 | J28: 4 | N28: 27 | O28: Jelínek Jakub | Q28: 1 | R28: 3 | S28: 4
E29: Dorobant Miroslav | F29: Řipská Billiard club | G29: 3 | H29: 2019 | I29: 9 | J29: 4 | N29: 28 | O29: Zabloudil Štěpán | Q29: 1 | R29: 3 | S29: 4
E30: Dorobant Miroslav | F30: BCKralupy | G30: 4 | H30: 2013 | I30: 9 | J30: 4 | N30: 29 | O30: Čermín Tomáš | Q30: 1 | R30: 2 | S30: 3
E31: Dorobant Miroslav | F31: Řipská Billiard club | G31: 4 | H31: 2021 | I31: 8 | J31: 4 | N31: 30 | O31: Hajšman Ladislav | Q31: 1 | R31: 2 | S31: 3
E32: Dorobant Slavomír | F32: BC Mladá Boleslav | G32: 2 | H32: 2008 | I32: 9 | J32: 8 | N32: 31 | O32: Mrázek David | Q32: 1 | R32: 1 | S32: 2
E33: Dorobant Slavomír | F33: BC Mnichovo Hradiště | G33: 2 | H33: 2014 | I33: 8 | J33: 8 | N33: 32 | O33: Nechvíle Josef | Q33: 1 | R33: 1 | S33: 2
E34: Dorobant Slavomír | F34: Řipská Billiard club | G34: 2 | H34: 2023 | I34: 8 | J34: 8 | N34: 33 | O34: Škvor Jan | Q34: 1 | R34: 1 | S34: 2
E35: Dorobant Slavomír | F35: BC Mnichovo Hradiště | G35: 4 | H35: 2016 | I35: 9 | J35: 4 | N35: 34 | O35: Daněk Vojtěch | Q35: 1 | S35: 1
E36: Duna Zoltán | F36: Billiardový klub Bio-Systém Plzeň z.s. | G36: 4 | H36: 2019 | I36: 8 | J36: 4 | N36: 35 | O36: Frei Petr | Q36: 1 | S36: 1
E37: Erös Dávid | F37: Club Billiard Řipská Praha | G37: 2 | H37: 2014 | I37: 14 | J37: 8 | N37: 36 | O37: Nechoďdomů Radek | Q37: 1 | S37: 1
E38: Erös Dávid | F38: Club Billiard Řipská Praha | G38: 2 | H38: 2016 | I38: 8 | J38: 8 | N38: 37 | O38: Stettinger Georg | Q38: 1 | S38: 1
E39: Erös Dávid | F39: Řipská Billiard club | G39: 2 | H39: 2017 | I39: 8 | J39: 8 | N39: 38 | O39: Bernášek Lukáš | R39: 6 | S39: 6
E40: Erös Dávid | F40: Club Billiard Řipská Praha | G40: 3 | H40: 2014 | I40: 10 | J40: 4 | N40: 39 | O40: Washburn Calvin | R40: 5 | S40: 5
...

Sheet Bodování
B1: Disciplina | C1: (Vše)
E2: VÝVOJ BODOVÝCH ZISKŮ Z MISTROVSTVÍ REPUBLIKY V POOLOVÝCH DISCIPLÍNÁCH
B3: Bodový zisk | C3: Rok
B4: Jméno | C4: 1995 | D4: 1996 | E4: 1997 | F4: 1998 | G4: 1999 | H4: 2000 | I4: 2001 | J4: 2002 | K4: 2003 | L4: 2004 | M4: 2005 | N4: 2006 | O4: 2007 | P4: 2008 | Q4: 2009 | R4: 2010 | S4: 2011 | T4: 2012 | U4: 2013 | V4: 2014 | W4: 2015 | X4: 2016 | Y4: 2017 | Z4: 2018 | AA4: 2019 | AB4: 2020 | AC4: 2021 | AD4: 2022 | AE4: 2023 | AF4: Celkem
B5: Hajdovský Marek | I5: 1 | J5: 2 | K5: 5 | L5: 9 | M5: 10 | N5: 5 | O5: 12 | P5: 28 | Q5: 18 | R5: 5 | S5: 28 | T5: 64 | U5: 22 | V5: 52 | W5: 49 | X5: 34 | Y5: 11 | Z5: 10 | AA5: 9 | AB5: 2 | AC5: 7 | AD5: 1 | AE5: 28 | AF5: 412
B6: Žalman David | J6: 2 | L6: 6 | M6: 4 | N6: 24 | O6: 10 | P6: 28 | Q6: 13 | R6: 13 | S6: 28 | T6: 3 | U6: 21 | V6: 9 | W6: 8 | X6: 8 | Y6: 8 | Z6: 18 | AA6: 33 | AB6: 3 | AC6: 30 | AD6: 34 | AE6: 24 | AF6: 327
B7: Křenek Lukáš | E7: 20 | F7: 26 | G7: 40 | H7: 40 | I7: 33 | J7: 36 | K7: 26 | L7: 12 | M7: 48 | R7: 26 | AF7: 307
B8: Urban Petr | P8: 2 | R8: 4 | S8: 2 | T8: 18 | U8: 28 | V8: 6 | W8: 17 | X8: 12 | Y8: 34 | Z8: 36 | AA8: 8 | AB8: 20 | AC8: 52 | AD8: 56 | AE8: 12 | AF8: 307
B9: Gavenčiak Michal | G9: 22 | H9: 32 | I9: 10 | J9: 32 | K9: 16 | L9: 48 | Q9: 16 | R9: 32 | V9: 24 | Z9: 41 | AC9: 10 | AF9: 283
B10: Meisner Jan | R10: 1 | S10: 4 | T10: 6 | V10: 13 | W10: 34 | X10: 41 | Y10: 29 | Z10: 19 | AA10: 56 | AB10: 1 | AC10: 15 | AD10: 13 | AE10: 12 | AF10: 244
B11: Janata Jan | D11: 1 | E11: 32 | F11: 10 | G11: 8 | H11: 6 | I11: 28 | J11: 10 | K11: 21 | L11: 9 | M11: 12 | N11: 6 | O11: 5 | P11: 4 | Q11: 19 | R11: 20 | S11: 17 | T11: 7 | U11: 6 | V11: 3 | AF11: 224
B12: Halamka Dominik | G12: 1 | H12: 4 | I12: 7 | J12: 1 | K12: 13 | L12: 8 | M12: 18 | N12: 11 | O12: 48 | P12: 20 | Q12: 10 | R12: 15 | S12: 30 | AF12: 186
B13: Houdek Adam | K13: 1 | N13: 1 | O13: 14 | P13: 5 | Q13: 22 | R13: 22 | S13: 4 | T13: 10 | U13: 6 | V13: 9 | X13: 19 | Y13: 20 | Z13: 4 | AA13: 2 | AF13: 139
B14: Gajda Petr | C14: 4 | F14: 19 | G14: 8 | H14: 5 | I14: 7 | J14: 12 | K14: 8 | L14: 7 | M14: 12 | O14: 8 | S14: 1 | AF14: 91
B15: Zeman Pavel | H15: 1 | I15: 1 | J15: 2 | K15: 10 | L15: 4 | N15: 3 | O15: 3 | P15: 8 | Q15: 6 | R15: 10 | S15: 23 | T15: 13 | U15: 2 | V15: 3 | AF15: 89
B16: Suchánek Jan | P16: 2 | Q16: 8 | R16: 4 | S16: 11 | T16: 9 | U16: 23 | V16: 1 | W16: 6 | X16: 6 | Y16: 9 | AF16: 79
B17: Tichý Jaroslav | R17: 1 | S17: 5 | T17: 7 | U17: 6 | X17: 2 | Y17: 3 | Z17: 7 | AA17: 7 | AB17: 17 | AC17: 4 | AD17: 8 | AE17: 11 | AF17: 78
B18: Frank René | C18: 2 | D18: 16 | E18: 21 | F18: 18 | G18: 16 | H18: 4 | AF18: 77
B19: Bernášek Lukáš | F19: 1 | G19: 2 | I19: 6 | J19: 4 | K19: 2 | L19: 1 | N19: 1 | O19: 4 | P19: 1 | Q19: 2 | R19: 3 | S19: 6 | T19: 4 | U19: 2 | V19: 6 | W19: 1 | X19: 4 | Z19: 2 | AA19: 7 | AC19: 2 | AD19: 6 | AE19: 2 | AF19: 69
B20: Dirn Marcel | D20: 4 | F20: 10 | G20: 7 | H20: 9 | I20: 18 | J20: 10 | K20: 4 | L20: 1 | M20: 2 | AF20: 65
B21: Erös Dávid | R21: 2 | S21: 2 | T21: 2 | U21: 4 | V21: 14 | W21: 9 | X21: 11 | Y21: 12 | Z21: 2 | AB21: 4 | AF21: 62
B22: Washburn Calvin | W22: 3 | X22: 6 | Y22: 6 | Z22: 1 | AA22: 5 | AB22: 2 | AC22: 6 | AD22: 11 | AE22: 10 | AF22: 50
B23: Balaštík Pavel | R23: 1 | S23: 3 | T23: 5 | U23: 3 | V23: 3 | W23: 11 | X23: 3 | Y23: 4 | Z23: 9 | AA23: 5 | AF23: 47
B24: Moroz Mykola | AD24: 13 | AE24: 33 | AF24: 46
B25: Čermín Tomáš | N25: 1 | O25: 3 | P25: 3 | Q25: 5 | R25: 5 | S25: 4 | T25: 11 | U25: 11 | AF25: 43
B26: Stuna Jakub | W26: 3 | X26: 3 | Y26: 23 | Z26: 8 | AE26: 5 | AF26: 42
B27: Dorobant Slavomír | O27: 1 | P27: 9 | Q27: 1 | V27: 12 | X27: 7 | AD27: 1 | AE27: 10 | AF27: 41
B28: Voráček Petr | C28: 2 | D28: 8 | E28: 1 | F28: 7 | G28: 12 | H28: 9 | AF28: 39
B29: Zhou Longdi | Q29: 2 | R29: 6 | S29: 4 | T29: 2 | U29: 1 | Y29: 5 | Z29: 4 | AA29: 7 | AB29: 2 | AD29: 5 | AE29: 1 | AF29: 39
B30: Vladyka Robin | R30: 1 | S30: 1 | T30: 1 | U30: 2 | V30: 4 | W30: 3 | X30: 4 | Y30: 4 | Z30: 4 | AA30: 2 | AB30: 1 | AC30: 5 | AD30: 5 | AE30: 1 | AF30: 38
B31: Akenhead James | Y31: 4 | Z31: 6 | AA31: 10 | AB31: 1 | AC31: 9 | AD31: 4 | AE31: 4 | AF31: 38
B32: Kraušner Miroslav | L32: 1 | M32: 2 | N32: 5 | O32: 4 | P32: 7 | Q32: 5 | R32: 7 | S32: 1 | V32: 5 | Z32: 1 | AF32: 38
B33: Nechvíle Josef | U33: 1 | V33: 5 | W33: 12 | X33: 6 | Y33: 3 | Z33: 4 | AA33: 6 | AF33: 37
B34: Jelínek Jakub | J34: 2 | K34: 10 | L34: 6 | M34: 8 | N34: 11 | AF34: 37
B35: Halamka Pavel | P35: 2 | Q35: 1 | R35: 4 | S35: 2 | T35: 2 | U35: 5 | W35: 5 | X35: 1 | Y35: 3 | Z35: 2 | AA35: 2 | AB35: 1 | AC35: 4 | AD35: 1 | AE35: 1 | AF35: 36
B36: Duna Zoltán | W36: 2 | X36: 3 | Y36: 5 | Z36: 4 | AA36: 8 | AB36: 3 | AC36: 4 | AD36: 3 | AE36: 2 | AF36: 34
B37: Zajíček Jiří | M37: 4 | N37: 20 | O37: 8 | AF37: 32
B38: Hofman Jiří | K38: 5 | L38: 1 | M38: 2 | N38: 16 | S38: 2 | T38: 2 | V38: 2 | W38: 2 | AF38: 32
B39: Zeman Oto | H39: 1 | I39: 1 | J39: 4 | M39: 4 | N39: 9 | O39: 2 | P39: 7 | X39: 1 | Y39: 1 | AF39: 30
B40: Bröschel Jan | O40: 2 | P40: 3 | Q40: 1 | R40: 1 | S40: 3 | T40: 4 | U40: 3 | V40: 5 | W40: 2 | Y40: 4 | Z40: 1 | AF40: 29
...

Sheet Komentář
B2: Data na listu Bodování jsou uspořádána v kontingenční tabulce, která nabízí řadu pohledů na jejich obsah.
B3: - Řádky tabulky uvádějí historický seznam hráčů, kteří se na MR v průběhu let představili.
B4: - Sloupce tabulky uvádějí ročníky, v nichž se jednotlivá MR konala.
B5: - Každé pole tabulky uvádí celkový počet bodů, které daný hráč v daném roce na turnajích MR získal.
B6: - Závěrečný sloupec uvádí celkový součet bodů, které hráč na turnajích MR získal.
B8: Bodový zisk z turnaje MR odpovídá dosaženému pořadí hráče v turnaji.
B9: Za 1.místo se uděluje 16 bodů, za 2.místo je 8 bodů. Za účast v semifinále jsou 4 body.
B10: Za účast ve čtvrtfinále jsou 2 body, za umístění na dalších nístech je 1 bod.
B12: Uživatelsky lze volně upravovat zobrazený obsah tabulky pomocí nezávislých tří tlačítek:
B13: - Disciplína ▼: umožňuje zobrazit body buď za všechny disciplíny, nebo za vybranou z nich
B14: - Rok ▼: umožňuje potlačit zobrazení vybraných ročníků a zúžit tím zobrazenou tabulku
B15: - Jméno ▼: umožňuje potlačit zobrazení vybraných jmen a zkrátit tím zobrazenou tabulku
... B36: v případě potřeby lze list bez problémů odemknout. Doporučuji ale následně zase list zamknout!

Sheet Komplet
B2: ÚPLNÝ ŽEBŘÍČEK | C2: Bodové hodnocení pro MR v poolových disciplínách - jednotlivci 1995 - 2023 | AG2: POČET ODEHRANÝCH TURNAJŮ
B3: Jméno | C3: 1995 | D3: 1996 | E3: 1997 | F3: 1998 | G3: 1999 | H3: 2000 | I3: 2001 | J3: 2002 | K3: 2003 | L3: 2004 | M3: 2005 | N3: 2006 | O3: 2007 | P3: 2008 | Q3: 2009 | R3: 2010 | S3: 2011 | T3: 2012 | U3: 2013 | V3: 2014 | W3: 2015 | X3: 2016 | Y3: 2017 | Z3: 2018 | AA3: 2019 | AB3: 2020 | AC3: 2021 | AD3: 2022 | AE3: 2023 | AF3: Celkem | AG3: Turnaje | AH3: *1* | AI3: *2* | AJ3: *3-4* | AK3: *5-8* | AL3: * 9 +*
A4: 1 | B4: Hajdovský Marek | I4: 1 | J4: 2 | K4: 5 | L4: 9 | M4: 10 | N4: 5 | O4: 12 | P4: 28 | Q4: 18 | R4: 5 | S4: 28 | T4: 64 | U4: 22 | V4: 52 | W4: 49 | X4: 34 | Y4: 11 | Z4: 10 | AA4: 9 | AB4: 2 | AC4: 7 | AD4: 1 | AE4: 28 | AF4: 412 | AG4: =COUNTIFS('Po jménech'!$E$2:$E$2024,$B4) -> 70 | AH4: =COUNTIFS('Po jménech'!$E$2:$E$2024,$B4,'Po jménech'!$J$2:$J$2024,16) -> 15 | AI4: =COUNTIFS('Po jménech'!$E$2:$E$2024,$B4,'Po jménech'!$J$2:$J$2024,8) -> 8 | AJ4: =COUNTIFS('Po jménech'!$E$2:$E$2024,$B4,'Po jménech'!$J$2:$J$2024,4) -> 14 | AK4: =COUNTIFS('Po jménech'!$E$2:$E$2024,$B4,'Po jménech'!$J$2:$J$2024,2) -> 19 | AL4: =COUNTIFS('Po jménech'!$E$2:$E$2024,$B4,'Po jménech'!$J$2:$J$2024,1) -> 14
A5: 2 | B5: Žalman David | J5: 2 | L5: 6 | M5: 4 | N5: 24 | O5: 10 | P5: 28 | Q5: 13 | R5: 13 | S5: 28 | T5: 3 | U5: 21 | V5: 9 | W5: 8 | X5: 8 | Y5: 8 | Z5: 18 | AA5: 33 | AB5: 3 | AC5: 30 | AD5: 34 | AE5: 24 | AF5: 327 | AG5: =COUNTIFS('Po jménech'!$E$2:$E$2024,$B5) -> 70 | AH5: =COUNTIFS('Po jménech'!$E$2:$E$2024,$B5,'Po jménech'!$J$2:$J$2024,16) -> 8 | AI5: =COUNTIFS('Po jménech'!$E$2:$E$2024,$B5,'Po jménech'!$J$2:$J$2024,8) -> 9 | AJ5: =COUNTIFS('Po jménech'!$E$2:$E$2024,$B5,'Po jménech'!$J$2:$J$2024,4) -> 18 | AK5: =COUNTIFS('Po jménech'!$E$2:$E$2024,$B5,'Po jménech'!$J$2:$J$2024,2) -> 20 | AL5: =COUNTIFS('Po jménech'!$E$2:$E$2024,$B5,'Po jménech'!$J$2:$J$2024,1) -> 15
A6: 3 | B6: Křenek Lukáš | E6: 20 | F6: 26 | G6: 40 | H6: 40 | I6: 33 | J6: 36 | K6: 26 | L6: 12 | M6: 48 | R6: 26 | AF6: 307 | AG6: =COUNTIFS('Po jménech'!$E$2:$E$2024,$B6) -> 28 | AH6: =COUNTIFS('Po jménech'!$E$2:$E$2024,$B6,'Po jménech'!$J$2:$J$2024,16) -> 15 | AI6: =COUNTIFS('Po jménech'!$E$2:$E$2024,$B6,'Po jménech'!$J$2:$J$2024,8) -> 6 | AJ6: =COUNTIFS('Po jménech'!$E$2:$E$2024,$B6,'Po jménech'!$J$2:$J$2024,4) -> 3 | AK6: =COUNTIFS('Po jménech'!$E$2:$E$2024,$B6,'Po jménech'!$J$2:$J$2024,2) -> 3 | AL6: =COUNTIFS('Po jménech'!$E$2:$E$2024,$B6,'Po jménech'!$J$2:$J$2024,1) -> 1
A7: 4 | B7: Urban Petr | P7: 2 | R7: 4 | S7: 2 | T7: 18 | U7: 28 | V7: 6 | W7: 17 | X7: 12 | Y7: 34 | Z7: 36 | AA7: 8 | AB7: 20 | AC7: 52 | AD7: 56 | AE7: 12 | AF7: 307 | AG7: =COUNTIFS('Po jménech'!$E$2:$E$2024,$B7) -> 52 | AH7: =COUNTIFS('Po jménech'!$E$2:$E$2024,$B7,'Po jménech'!$J$2:$J$2024,16) -> 9 | AI7: =COUNTIFS('Po jménech'!$E$2:$E$2024,$B7,'Po jménech'!$J$2:$J$2024,8) -> 12 | AJ7: =COUNTIFS('Po jménech'!$E$2:$E$2024,$B7,'Po jménech'!$J$2:$J$2024,4) -> 10 | AK7: =COUNTIFS('Po jménech'!$E$2:$E$2024,$B7,'Po jménech'!$J$2:$J$2024,2) -> 6 | AL7: =COUNTIFS('Po jménech'!$E$2:$E$2024,$B7,'Po jménech'!$J$2:$J$2024,1) -> 15
A8: 5 | B8: Gavenčiak Michal | G8: 22 | H8: 32 | I8: 10 | J8: 32 | K8: 16 | L8: 48 | Q8: 16 | R8: 32 | V8: 24 | Z8: 41 | AC8: 10 | AF8: 283 | AG8: =COUNTIFS('Po jménech'!$E$2:$E$2024,$B8) -> 27 | AH8: =COUNTIFS('Po jménech'!$E$2:$E$2024,$B8,'Po jménech'!$J$2:$J$2024,16) -> 13 | AI8: =COUNTIFS('Po jménech'!$E$2:$E$2024,$B8,'Po jménech'!$J$2:$J$2024,8) -> 7 | AJ8: =COUNTIFS('Po jménech'!$E$2:$E$2024,$B8,'Po jménech'!$J$2:$J$2024,4) -> 3 | AK8: =COUNTIFS('Po jménech'!$E$2:$E$2024,$B8,'Po jménech'!$J$2:$J$2024,2) -> 3 | AL8: =COUNTIFS('Po jménech'!$E$2:$E$2024,$B8,'Po jménech'!$J$2:$J$2024,1) -> 1
A9: 6 | B9: Meisner Jan | R9: 1 | S9: 4 | T9: 6 | V9: 13 | W9: 34 | X9: 41 | Y9: 29 | Z9: 19 | AA9: 56 | AB9: 1 | AC9: 15 | AD9: 13 | AE9: 12 | AF9: 244 | AG9: =COUNTIFS('Po jménech'!$E$2:$E$2024,$B9) -> 45 | AH9: =COUNTIFS('Po jménech'!$E$2:$E$2024,$B9,'Po jménech'!$J$2:$J$2024,16) -> 8 | AI9: =COUNTIFS('Po jménech'!$E$2:$E$2024,$B9,'Po jménech'!$J$2:$J$2024,8) -> 8 | AJ9: =COUNTIFS('Po jménech'!$E$2:$E$2024,$B9,'Po jménech'!$J$2:$J$2024,4) -> 5 | AK9: =COUNTIFS('Po jménech'!$E$2:$E$2024,$B9,'Po jménech'!$J$2:$J$2024,2) -> 8 | AL9: =COUNTIFS('Po jménech'!$E$2:$E$2024,$B9,'Po jménech'!$J$2:$J$2024,1) -> 16
A10: 7 | B10: Janata Jan | D10: 1 | E10: 32 | F10: 10 | G10: 8 | H10: 6 | I10: 28 | J10: 10 | K10: 21 | L10: 9 | M10: 12 | N10: 6 | O10: 5 | P10: 4 | Q10: 19 | R10: 20 | S10: 17 | T10: 7 | U10: 6 | V10: 3 | AF10: 224 | AG10: =COUNTIFS('Po jménech'!$E$2:$E$2024,$B10) -> 56 | AH10: =COUNTIFS('Po jménech'!$E$2:$E$2024,$B10,'Po jménech'!$J$2:$J$2024,16) -> 4 | AI10: =COUNTIFS('Po jménech'!$E$2:$E$2024,$B10,'Po jménech'!$J$2:$J$2024,8) -> 6 | AJ10: =COUNTIFS('Po jménech'!$E$2:$E$2024,$B10,'Po jménech'!$J$2:$J$2024,4) -> 17 | AK10: =COUNTIFS('Po jménech'!$E$2:$E$2024,$B10,'Po jménech'!$J$2:$J$2024,2) -> 15 | AL10: =COUNTIFS('Po jménech'!$E$2:$E$2024,$B10,'Po jménech'!$J$2:$J$2024,1) -> 14
A11: 8 | B11: Halamka Dominik | G11: 1 | H11: 4 | I11: 7 | J11: 1 | K11: 13 | L11: 8 | M11: 18 | N11: 11 | O11: 48 | P11: 20 | Q11: 10 | R11: 15 | S11: 30 | AF11: 186 | AG11: =COUNTIFS('Po jménech'!$E$2:$E$2024,$B11) -> 36 | AH11: =COUNTIFS('Po jménech'!$E$2:$E$2024,$B11,'Po jménech'!$J$2:$J$2024,16) -> 5 | AI11: =COUNTIFS('Po jménech'!$E$2:$E$2024,$B11,'Po jménech'!$J$2:$J$2024,8) -> 6 | AJ11: =COUNTIFS('Po jménech'!$E$2:$E$2024,$B11,'Po jménech'!$J$2:$J$2024,4) -> 7 | AK11: =COUNTIFS('Po jménech'!$E$2:$E$2024,$B11,'Po jménech'!$J$2:$J$2024,2) -> 12 | AL11: =COUNTIFS('Po jménech'!$E$2:$E$2024,$B11,'Po jménech'!$J$2:$J$2024,1) -> 6
A12: 9 | B12: Houdek Adam | K12: 1 | N12: 1 | O12: 14 | P12: 5 | Q12: 22 | R12: 22 | S12: 4 | T12: 10 | U12: 6 | V12: 9 | X12: 19 | Y12: 20 | Z12: 4 | AA12: 2 | AF12: 139 | AG12: =COUNTIFS('Po jménech'!$E$2:$E$2024,$B12) -> 39 | AH12: =COUNTIFS('Po jménech'!$E$2:$E$2024,$B12,'Po jménech'!$J$2:$J$2024,16) -> 4 | AI12: =COUNTIFS('Po jménech'!$E$2:$E$2024,$B12,'Po jménech'!$J$2:$J$2024,8) -> 1 | AJ12: =COUNTIFS('Po jménech'!$E$2:$E$2024,$B12,'Po jménech'!$J$2:$J$2024,4) -> 6 | AK12: =COUNTIFS('Po jménech'!$E$2:$E$2024,$B12,'Po jménech'!$J$2:$J$2024,2) -> 15 | AL12: =COUNTIFS('Po jménech'!$E$2:$E$2024,$B12,'Po jménech'!$J$2:$J$2024,1) -> 13
A13: 10 | B13: Gajda Petr | C13: 4 | F13: 19 | G13: 8 | H13: 5 | I13: 7 | J13: 12 | K13: 8 | L13: 7 | M13: 12 | O13: 8 | S13: 1 | AF13: 91 | AG13: =COUNTIFS('Po jménech'!$E$2:$E$2024,$B13) -> 27 | AH13: =COUNTIFS('Po jménech'!$E$2:$E$2024,$B13,'Po jménech'!$J$2:$J$2024,16) -> 1 | AI13: =COUNTIFS('Po jménech'!$E$2:$E$2024,$B13,'Po jménech'!$J$2:$J$2024,8) -> 3 | AJ13: =COUNTIFS('Po jménech'!$E$2:$E$2024,$B13,'Po jménech'!$J$2:$J$2024,4) -> 5 | AK13: =COUNTIFS('Po jménech'!$E$2:$E$2024,$B13,'Po jménech'!$J$2:$J$2024,2) -> 13 | AL13: =COUNTIFS('Po jménech'!$E$2:$E$2024,$B13,'Po jménech'!$J$2:$J$2024,1) -> 5
A14: 11 | B14: Zeman Pavel | H14: 1 | I14: 1 | J14: 2 | K14: 10 | L14: 4 | N14: 3 | O14: 3 | P14: 8 | Q14: 6 | R14: 10 | S14: 23 | T14: 13 | U14: 2 | V14: 3 | AF14: 89 | AG14: =COUNTIFS('Po jménech'!$E$2:$E$2024,$B14) -> 30 | AH14: =COUNTIFS('Po jménech'!$E$2:$E$2024,$B14,'Po jménech'!$J$2:$J$2024,16) -> 1 | AI14: =COUNTIFS('Po jménech'!$E$2:$E$2024,$B14,'Po jménech'!$J$2:$J$2024,8) -> 2 | AJ14: =COUNTIFS('Po jménech'!$E$2:$E$2024,$B14,'Po jménech'!$J$2:$J$2024,4) -> 7 | AK14: =COUNTIFS('Po jménech'!$E$2:$E$2024,$B14,'Po jménech'!$J$2:$J$2024,2) -> 9 | AL14: =COUNTIFS('Po jménech'!$E$2:$E$2024,$B14,'Po jménech'!$J$2:$J$2024,1) -> 11
A15: 12 | B15: Suchánek Jan | P15: 2 | Q15: 8 | R15: 4 | S15: 11 | T15: 9 | U15: 23 | V15: 1 | W15: 6 | X15: 6 | Y15: 9 | AF15: 79 | AG15: =COUNTIFS('Po jménech'!$E$2:$E$2024,$B15) -> 31 | AH15: =COUNTIFS('Po jménech'!$E$2:$E$2024,$B15,'Po jménech'!$J$2:$J$2024,16) -> 1 | AI15: =COUNTIFS('Po jménech'!$E$2:$E$2024,$B15,'Po jménech'!$J$2:$J$2024,8) -> 0 | AJ15: =COUNTIFS('Po jménech'!$E$2:$E$2024,$B15,'Po jménech'!$J$2:$J$2024,4) -> 7 | AK15: =COUNTIFS('Po jménech'!$E$2:$E$2024,$B15,'Po jménech'!$J$2:$J$2024,2) -> 12 | AL15: =COUNTIFS('Po jménech'!$E$2:$E$2024,$B15,'Po jménech'!$J$2:$J$2024,1) -> 11
A16: 13 | B16: Tichý Jaroslav | R16: 1 | S16: 5 | T16: 7 | U16: 6 | X16: 2 | Y16: 3 | Z16: 7 | AA16: 7 | AB16: 17 | AC16: 4 | AD16: 8 | AE16: 11 | AF16: 78 | AG16: =COUNTIFS('Po jménech'!$E$2:$E$2024,$B16) -> 37 | AH16: =COUNTIFS('Po jménech'!$E$2:$E$2024,$B16,'Po jménech'!$J$2:$J$2024,16) -> 1 | AI16: =COUNTIFS('Po jménech'!$E$2:$E$2024,$B16,'Po jménech'!$J$2:$J$2024,8) -> 0 | AJ16: =COUNTIFS('Po jménech'!$E$2:$E$2024,$B16,'Po jménech'!$J$2:$J$2024,4) -> 7 | AK16: =COUNTIFS('Po jménech'!$E$2:$E$2024,$B16,'Po jménech'!$J$2:$J$2024,2) -> 5 | AL16: =COUNTIFS('Po jménech'!$E$2:$E$2024,$B16,'Po jménech'!$J$2:$J$2024,1) -> 24
A17: 14 | B17: Frank René | C17: 2 | D17: 16 | E17: 21 | F17: 18 | G17: 16 | H17: 4 | AF17: 77 | AG17: =COUNTIFS('Po jménech'!$E$2:$E$2024,$B17) -> 14 | AH17: =COUNTIFS('Po jménech'!$E$2:$E$2024,$B17,'Po jménech'!$J$2:$J$2024,16) -> 2 | AI17: =COUNTIFS('Po jménech'!$E$2:$E$2024,$B17,'Po jménech'!$J$2:$J$2024,8) -> 3 | AJ17: =COUNTIFS('Po jménech'!$E$2:$E$2024,$B17,'Po jménech'!$J$2:$J$2024,4) -> 3 | AK17: =COUNTIFS('Po jménech'!$E$2:$E$2024,$B17,'Po jménech'!$J$2:$J$2024,2) -> 3 | AL17: =COUNTIFS('Po jménech'!$E$2:$E$2024,$B17,'Po jménech'!$J$2:$J$2024,1) -> 3
A18: 15 | B18: Bernášek Lukáš | F18: 1 | G18: 2 | I18: 6 | J18: 4 | K18: 2 | L18: 1 | N18: 1 | O18: 4 | P18: 1 | Q18: 2 | R18: 3 | S18: 6 | T18: 4 | U18: 2 | V18: 6 | W18: 1 | X18: 4 | Z18: 2 | AA18: 7 | AC18: 2 | AD18: 6 | AE18: 2 | AF18: 69 | AG18: =COUNTIFS('Po jménech'!$E$2:$E$2024,$B18) -> 38 | AH18: =COUNTIFS('Po jménech'!$E$2:$E$2024,$B18,'Po jménech'!$J$2:$J$2024,16) -> 0 | AI18: =COUNTIFS('Po jménech'!$E$2:$E$2024,$B18,'Po jménech'!$J$2:$J$2024,8) -> 0 | AJ18: =COUNTIFS('Po jménech'!$E$2:$E$2024,$B18,'Po jménech'!$J$2:$J$2024,4) -> 6 | AK18: =COUNTIFS('Po jménech'!$E$2:$E$2024,$B18,'Po jménech'!$J$2:$J$2024,2) -> 13 | AL18: =COUNTIFS('Po jménech'!$E$2:$E$2024,$B18,'Po jménech'!$J$2:$J$2024,1) -> 19
A19: 16 | B19: Dirn Marcel | D19: 4 | F19: 10 | G19: 7 | H19: 9 | I19: 18 | J19: 10 | K19: 4 | L19: 1 | M19: 2 | AF19: 65 | AG19: =COUNTIFS('Po jménech'!$E$2:$E$2024,$B19) -> 22 | AH19: =COUNTIFS('Po jménech'!$E$2:$E$2024,$B19,'Po jménech'!$J$2:$J$2024,16) -> 0 | AI19: =COUNTIFS('Po jménech'!$E$2:$E$2024,$B19,'Po jménech'!$J$2:$J$2024,8) -> 2 | AJ19: =COUNTIFS('Po jménech'!$E$2:$E$2024,$B19,'Po jménech'!$J$2:$J$2024,4) -> 8 | AK19: =COUNTIFS('Po jménech'!$E$2:$E$2024,$B19,'Po jménech'!$J$2:$J$2024,2) -> 5 | AL19: =COUNTIFS('Po jménech'!$E$2:$E$2024,$B19,'Po jménech'!$J$2:$J$2024,1) -> 7
A20: 17 | B20: Erös Dávid | R20: 2 | S20: 2 | T20: 2 | U20: 4 | V20: 14 | W20: 9 | X20: 11 | Y20: 12 | Z20: 2 | AB20: 4 | AF20: 62 | AG20: =COUNTIFS('Po jménech'!$E$2:$E$2024,$B20) -> 26 | AH20: =COUNTIFS('Po jménech'!$E$2:$E$2024,$B20,'Po jménech'!$J$2:$J$2024,16) -> 0 | AI20: =COUNTIFS('Po jménech'!$E$2:$E$2024,$B20,'Po jménech'!$J$2:$J$2024,8) -> 3 | AJ20: =COUNTIFS('Po jménech'!$E$2:$E$2024,$B20,'Po jménech'!$J$2:$J$2024,4) -> 3 | AK20: =COUNTIFS('Po jménech'!$E$2:$E$2024,$B20,'Po jménech'!$J$2:$J$2024,2) -> 6 | AL20: =COUNTIFS('Po jménech'!$E$2:$E$2024,$B20,'Po jménech'!$J$2:$J$2024,1) -> 14
A21: 18 | B21: Washburn Calvin | W21: 3 | X21: 6 | Y21: 6 | Z21: 1 | AA21: 5 | AB21: 2 | AC21: 6 | AD21: 11 | AE21: 10 | AF21: 50 | AG21: =COUNTIFS('Po jménech'!$E$2:$E$2024,$B21) -> 26 | AH21: =COUNTIFS('Po jménech'!$E$2:$E$2024,$B21,'Po jménech'!$J$2:$J$2024,16) -> 0 | AI21: =COUNTIFS('Po jménech'!$E$2:$E$2024,$B21,'Po jménech'!$J$2:$J$2024,8) -> 0 | AJ21: =COUNTIFS('Po jménech'!$E$2:$E$2024,$B21,'Po jménech'!$J$2:$J$2024,4) -> 5 | AK21: =COUNTIFS('Po jménech'!$E$2:$E$2024,$B21,'Po jménech'!$J$2:$J$2024,2) -> 9 | AL21: =COUNTIFS('Po jménech'!$E$2:$E$2024,$B21,'Po jménech'!$J$2:$J$2024,1) -> 12
A22: 19 | B22: Balaštík Pavel | R22: 1 | S22: 3 | T22: 5 | U22: 3 | V22: 3 | W22: 11 | X22: 3 | Y22: 4 | Z22: 9 | AA22: 5 | AF22: 47 | AG22: =COUNTIFS('Po jménech'!$E$2:$E$2024,$B22) -> 32 | AH22: =COUNTIFS('Po jménech'!$E$2:$E$2024,$B22,'Po jménech'!$J$2:$J$2024,16) -> 0 | AI22: =COUNTIFS('Po jménech'!$E$2:$E$2024,$B22,'Po jménech'!$J$2:$J$2024,8) -> 0 | AJ22: =COUNTIFS('Po jménech'!$E$2:$E$2024,$B22,'Po jménech'!$J$2:$J$2024,4) -> 3 | AK22: =COUNTIFS('Po jménech'!$E$2:$E$2024,$B22,'Po jménech'!$J$2:$J$2024,2) -> 6 | AL22: =COUNTIFS('Po jménech'!$E$2:$E$2024,$B22,'Po jménech'!$J$2:$J$2024,1) -> 23
A23: 20 | B23: Moroz Mykola | AD23: 13 | AE23: 33 | AF23: 46 | AG23: =COUNTIFS('Po jménech'!$E$2:$E$2024,$B23) -> 7 | AH23: =COUNTIFS('Po jménech'!$E$2:$E$2024,$B23,'Po jménech'!$J$2:$J$2024,16) -> 2 | AI23: =COUNTIFS('Po jménech'!$E$2:$E$2024,$B23,'Po jménech'!$J$2:$J$2024,8) -> 1 | AJ23: =COUNTIFS('Po jménech'!$E$2:$E$2024,$B23,'Po jménech'!$J$2:$J$2024,4) -> 0 | AK23: =COUNTIFS('Po jménech'!$E$2:$E$2024,$B23,'Po jménech'!$J$2:$J$2024,2) -> 2 | AL23: =COUNTIFS('Po jménech'!$E$2:$E$2024,$B23,'Po jménech'!$J$2:$J$2024,1) -> 2
A24: 21 | B24: Čermín Tomáš | N24: 1 | O24: 3 | P24: 3 | Q24: 5 | R24: 5 | S24: 4 | T24: 11 | U24: 11 | AF24: 43 | AG24: =COUNTIFS('Po jménech'!$E$2:$E$2024,$B24) -> 23 | AH24: =COUNTIFS('Po jménech'!$E$2:$E$2024,$B24,'Po jménech'!$J$2:$J$2024,16) -> 0 | AI24: =COUNTIFS('Po jménech'!$E$2:$E$2024,$B24,'Po jménech'!$J$2:$J$2024,8) -> 1 | AJ24: =COUNTIFS('Po jménech'!$E$2:$E$2024,$B24,'Po jménech'!$J$2:$J$2024,4) -> 2 | AK24: =COUNTIFS('Po jménech'!$E$2:$E$2024,$B24,'Po jménech'!$J$2:$J$2024,2) -> 7 | AL24: =COUNTIFS('Po jménech'!$E$2:$E$2024,$B24,'Po jménech'!$J$2:$J$2024,1) -> 13
A25: 22 | B25: Stuna Jakub | W25: 3 | X25: 3 | Y25: 23 | Z25: 8 | AE25: 5 | AF25: 42 | AG25: =COUNTIFS('Po jménech'!$E$2:$E$2024,$B25) -> 17 | AH25: =COUNTIFS('Po jménech'!$E$2:$E$2024,$B25,'Po jménech'!$J$2:$J$2024,16) -> 1 | AI25: =COUNTIFS('Po jménech'!$E$2:$E$2024,$B25,'Po jménech'!$J$2:$J$2024,8) -> 0 | AJ25: =COUNTIFS('Po jménech'!$E$2:$E$2024,$B25,'Po jménech'!$J$2:$J$2024,4) -> 2 | AK25: =COUNTIFS('Po jménech'!$E$2:$E$2024,$B25,'Po jménech'!$J$2:$J$2024,2) -> 4 | AL25: =COUNTIFS('Po jménech'!$E$2:$E$2024,$B25,'Po jménech'!$J$2:$J$2024,1) -> 10
A26: 23 | B26: Dorobant Slavomír | O26: 1 | P26: 9 | Q26: 1 | V26: 12 | X26: 7 | AD26: 1 | AE26: 10 | AF26: 41 | AG26: =COUNTIFS('Po jménech'!$E$2:$E$2024,$B26) -> 14 | AH26: =COUNTIFS('Po jménech'!$E$2:$E$2024,$B26,'Po jménech'!$J$2:$J$2024,16) -> 0 | AI26: =COUNTIFS('Po jménech'!$E$2:$E$2024,$B26,'Po jménech'!$J$2:$J$2024,8) -> 3 | AJ26: =COUNTIFS('Po jménech'!$E$2:$E$2024,$B26,'Po jménech'!$J$2:$J$2024,4) -> 1 | AK26: =COUNTIFS('Po jménech'!$E$2:$E$2024,$B26,'Po jménech'!$J$2:$J$2024,2) -> 3 | AL26: =COUNTIFS('Po jménech'!$E$2:$E$2024,$B26,'Po jménech'!$J$2:$J$2024,1) -> 7
A27: 24 | B27: Voráček Petr | C27: 2 | D27: 8 | E27: 1 | F27: 7 | G27: 12 | H27: 9 | AF27: 39 | AG27: =COUNTIFS('Po jménech'!$E$2:$E$2024,$B27) -> 12 | AH27: =COUNTIFS('Po jménech'!$E$2:$E$2024,$B27,'Po jménech'!$J$2:$J$2024,16) -> 0 | AI27: =COUNTIFS('Po jménech'!$E$2:$E$2024,$B27,'Po jménech'!$J$2:$J$2024,8) -> 2 | AJ27: =COUNTIFS('Po jménech'!$E$2:$E$2024,$B27,'Po jménech'!$J$2:$J$2024,4) -> 3 | AK27: =COUNTIFS('Po jménech'!$E$2:$E$2024,$B27,'Po jménech'!$J$2:$J$2024,2) -> 4 | AL27: =COUNTIFS('Po jménech'!$E$2:$E$2024,$B27,'Po jménech'!$J$2:$J$2024,1) -> 3
A28: 25 | B28: Zhou Longdi | Q28: 2 | R28: 6 | S28: 4 | T28: 2 | U28: 1 | Y28: 5 | Z28: 4 | AA28: 7 | AB28: 2 | AD28: 5 | AE28: 1 | AF28: 39 | AG28: =COUNTIFS('Po jménech'!$E$2:$E$2024,$B28) -> 28 | AH28: =COUNTIFS('Po jménech'!$E$2:$E$2024,$B28,'Po jménech'!$J$2:$J$2024,16) -> 0 | AI28: =COUNTIFS('Po jménech'!$E$2:$E$2024,$B28,'Po jménech'!$J$2:$J$2024,8) -> 0 | AJ28: =COUNTIFS('Po jménech'!$E$2:$E$2024,$B28,'Po jménech'!$J$2:$J$2024,4) -> 2 | AK28: =COUNTIFS('Po jménech'!$E$2:$E$2024,$B28,'Po jménech'!$J$2:$J$2024,2) -> 5 | AL28: =COUNTIFS('Po jménech'!$E$2:$E$2024,$B28,'Po jménech'!$J$2:$J$2024,1) -> 21
A29: 26 | B29: Vladyka Robin | R29: 1 | S29: 1 | T29: 1 | U29: 2 | V29: 4 | W29: 3 | X29: 4 | Y29: 4 | Z29: 4 | AA29: 2 | AB29: 1 | AC29: 5 | AD29: 5 | AE29: 1 | AF29: 38 | AG29: =COUNTIFS('Po jménech'!$E$2:$E$2024,$B29) -> 36 | AH29: =COUNTIFS('Po jménech'!$E$2:$E$2024,$B29,'Po jménech'!$J$2:$J$2024,16) -> 0 | AI29: =COUNTIFS('Po jménech'!$E$2:$E$2024,$B29,'Po jménech'!$J$2:$J$2024,8) -> 0 | AJ29: =COUNTIFS('Po jménech'!$E$2:$E$2024,$B29,'Po jménech'!$J$2:$J$2024,4) -> 0 | AK29: =COUNTIFS('Po jménech'!$E$2:$E$2024,$B29,'Po jménech'!$J$2:$J$2024,2) -> 2 | AL29: =COUNTIFS('Po jménech'!$E$2:$E$2024,$B29,'Po jménech'!$J$2:$J$2024,1) -> 34
A30: 27 | B30: Akenhead James | Y30: 4 | Z30: 6 | AA30: 10 | AB30: 1 | AC30: 9 | AD30: 4 | AE30: 4 | AF30: 38 | AG30: =COUNTIFS('Po jménech'!$E$2:$E$2024,$B30) -> 20 | AH30: =COUNTIFS('Po jménech'!$E$2:$E$2024,$B30,'Po jménech'!$J$2:$J$2024,16) -> 0 | AI30: =COUNTIFS('Po jménech'!$E$2:$E$2024,$B30,'Po jménech'!$J$2:$J$2024,8) -> 2 | AJ30: =COUNTIFS('Po jménech'!$E$2:$E$2024,$B30,'Po jménech'!$J$2:$J$2024,4) -> 0 | AK30: =COUNTIFS('Po jménech'!$E$2:$E$2024,$B30,'Po jménech'!$J$2:$J$2024,2) -> 4 | AL30: =COUNTIFS('Po jménech'!$E$2:$E$2024,$B30,'Po jménech'!$J$2:$J$2024,1) -> 14
A31: 28 | B31: Kraušner Miroslav | L31: 1 | M31: 2 | N31: 5 | O31: 4 | P31: 7 | Q31: 5 | R31: 7 | S31: 1 | V31: 5 | Z31: 1 | AF31: 38 | AG31: =COUNTIFS('Po jménech'!$E$2:$E$2024,$B31) -> 24 | AH31: =COUNTIFS('Po jménech'!$E$2:$E$2024,$B31,'Po jménech'!$J$2:$J$2024,16) -> 0 | AI31: =COUNTIFS('Po jménech'!$E$2:$E$2024,$B31,'Po jménech'!$J$2:$J$2024,8) -> 0 | AJ31: =COUNTIFS('Po jménech'!$E$2:$E$2024,$B31,'Po jménech'!$J$2:$J$2024,4) -> 1 | AK31: =COUNTIFS('Po jménech'!$E$2:$E$2024,$B31,'Po jménech'!$J$2:$J$2024,2) -> 11 | AL31: =COUNTIFS('Po jménech'!$E$2:$E$2024,$B31,'Po jménech'!$J$2:$J$2024,1) -> 12
A32: 29 | B32: Nechvíle Josef | U32: 1 | V32: 5 | W32: 12 | X32: 6 | Y32: 3 | Z32: 4 | AA32: 6 | AF32: 37 | AG32: =COUNTIFS('Po jménech'!$E$2:$E$2024,$B32) -> 21 | AH32: =COUNTIFS('Po jménech'!$E$2:$E$2024,$B32,'Po jménech'!$J$2:$J$2024,16) -> 0 | AI32: =COUNTIFS('Po jménech'!$E$2:$E$2024,$B32,'Po jménech'!$J$2:$J$2024,8) -> 1 | AJ32: =COUNTIFS('Po jménech'!$E$2:$E$2024,$B32,'Po jménech'!$J$2:$J$2024,4) -> 1 | AK32: =COUNTIFS('Po jménech'!$E$2:$E$2024,$B32,'Po jménech'!$J$2:$J$2024,2) -> 6 | AL32: =COUNTIFS('Po jménech'!$E$2:$E$2024,$B32,'Po jménech'!$J$2:$J$2024,1) -> 13
A33: 30 | B33: Jelínek Jakub | J33: 2 | K33: 10 | L33: 6 | M33: 8 | N33: 11 | AF33: 37 | AG33: =COUNTIFS('Po jménech'!$E$2:$E$2024,$B33) -> 14 | AH33: =COUNTIFS('Po jménech'!$E$2:$E$2024,$B33,'Po jménech'!$J$2:$J$2024,16) -> 0 | AI33: =COUNTIFS('Po jménech'!$E$2:$E$2024,$B33,'Po jménech'!$J$2:$J$2024,8) -> 1 | AJ33: =COUNTIFS('Po jménech'!$E$2:$E$2024,$B33,'Po jménech'!$J$2:$J$2024,4) -> 3 | AK33: =COUNTIFS('Po jménech'!$E$2:$E$2024,$B33,'Po jménech'!$J$2:$J$2024,2) -> 7 | AL33: =COUNTIFS('Po jménech'!$E$2:$E$2024,$B33,'Po jménech'!$J$2:$J$2024,1) -> 3
A34: 31 | B34: Halamka Pavel | P34: 2 | Q34: 1 | R34: 4 | S34: 2 | T34: 2 | U34: 5 | W34: 5 | X34: 1 | Y34: 3 | Z34: 2 | AA34: 2 | AB34: 1 | AC34: 4 | AD34: 1 | AE34: 1 | AF34: 36 | AG34: =COUNTIFS('Po jménech'!$E$2:$E$2024,$B34) -> 32 | AH34: =COUNTIFS('Po jménech'!$E$2:$E$2024,$B34,'Po jménech'!$J$2:$J$2024,16) -> 0 | AI34: =COUNTIFS('Po jménech'!$E$2:$E$2024,$B34,'Po jménech'!$J$2:$J$2024,8) -> 0 | AJ34: =COUNTIFS('Po jménech'!$E$2:$E$2024,$B34,'Po jménech'!$J$2:$J$2024,4) -> 0 | AK34: =COUNTIFS('Po jménech'!$E$2:$E$2024,$B34,'Po jménech'!$J$2:$J$2024,2) -> 4 | AL34: =COUNTIFS('Po jménech'!$E$2:$E$2024,$B34,'Po jménech'!$J$2:$J$2024,1) -> 28
A35: 32 | B35: Duna Zoltán | W35: 2 | X35: 3 | Y35: 5 | Z35: 4 | AA35: 8 | AB35: 3 | AC35: 4 | AD35: 3 | AE35: 2 | AF35: 34 | AG35: =COUNTIFS('Po jménech'!$E$2:$E$2024,$B35) -> 27 | AH35: =COUNTIFS('Po jménech'!$E$2:$E$2024,$B35,'Po jménech'!$J$2:$J$2024,16) -> 0 | AI35: =COUNTIFS('Po jménech'!$E$2:$E$2024,$B35,'Po jménech'!$J$2:$J$2024,8) -> 0 | AJ35: =COUNTIFS('Po jménech'!$E$2:$E$2024,$B35,'Po jménech'!$J$2:$J$2024,4) -> 1 | AK35: =COUNTIFS('Po jménech'!$E$2:$E$2024,$B35,'Po jménech'!$J$2:$J$2024,2) -> 4 | AL35: =COUNTIFS('Po jménech'!$E$2:$E$2024,$B35,'Po jménech'!$J$2:$J$2024,1) -> 22
A36: 33 | B36: Zajíček Jiří | M36: 4 | N36: 20 | O36: 8 | AF36: 32 | AG36: =COUNTIFS('Po jménech'!$E$2:$E$2024,$B36) -> 7 | AH36: =COUNTIFS('Po jménech'!$E$2:$E$2024,$B36,'Po jménech'!$J$2:$J$2024,16) -> 1 | AI36: =COUNTIFS('Po jménech'!$E$2:$E$2024,$B36,'Po jménech'!$J$2:$J$2024,8) -> 0 | AJ36: =COUNTIFS('Po jménech'!$E$2:$E$2024,$B36,'Po jménech'!$J$2:$J$2024,4) -> 2 | AK36: =COUNTIFS('Po jménech'!$E$2:$E$2024,$B36,'Po jménech'!$J$2:$J$2024,2) -> 4 | AL36: =COUNTIFS('Po jménech'!$E$2:$E$2024,$B36,'Po jménech'!$J$2:$J$2024,1) -> 0
A37: 34 | B37: Hofman Jiří | K37: 5 | L37: 1 | M37: 2 | N37: 16 | S37: 2 | T37: 2 | V37: 2 | W37: 2 | AF37: 32 | AG37: =COUNTIFS('Po jménech'!$E$2:$E$2024,$B37) -> 12 | AH37: =COUNTIFS('Po jménech'!$E$2:$E$2024,$B37,'Po jménech'!$J$2:$J$2024,16) -> 1 | AI37: =COUNTIFS('Po jménech'!$E$2:$E$2024,$B37,'Po jménech'!$J$2:$J$2024,8) -> 0 | AJ37: =COUNTIFS('Po jménech'!$E$2:$E$2024,$B37,'Po jménech'!$J$2:$J$2024,4) -> 1 | AK37: =COUNTIFS('Po jménech'!$E$2:$E$2024,$B37,'Po jménech'!$J$2:$J$2024,2) -> 2 | AL37: =COUNTIFS('Po jménech'!$E$2:$E$2024,$B37,'Po jménech'!$J$2:$J$2024,1) -> 8
A38: 35 | B38: Zeman Oto | H38: 1 | I38: 1 | J38: 4 | M38: 4 | N38: 9 | O38: 2 | P38: 7 | X38: 1 | Y38: 1 | AF38: 30 | AG38: =COUNTIFS('Po jménech'!$E$2:$E$2024,$B38) -> 16 | AH38: =COUNTIFS('Po jménech'!$E$2:$E$2024,$B38,'Po jménech'!$J$2:$J$2024,16) -> 0 | AI38: =COUNTIFS('Po jménech'!$E$2:$E$2024,$B38,'Po jménech'!$J$2:$J$2024,8) -> 0 | AJ38: =COUNTIFS('Po jménech'!$E$2:$E$2024,$B38,'Po jménech'!$J$2:$J$2024,4) -> 4 | AK38: =COUNTIFS('Po jménech'!$E$2:$E$2024,$B38,'Po jménech'!$J$2:$J$2024,2) -> 2 | AL38: =COUNTIFS('Po jménech'!$E$2:$E$2024,$B38,'Po jménech'!$J$2:$J$2024,1) -> 10
A39: 36 | B39: Bröschel Jan | O39: 2 | P39: 3 | Q39: 1 | R39: 1 | S39: 3 | T39: 4 | U39: 3 | V39: 5 | W39: 2 | Y39: 4 | Z39: 1 | AF39: 29 | AG39: =COUNTIFS('Po jménech'!$E$2:$E$2024,$B39) -> 19 | AH39: =COUNTIFS('Po jménech'!$E$2:$E$2024,$B39,'Po jménech'!$J$2:$J$2024,16) -> 0 | AI39: =COUNTIFS('Po jménech'!$E$2:$E$2024,$B39,'Po jménech'!$J$2:$J$2024,8) -> 0 | AJ39: =COUNTIFS('Po jménech'!$E$2:$E$2024,$B39,'Po jménech'!$J$2:$J$2024,4) -> 1 | AK39: =COUNTIFS('Po jménech'!$E$2:$E$2024,$B39,'Po jménech'!$J$2:$J$2024,2) -> 7 | AL39: =COUNTIFS('Po jménech'!$E$2:$E$2024,$B39,'Po jménech'!$J$2:$J$2024,1) -> 11
A40: 37 | B40: Tužil Pavel | W40: 4 | X40: 5 | Y40: 4 | Z40: 4 | AA40: 5 | AC40: 6 | AF40: 28 | AG40: =COUNTIFS('Po jménech'!$E$2:$E$2024,$B40) -> 19 | AH40: =COUNTIFS('Po jménech'!$E$2:$E$2024,$B40,'Po jménech'!$J$2:$J$2024,16) -> 0 | AI40: =COUNTIFS('Po jménech'!$E$2:$E$2024,$B40,'Po jménech'!$J$2:$J$2024,8) -> 0 | AJ40: =COUNTIFS('Po jménech'!$E$2:$E$2024,$B40,'Po jménech'!$J$2:$J$2024,4) -> 2 | AK40: =COUNTIFS('Po jménech'!$E$2:$E$2024,$B40,'Po jménech'!$J$2:$J$2024,2) -> 3 | AL40: =COUNTIFS('Po jménech'!$E$2:$E$2024,$B40,'Po jménech'!$J$2:$J$2024,1) -> 14
A41: 38 | B41: Škvor Jan | F41: 5 | G41: 1 | H41: 3 | I41: 5 | J41: 1 | K41: 2 | L41: 11 | AF41: 28 | AG41: =COUNTIFS('Po jménech'!$E$2:$E$2024,$B41) -> 13 | AH41: =COUNTIFS('Po jménech'!$E$2:$E$2024,$B41,'Po jménech'!$J$2:$J$2024,16) -> 0 | AI41: =COUNTIFS('Po jménech'!$E$2:$E$2024,$B41,'Po jménech'!$J$2:$J$2024,8) -> 1 | AJ41: =COUNTIFS('Po jménech'!$E$2:$E$2024,$B41,'Po jménech'!$J$2:$J$2024,4) -> 1 | AK41: =COUNTIFS('Po jménech'!$E$2:$E$2024,$B41,'Po jménech'!$J$2:$J$2024,2) -> 5 | AL41: =COUNTIFS('Po jménech'!$E$2:$E$2024,$B41,'Po jménech'!$J$2:$J$2024,1) -> 6
...

Sheet 8-ball
B2: ŽEBŘÍČEK 8-BALL | C2: Bodové hodnocení pro MR v poolových disciplínách - jednotlivci 1995 - 2023 | AF2: POČET ODEHRANÝCH TURNAJŮ
B3: Jméno | C3: 1995 | D3: 1997 | E3: 1998 | F3: 1999 | G3: 2000 | H3: 2001 | I3: 2002 | J3: 2003 | K3: 2004 | L3: 2005 | M3: 2006 | N3: 2007 | O3: 2008 | P3: 2009 | Q3: 2010 | R3: 2011 | S3: 2012 | T3: 2013 | U3: 2014 | V3: 2015 | W3: 2016 | X3: 2017 | Y3: 2018 | Z3: 2019 | AA3: 2020 | AB3: 2021 | AC3: 2022 | AD3: 2023 | AE3: Body | AF3: Turnaje | AG3: *1* | AH3: *2* | AI3: *3-4* | AJ3: *5-8* | AK3: * 9 +*
A4: 1 | B4: Žalman David | K4: 4 | L4: 2 | M4: 4 | N4: 4 | O4: 4 | P4: 8 | Q4: 1 | R4: 8 | S4: 1 | T4: 16 | U4: 2 | V4: 1 | W4: 2 | X4: 1 | Y4: 4 | Z4: 8 | AA4: 2 | AB4: 16 | AC4: 16 | AD4: 2 | AE4: 106 | AF4: 20 | AG4: 3 | AH4: 3 | AI4: 5 | AJ4: 5 | AK4: 4
A5: 2 | B5: Křenek Lukáš | D5: 4 | E5: 8 | F5: 16 | G5: 8 | H5: 16 | I5: 16 | J5: 16 | K5: 4 | L5: 16 | Q5: 2 | AE5: 106 | AF5: 10 | AG5: 5 | AH5: 2 | AI5: 2 | AJ5: 1 | AK5: 0
A6: 3 | B6: Gavenčiak Michal | F6: 4 | G6: 16 | H6: 2 | I6: 8 | K6: 16 | P6: 16 | Q6: 16 | Y6: 1 | AB6: 8 | AE6: 87 | AF6: 9 | AG6: 4 | AH6: 2 | AI6: 1 | AJ6: 1 | AK6: 1
A7: 4 | B7: Hajdovský Marek | J7: 2 | K7: 1 | L7: 4 | M7: 1 | N7: 2 | O7: 8 | P7: 2 | Q7: 1 | R7: 2 | S7: 16 | T7: 2 | U7: 16 | V7: 16 | W7: 2 | X7: 4 | Y7: 1 | Z7: 1 | AC7: 1 | AD7: 4 | AE7: 86 | AF7: 19 | AG7: 3 | AH7: 1 | AI7: 3 | AJ7: 6 | AK7: 6
A8: 5 | B8: Urban Petr | O8: 1 | Q8: 2 | R8: 1 | S8: 8 | T8: 8 | U8: 4 | V8: 8 | W8: 4 | X8: 2 | Y8: 8 | Z8: 1 | AA8: 16 | AB8: 4 | AC8: 8 | AD8: 1 | AE8: 76 | AF8: 15 | AG8: 1 | AH8: 5 | AI8: 3 | AJ8: 2 | AK8: 4
A9: 6 | B9: Halamka Dominik | F9: 1 | G9: 2 | H9: 4 | J9: 4 | K9: 2 | L9: 8 | M9: 8 | N9: 16 | O9: 16 | P9: 2 | Q9: 4 | R9: 4 | AE9: 71 | AF9: 12 | AG9: 2 | AH9: 2 | AI9: 4 | AJ9: 3 | AK9: 1
A10: 7 | B10: Houdek Adam | J10: 1 | M10: 1 | N10: 2 | O10: 2 | P10: 4 | Q10: 2 | R10: 1 | S10: 4 | U10: 2 | W10: 16 | X10: 16 | Y10: 2 | AE10: 53 | AF10: 12 | AG10: 2 | AH10: 0 | AI10: 2 | AJ10: 5 | AK10: 3
A11: 8 | B11: Meisner Jan | R11: 1 | S11: 1 | U11: 2 | V11: 2 | W11: 1 | X11: 1 | Y11: 16 | Z11: 16 | AB11: 2 | AC11: 4 | AD11: 1 | AE11: 47 | AF11: 11 | AG11: 2 | AH11: 0 | AI11: 1 | AJ11: 3 | AK11: 5
A12: 9 | B12: Zeman Pavel | G12: 1 | H12: 1 | J12: 8 | K12: 2 | N12: 1 | O12: 4 | P12: 4 | Q12: 4 | R12: 16 | S12: 4 | T12: 1 | AE12: 46 | AF12: 11 | AG12: 1 | AH12: 1 | AI12: 4 | AJ12: 1 | AK12: 4
A13: 10 | B13: Janata Jan | D13: 8 | E13: 4 | F13: 2 | G13: 2 | H13: 4 | I13: 2 | J13: 1 | K13: 1 | L13: 4 | N13: 4 | O13: 1 | P13: 1 | Q13: 8 | R13: 1 | S13: 1 | T13: 1 | AE13: 45 | AF13: 16 | AG13: 0 | AH13: 2 | AI13: 4 | AJ13: 3 | AK13: 7
A14: 11 | B14: Gajda Petr | C14: 4 | E14: 16 | F14: 2 | G14: 1 | H14: 2 | I14: 2 | J14: 4 | K14: 1 | L14: 2 | N14: 8 | AE14: 42 | AF14: 10 | AG14: 1 | AH14: 1 | AI14: 2 | AJ14: 4 | AK14: 2
A15: 12 | B15: Frank René | C15: 2 | D15: 16 | E15: 2 | F15: 8 | G15: 1 | AE15: 29 | AF15: 5 | AG15: 1 | AH15: 1 | AI15: 0 | AJ15: 2 | AK15: 1
A16: 13 | B16: Erös Dávid | Q16: 1 | S16: 1 | T16: 1 | V16: 2 | W16: 8 | X16: 8 | AA16: 4 | AE16: 25 | AF16: 7 | AG16: 0 | AH16: 2 | AI16: 1 | AJ16: 1 | AK16: 3
A17: 14 | B17: Dirn Marcel | E17: 4 | F17: 4 | G17: 1 | H17: 8 | I17: 4 | J17: 1 | L17: 1 | AE17: 23 | AF17: 7 | AG17: 0 | AH17: 1 | AI17: 3 | AJ17: 0 | AK17: 3
A18: 15 | B18: Zajíček Jiří | L18: 2 | M18: 16 | N18: 2 | AE18: 20 | AF18: 3 | AG18: 1 | AH18: 0 | AI18: 0 | AJ18: 2 | AK18: 0
A19: 16 | B19: Dorobant Slavomír | N19: 1 | O19: 1 | P19: 1 | U19: 8 | W19: 1 | AD19: 8 | AE19: 20 | AF19: 6 | AG19: 0 | AH19: 2 | AI19: 0 | AJ19: 0 | AK19: 4
A20: 17 | B20: Suchánek Jan | P20: 2 | Q20: 1 | R20: 4 | S20: 1 | T20: 4 | V20: 1 | W20: 4 | X20: 2 | AE20: 19 | AF20: 8 | AG20: 0 | AH20: 0 | AI20: 3 | AJ20: 2 | AK20: 3
A21: 18 | B21: Moroz Mykola | AC21: 2 | AD21: 16 | AE21: 18 | AF21: 2 | AG21: 1 | AH21: 0 | AI21: 0 | AJ21: 1 | AK21: 0
A22: 19 | B22: Škvor Jan | E22: 1 | F22: 1 | G22: 2 | H22: 3 | J22: 2 | K22: 8 | AE22: 17 | AF22: 6 | AG22: 0 | AH22: 1 | AI22: 0 | AJ22: 2 | AK22: 2
A23: 20 | B23: Pavlovič Dušan | C23: 16 | AE23: 16 | AF23: 1 | AG23: 1 | AH23: 0 | AI23: 0 | AJ23: 0 | AK23: 0
A24: 21 | B24: Balaštík Pavel | R24: 1 | S24: 2 | T24: 1 | V24: 4 | W24: 1 | X24: 1 | Y24: 4 | Z24: 1 | AE24: 15 | AF24: 8 | AG24: 0 | AH24: 0 | AI24: 2 | AJ24: 1 | AK24: 5
A25: 22 | B25: Zeman Oto | G25: 1 | H25: 1 | I25: 4 | L25: 1 | M25: 4 | N25: 1 | O25: 2 | AE25: 14 | AF25: 7 | AG25: 0 | AH25: 0 | AI25: 2 | AJ25: 1 | AK25: 4
A26: 23 | B26: Tichý Jaroslav | R26: 1 | S26: 1 | T26: 1 | Y26: 1 | Z26: 2 | AA26: 1 | AB26: 1 | AC26: 4 | AD26: 1 | AE26: 13 | AF26: 9 | AG26: 0 | AH26: 0 | AI26: 1 | AJ26: 1 | AK26: 7
A27: 24 | B27: Washburn Calvin | V27: 1 | W27: 2 | Z27: 1 | AA27: 1 | AB27: 2 | AC27: 2 | AD27: 4 | AE27: 13 | AF27: 7 | AG27: 0 | AH27: 0 | AI27: 1 | AJ27: 3 | AK27: 3
A28: 25 | B28: Mrázek David | Z28: 2 | AA28: 8 | AB28: 1 | AD28: 1 | AE28: 12 | AF28: 4 | AG28: 0 | AH28: 1 | AI28: 0 | AJ28: 1 | AK28: 2
A29: 26 | B29: Duna Zoltán | V29: 1 | X29: 1 | Y29: 1 | Z29: 4 | AA29: 2 | AB29: 1 | AC29: 1 | AE29: 11 | AF29: 7 | AG29: 0 | AH29: 0 | AI29: 1 | AJ29: 1 | AK29: 5
A30: 27 | B30: Nechvíle Josef | U30: 2 | V30: 1 | W30: 1 | X30: 2 | Y30: 1 | Z30: 4 | AE30: 11 | AF30: 6 | AG30: 0 | AH30: 0 | AI30: 1 | AJ30: 2 | AK30: 3
A31: 28 | B31: Halamka Pavel | Q31: 1 | R31: 1 | S31: 1 | T31: 2 | V31: 1 | X31: 1 | Y31: 1 | AA31: 1 | AB31: 1 | AD31: 1 | AE31: 11 | AF31: 10 | AG31: 0 | AH31: 0 | AI31: 0 | AJ31: 1 | AK31: 9
A32: 29 | B32: Praus Tomáš | U32: 1 | Y32: 1 | AA32: 4 | AB32: 1 | AC32: 2 | AD32: 2 | AE32: 11 | AF32: 6 | AG32: 0 | AH32: 0 | AI32: 1 | AJ32: 2 | AK32: 3
A33: 30 | B33: Kavan Petr | Q33: 1 | R33: 1 | S33: 1 | T33: 2 | V33: 2 | W33: 2 | X33: 1 | Y33: 1 | AE33: 11 | AF33: 8 | AG33: 0 | AH33: 0 | AI33: 0 | AJ33: 3 | AK33: 5
A34: 31 | B34: Bröschel Jan | N34: 1 | O34: 2 | Q34: 1 | R34: 2 | U34: 1 | X34: 4 | AE34: 11 | AF34: 6 | AG34: 0 | AH34: 0 | AI34: 1 | AJ34: 2 | AK34: 3
A35: 32 | B35: Kraušner Miroslav | L35: 1 | M35: 2 | N35: 1 | O35: 1 | P35: 2 | Q35: 2 | U35: 1 | AE35: 10 | AF35: 7 | AG35: 0 | AH35: 0 | AI35: 0 | AJ35: 3 | AK35: 4
A36: 33 | B36: Čermín Tomáš | M36: 1 | N36: 1 | O36: 2 | P36: 1 | Q36: 1 | R36: 1 | S36: 1 | T36: 2 | AE36: 10 | AF36: 8 | AG36: 0 | AH36: 0 | AI36: 0 | AJ36: 2 | AK36: 6
A37: 34 | B37: Zhou Longdi | P37: 1 | Q37: 1 | R37: 2 | S37: 2 | Y37: 1 | Z37: 1 | AA37: 1 | AC37: 1 | AE37: 10 | AF37: 8 | AG37: 0 | AH37: 0 | AI37: 0 | AJ37: 2 | AK37: 6
A38: 35 | B38: Voráček Petr | C38: 2 | E38: 1 | F38: 2 | G38: 4 | AE38: 9 | AF38: 4 | AG38: 0 | AH38: 0 | AI38: 1 | AJ38: 2 | AK38: 1
A39: 36 | B39: Vančura Tomáš | O39: 1 | P39: 1 | V39: 1 | W39: 1 | X39: 1 | Z39: 1 | AA39: 1 | AB39: 1 | AD39: 1 | AE39: 9 | AF39: 9 | AG39: 0 | AH39: 0 | AI39: 0 | AJ39: 0 | AK39: 9
A40: 37 | B40: Vladyka Robin | T40: 1 | U40: 1 | V40: 1 | W40: 1 | X40: 1 | Y40: 1 | Z40: 1 | AB40: 1 | AC40: 1 | AE40: 9 | AF40: 9 | AG40: 0 | AH40: 0 | AI40: 0 | AJ40: 0 | AK40: 9
A41: 38 | B41: Trojáček Martin | G41: 4 | H41: 1 | J41: 2 | K41: 1 | L41: 1 | AE41: 9 | AF41: 5 | AG41: 0 | AH41: 0 | AI41: 1 | AJ41: 1 | AK41: 3
...

Sheet 9-ball
B2: ŽEBŘÍČEK 9-BALL | C2: Bodové hodnocení pro MR v poolových disciplínách - jednotlivci 1995 - 2023 | AF2: POČET ODEHRANÝCH TURNAJŮ
B3: Jméno | C3: 1996 | D3: 1997 | E3: 1998 | F3: 1999 | G3: 2000 | H3: 2001 | I3: 2002 | J3: 2003 | K3: 2004 | L3: 2005 | M3: 2006 | N3: 2007 | O3: 2008 | P3: 2009 | Q3: 2010 | R3: 2011 | S3: 2012 | T3: 2013 | U3: 2014 | V3: 2015 | W3: 2016 | X3: 2017 | Y3: 2018 | Z3: 2019 | AA3: 2020 | AB3: 2021 | AC3: 2022 | AD3: 2023 | AE3: Celkem | AF3: Turnaje | AG3: *1* | AH3: *2* | AI3: *3-4* | AJ3: *5-8* | AK3: * 9 +*
A4: 1 | B4: Křenek Lukáš | D4: 16 | E4: 16 | F4: 8 | G4: 16 | H4: 1 | I4: 16 | J4: 8 | K4: 8 | L4: 16 | Q4: 8 | AE4: 113 | AF4: =COUNTIFS('Po jménech'!$E$2:$E$2024,$B4,'Po jménech'!$I$2:$I$2024,9) -> 10 | AG4: =COUNTIFS('Po jménech'!$E$2:$E$2024,$B4,'Po jménech'!$I$2:$I$2024,9,'Po jménech'!$J$2:$J$2024,16) -> 5 | AH4: =COUNTIFS('Po jménech'!$E$2:$E$2024,$B4,'Po jménech'!$I$2:$I$2024,9,'Po jménech'!$J$2:$J$2024,8) -> 4 | AI4: =COUNTIFS('Po jménech'!$E$2:$E$2024,$B4,'Po jménech'!$I$2:$I$2024,9,'Po jménech'!$J$2:$J$2024,4) -> 0 | AJ4: =COUNTIFS('Po jménech'!$E$2:$E$2024,$B4,'Po jménech'!$I$2:$I$2024,9,'Po jménech'!$J$2:$J$2024,2) -> 0 | AK4: =COUNTIFS('Po jménech'!$E$2:$E$2024,$B4,'Po jménech'!$I$2:$I$2024,9,'Po jménech'!$J$2:$J$2024,1) -> 1
A5: 2 | B5: Žalman David | I5: 2 | L5: 2 | M5: 4 | N5: 4 | O5: 16 | P5: 1 | Q5: 4 | R5: 16 | S5: 1 | T5: 1 | U5: 4 | V5: 2 | W5: 4 | X5: 2 | Y5: 8 | Z5: 16 | AA5: 1 | AB5: 8 | AC5: 2 | AD5: 2 | AE5: 100 | AF5: =COUNTIFS('Po jménech'!$E$2:$E$2024,$B5,'Po jménech'!$I$2:$I$2024,9) -> 20 | AG5: =COUNTIFS('Po jménech'!$E$2:$E$2024,$B5,'Po jménech'!$I$2:$I$2024,9,'Po jménech'!$J$2:$J$2024,16) -> 3 | AH5: =COUNTIFS('Po jménech'!$E$2:$E$2024,$B5,'Po jménech'!$I$2:$I$2024,9,'Po jménech'!$J$2:$J$2024,8) -> 2 | AI5: =COUNTIFS('Po jménech'!$E$2:$E$2024,$B5,'Po jménech'!$I$2:$I$2024,9,'Po jménech'!$J$2:$J$2024,4) -> 5 | AJ5: =COUNTIFS('Po jménech'!$E$2:$E$2024,$B5,'Po jménech'!$I$2:$I$2024,9,'Po jménech'!$J$2:$J$2024,2) -> 6 | AK5: =COUNTIFS('Po jménech'!$E$2:$E$2024,$B5,'Po jménech'!$I$2:$I$2024,9,'Po jménech'!$J$2:$J$2024,1) -> 4
